BEGIN:VCALENDAR
VERSION:2.0
PRODID:-//Mt. Washington United Methodist Church - ECPv6.15.20//NONSGML v1.0//EN
CALSCALE:GREGORIAN
METHOD:PUBLISH
X-WR-CALNAME:Mt. Washington United Methodist Church
X-ORIGINAL-URL:https://mtwashumc.org
X-WR-CALDESC:Events for Mt. Washington United Methodist Church
REFRESH-INTERVAL;VALUE=DURATION:PT1H
X-Robots-Tag:noindex
X-PUBLISHED-TTL:PT1H
BEGIN:VTIMEZONE
TZID:America/New_York
BEGIN:DAYLIGHT
TZOFFSETFROM:-0500
TZOFFSETTO:-0400
TZNAME:EDT
DTSTART:20240310T070000
END:DAYLIGHT
BEGIN:STANDARD
TZOFFSETFROM:-0400
TZOFFSETTO:-0500
TZNAME:EST
DTSTART:20241103T060000
END:STANDARD
BEGIN:DAYLIGHT
TZOFFSETFROM:-0500
TZOFFSETTO:-0400
TZNAME:EDT
DTSTART:20250309T070000
END:DAYLIGHT
BEGIN:STANDARD
TZOFFSETFROM:-0400
TZOFFSETTO:-0500
TZNAME:EST
DTSTART:20251102T060000
END:STANDARD
BEGIN:DAYLIGHT
TZOFFSETFROM:-0500
TZOFFSETTO:-0400
TZNAME:EDT
DTSTART:20260308T070000
END:DAYLIGHT
BEGIN:STANDARD
TZOFFSETFROM:-0400
TZOFFSETTO:-0500
TZNAME:EST
DTSTART:20261101T060000
END:STANDARD
END:VTIMEZONE
BEGIN:VEVENT
DTSTART;TZID=America/New_York:20250326T110000
DTEND;TZID=America/New_York:20250326T113000
DTSTAMP:20260419T143544
CREATED:20250204T011236Z
LAST-MODIFIED:20260213T035655Z
UID:10003179-1742986800-1742988600@mtwashumc.org
SUMMARY:Chair Exercise
DESCRIPTION:Our chair exercise group meets twice weekly and shares great laughs and fellowship while safely exercising while sitting\, including the most popular beach ball exercise. \nThere’s no telling what this group will do after exercise- from enjoying homemade cheesecakes to Tea Time with special orange peel tea from China\, this group is always up to something. \nYou’re invited to join them\, no gym membership required!
URL:https://mtwashumc.org/event/chair-exercise-2/2025-03-26/
LOCATION:Mt. Washington United Methodist Church\, 6365 Corbly Rd.\, Cincinnati\, OH\, 45230\, United States
ATTACH;FMTTYPE=image/jpeg:https://mtwashumc.org/wp-content/uploads/2023/02/IMG-4426-scaled-e1676166492122.jpg
END:VEVENT
BEGIN:VEVENT
DTSTART;TZID=America/New_York:20250324T110000
DTEND;TZID=America/New_York:20250324T113000
DTSTAMP:20260419T143544
CREATED:20250204T011236Z
LAST-MODIFIED:20260213T035655Z
UID:10003178-1742814000-1742815800@mtwashumc.org
SUMMARY:Chair Exercise
DESCRIPTION:Our chair exercise group meets twice weekly and shares great laughs and fellowship while safely exercising while sitting\, including the most popular beach ball exercise. \nThere’s no telling what this group will do after exercise- from enjoying homemade cheesecakes to Tea Time with special orange peel tea from China\, this group is always up to something. \nYou’re invited to join them\, no gym membership required!
URL:https://mtwashumc.org/event/chair-exercise-2/2025-03-24/
LOCATION:Mt. Washington United Methodist Church\, 6365 Corbly Rd.\, Cincinnati\, OH\, 45230\, United States
ATTACH;FMTTYPE=image/jpeg:https://mtwashumc.org/wp-content/uploads/2023/02/IMG-4426-scaled-e1676166492122.jpg
END:VEVENT
BEGIN:VEVENT
DTSTART;TZID=America/New_York:20250323T100000
DTEND;TZID=America/New_York:20250323T110000
DTSTAMP:20260419T143544
CREATED:20240207T033957Z
LAST-MODIFIED:20260309T175120Z
UID:10002772-1742724000-1742727600@mtwashumc.org
SUMMARY:Sunday Worship
DESCRIPTION:Join us in person or online for our Sunday morning blended worship\, where we will sing traditional hymns\, contemporary Christian music\, and hear a casual Pastor sermon. Coffee begins at 9:30. Children’s Sunday School is offered during worship\, designed for children from 3-12 years old. All are welcome!
URL:https://mtwashumc.org/event/sunday-worship/2025-03-23/
LOCATION:Mt. Washington United Methodist Church\, 6365 Corbly Rd.\, Cincinnati\, OH\, 45230\, United States
ATTACH;FMTTYPE=image/jpeg:https://mtwashumc.org/wp-content/uploads/2024/02/470846144_918608993733386_2914126562439977742_n.jpg
END:VEVENT
BEGIN:VEVENT
DTSTART;TZID=America/New_York:20250319T110000
DTEND;TZID=America/New_York:20250319T113000
DTSTAMP:20260419T143544
CREATED:20250204T011236Z
LAST-MODIFIED:20260213T035655Z
UID:10003177-1742382000-1742383800@mtwashumc.org
SUMMARY:Chair Exercise
DESCRIPTION:Our chair exercise group meets twice weekly and shares great laughs and fellowship while safely exercising while sitting\, including the most popular beach ball exercise. \nThere’s no telling what this group will do after exercise- from enjoying homemade cheesecakes to Tea Time with special orange peel tea from China\, this group is always up to something. \nYou’re invited to join them\, no gym membership required!
URL:https://mtwashumc.org/event/chair-exercise-2/2025-03-19/
LOCATION:Mt. Washington United Methodist Church\, 6365 Corbly Rd.\, Cincinnati\, OH\, 45230\, United States
ATTACH;FMTTYPE=image/jpeg:https://mtwashumc.org/wp-content/uploads/2023/02/IMG-4426-scaled-e1676166492122.jpg
END:VEVENT
BEGIN:VEVENT
DTSTART;TZID=America/New_York:20250317T110000
DTEND;TZID=America/New_York:20250317T113000
DTSTAMP:20260419T143544
CREATED:20250204T011236Z
LAST-MODIFIED:20260213T035655Z
UID:10003176-1742209200-1742211000@mtwashumc.org
SUMMARY:Chair Exercise
DESCRIPTION:Our chair exercise group meets twice weekly and shares great laughs and fellowship while safely exercising while sitting\, including the most popular beach ball exercise. \nThere’s no telling what this group will do after exercise- from enjoying homemade cheesecakes to Tea Time with special orange peel tea from China\, this group is always up to something. \nYou’re invited to join them\, no gym membership required!
URL:https://mtwashumc.org/event/chair-exercise-2/2025-03-17/
LOCATION:Mt. Washington United Methodist Church\, 6365 Corbly Rd.\, Cincinnati\, OH\, 45230\, United States
ATTACH;FMTTYPE=image/jpeg:https://mtwashumc.org/wp-content/uploads/2023/02/IMG-4426-scaled-e1676166492122.jpg
END:VEVENT
BEGIN:VEVENT
DTSTART;TZID=America/New_York:20250316T100000
DTEND;TZID=America/New_York:20250316T110000
DTSTAMP:20260419T143544
CREATED:20240207T033957Z
LAST-MODIFIED:20260309T175120Z
UID:10002771-1742119200-1742122800@mtwashumc.org
SUMMARY:Sunday Worship
DESCRIPTION:Join us in person or online for our Sunday morning blended worship\, where we will sing traditional hymns\, contemporary Christian music\, and hear a casual Pastor sermon. Coffee begins at 9:30. Children’s Sunday School is offered during worship\, designed for children from 3-12 years old. All are welcome!
URL:https://mtwashumc.org/event/sunday-worship/2025-03-16/
LOCATION:Mt. Washington United Methodist Church\, 6365 Corbly Rd.\, Cincinnati\, OH\, 45230\, United States
ATTACH;FMTTYPE=image/jpeg:https://mtwashumc.org/wp-content/uploads/2024/02/470846144_918608993733386_2914126562439977742_n.jpg
END:VEVENT
BEGIN:VEVENT
DTSTART;TZID=America/New_York:20250312T110000
DTEND;TZID=America/New_York:20250312T113000
DTSTAMP:20260419T143544
CREATED:20250204T011236Z
LAST-MODIFIED:20260213T035655Z
UID:10003175-1741777200-1741779000@mtwashumc.org
SUMMARY:Chair Exercise
DESCRIPTION:Our chair exercise group meets twice weekly and shares great laughs and fellowship while safely exercising while sitting\, including the most popular beach ball exercise. \nThere’s no telling what this group will do after exercise- from enjoying homemade cheesecakes to Tea Time with special orange peel tea from China\, this group is always up to something. \nYou’re invited to join them\, no gym membership required!
URL:https://mtwashumc.org/event/chair-exercise-2/2025-03-12/
LOCATION:Mt. Washington United Methodist Church\, 6365 Corbly Rd.\, Cincinnati\, OH\, 45230\, United States
ATTACH;FMTTYPE=image/jpeg:https://mtwashumc.org/wp-content/uploads/2023/02/IMG-4426-scaled-e1676166492122.jpg
END:VEVENT
BEGIN:VEVENT
DTSTART;TZID=America/New_York:20250310T110000
DTEND;TZID=America/New_York:20250310T113000
DTSTAMP:20260419T143544
CREATED:20250204T011236Z
LAST-MODIFIED:20260213T035655Z
UID:10003174-1741604400-1741606200@mtwashumc.org
SUMMARY:Chair Exercise
DESCRIPTION:Our chair exercise group meets twice weekly and shares great laughs and fellowship while safely exercising while sitting\, including the most popular beach ball exercise. \nThere’s no telling what this group will do after exercise- from enjoying homemade cheesecakes to Tea Time with special orange peel tea from China\, this group is always up to something. \nYou’re invited to join them\, no gym membership required!
URL:https://mtwashumc.org/event/chair-exercise-2/2025-03-10/
LOCATION:Mt. Washington United Methodist Church\, 6365 Corbly Rd.\, Cincinnati\, OH\, 45230\, United States
ATTACH;FMTTYPE=image/jpeg:https://mtwashumc.org/wp-content/uploads/2023/02/IMG-4426-scaled-e1676166492122.jpg
END:VEVENT
BEGIN:VEVENT
DTSTART;TZID=America/New_York:20250309T100000
DTEND;TZID=America/New_York:20250309T110000
DTSTAMP:20260419T143544
CREATED:20240207T033957Z
LAST-MODIFIED:20260309T175120Z
UID:10002770-1741514400-1741518000@mtwashumc.org
SUMMARY:Sunday Worship
DESCRIPTION:Join us in person or online for our Sunday morning blended worship\, where we will sing traditional hymns\, contemporary Christian music\, and hear a casual Pastor sermon. Coffee begins at 9:30. Children’s Sunday School is offered during worship\, designed for children from 3-12 years old. All are welcome!
URL:https://mtwashumc.org/event/sunday-worship/2025-03-09/
LOCATION:Mt. Washington United Methodist Church\, 6365 Corbly Rd.\, Cincinnati\, OH\, 45230\, United States
ATTACH;FMTTYPE=image/jpeg:https://mtwashumc.org/wp-content/uploads/2024/02/470846144_918608993733386_2914126562439977742_n.jpg
END:VEVENT
BEGIN:VEVENT
DTSTART;TZID=America/New_York:20250305T170000
DTEND;TZID=America/New_York:20250305T180000
DTSTAMP:20260419T143544
CREATED:20250206T014005Z
LAST-MODIFIED:20250206T014426Z
UID:10003261-1741194000-1741197600@mtwashumc.org
SUMMARY:Ash Wednesday Worship
DESCRIPTION:Ash Wednesday emphasizes a dual encounter: we confront our own mortality and confess our sin before God within the community of faith.\n\nPastor Jeaninne can put ashes on your forehead or hand as part of the service. This is done for two reasons: a personal act of remembrance and as a sign or a witness for others. The service will be a blend of contemporary and traditional elements.\n\nAll are welcome\, you do not have to be a member to participate.
URL:https://mtwashumc.org/event/ash-wednesday-worship-2/
LOCATION:Mt. Washington United Methodist Church\, 6365 Corbly Rd.\, Cincinnati\, OH\, 45230\, United States
ATTACH;FMTTYPE=image/jpeg:https://mtwashumc.org/wp-content/uploads/2025/02/476279916_950476950546590_6471096102009490329_n.jpg
END:VEVENT
BEGIN:VEVENT
DTSTART;TZID=America/New_York:20250305T110000
DTEND;TZID=America/New_York:20250305T113000
DTSTAMP:20260419T143544
CREATED:20250204T011236Z
LAST-MODIFIED:20260213T035655Z
UID:10003173-1741172400-1741174200@mtwashumc.org
SUMMARY:Chair Exercise
DESCRIPTION:Our chair exercise group meets twice weekly and shares great laughs and fellowship while safely exercising while sitting\, including the most popular beach ball exercise. \nThere’s no telling what this group will do after exercise- from enjoying homemade cheesecakes to Tea Time with special orange peel tea from China\, this group is always up to something. \nYou’re invited to join them\, no gym membership required!
URL:https://mtwashumc.org/event/chair-exercise-2/2025-03-05/
LOCATION:Mt. Washington United Methodist Church\, 6365 Corbly Rd.\, Cincinnati\, OH\, 45230\, United States
ATTACH;FMTTYPE=image/jpeg:https://mtwashumc.org/wp-content/uploads/2023/02/IMG-4426-scaled-e1676166492122.jpg
END:VEVENT
BEGIN:VEVENT
DTSTART;TZID=America/New_York:20250303T110000
DTEND;TZID=America/New_York:20250303T113000
DTSTAMP:20260419T143544
CREATED:20250204T011236Z
LAST-MODIFIED:20260213T035655Z
UID:10003172-1740999600-1741001400@mtwashumc.org
SUMMARY:Chair Exercise
DESCRIPTION:Our chair exercise group meets twice weekly and shares great laughs and fellowship while safely exercising while sitting\, including the most popular beach ball exercise. \nThere’s no telling what this group will do after exercise- from enjoying homemade cheesecakes to Tea Time with special orange peel tea from China\, this group is always up to something. \nYou’re invited to join them\, no gym membership required!
URL:https://mtwashumc.org/event/chair-exercise-2/2025-03-03/
LOCATION:Mt. Washington United Methodist Church\, 6365 Corbly Rd.\, Cincinnati\, OH\, 45230\, United States
ATTACH;FMTTYPE=image/jpeg:https://mtwashumc.org/wp-content/uploads/2023/02/IMG-4426-scaled-e1676166492122.jpg
END:VEVENT
BEGIN:VEVENT
DTSTART;TZID=America/New_York:20250302T100000
DTEND;TZID=America/New_York:20250302T110000
DTSTAMP:20260419T143544
CREATED:20240207T033957Z
LAST-MODIFIED:20260309T175120Z
UID:10002769-1740909600-1740913200@mtwashumc.org
SUMMARY:Sunday Worship
DESCRIPTION:Join us in person or online for our Sunday morning blended worship\, where we will sing traditional hymns\, contemporary Christian music\, and hear a casual Pastor sermon. Coffee begins at 9:30. Children’s Sunday School is offered during worship\, designed for children from 3-12 years old. All are welcome!
URL:https://mtwashumc.org/event/sunday-worship/2025-03-02/
LOCATION:Mt. Washington United Methodist Church\, 6365 Corbly Rd.\, Cincinnati\, OH\, 45230\, United States
ATTACH;FMTTYPE=image/jpeg:https://mtwashumc.org/wp-content/uploads/2024/02/470846144_918608993733386_2914126562439977742_n.jpg
END:VEVENT
BEGIN:VEVENT
DTSTART;TZID=America/New_York:20250226T110000
DTEND;TZID=America/New_York:20250226T113000
DTSTAMP:20260419T143544
CREATED:20250204T011236Z
LAST-MODIFIED:20260213T035655Z
UID:10003171-1740567600-1740569400@mtwashumc.org
SUMMARY:Chair Exercise
DESCRIPTION:Our chair exercise group meets twice weekly and shares great laughs and fellowship while safely exercising while sitting\, including the most popular beach ball exercise. \nThere’s no telling what this group will do after exercise- from enjoying homemade cheesecakes to Tea Time with special orange peel tea from China\, this group is always up to something. \nYou’re invited to join them\, no gym membership required!
URL:https://mtwashumc.org/event/chair-exercise-2/2025-02-26/
LOCATION:Mt. Washington United Methodist Church\, 6365 Corbly Rd.\, Cincinnati\, OH\, 45230\, United States
ATTACH;FMTTYPE=image/jpeg:https://mtwashumc.org/wp-content/uploads/2023/02/IMG-4426-scaled-e1676166492122.jpg
END:VEVENT
BEGIN:VEVENT
DTSTART;TZID=America/New_York:20250224T110000
DTEND;TZID=America/New_York:20250224T113000
DTSTAMP:20260419T143544
CREATED:20250204T011236Z
LAST-MODIFIED:20260213T035655Z
UID:10003170-1740394800-1740396600@mtwashumc.org
SUMMARY:Chair Exercise
DESCRIPTION:Our chair exercise group meets twice weekly and shares great laughs and fellowship while safely exercising while sitting\, including the most popular beach ball exercise. \nThere’s no telling what this group will do after exercise- from enjoying homemade cheesecakes to Tea Time with special orange peel tea from China\, this group is always up to something. \nYou’re invited to join them\, no gym membership required!
URL:https://mtwashumc.org/event/chair-exercise-2/2025-02-24/
LOCATION:Mt. Washington United Methodist Church\, 6365 Corbly Rd.\, Cincinnati\, OH\, 45230\, United States
ATTACH;FMTTYPE=image/jpeg:https://mtwashumc.org/wp-content/uploads/2023/02/IMG-4426-scaled-e1676166492122.jpg
END:VEVENT
BEGIN:VEVENT
DTSTART;TZID=America/New_York:20250223T100000
DTEND;TZID=America/New_York:20250223T110000
DTSTAMP:20260419T143544
CREATED:20240207T033957Z
LAST-MODIFIED:20260309T175120Z
UID:10002768-1740304800-1740308400@mtwashumc.org
SUMMARY:Sunday Worship
DESCRIPTION:Join us in person or online for our Sunday morning blended worship\, where we will sing traditional hymns\, contemporary Christian music\, and hear a casual Pastor sermon. Coffee begins at 9:30. Children’s Sunday School is offered during worship\, designed for children from 3-12 years old. All are welcome!
URL:https://mtwashumc.org/event/sunday-worship/2025-02-23/
LOCATION:Mt. Washington United Methodist Church\, 6365 Corbly Rd.\, Cincinnati\, OH\, 45230\, United States
ATTACH;FMTTYPE=image/jpeg:https://mtwashumc.org/wp-content/uploads/2024/02/470846144_918608993733386_2914126562439977742_n.jpg
END:VEVENT
BEGIN:VEVENT
DTSTART;TZID=America/New_York:20250219T110000
DTEND;TZID=America/New_York:20250219T113000
DTSTAMP:20260419T143544
CREATED:20250204T011236Z
LAST-MODIFIED:20260213T035655Z
UID:10003169-1739962800-1739964600@mtwashumc.org
SUMMARY:Chair Exercise
DESCRIPTION:Our chair exercise group meets twice weekly and shares great laughs and fellowship while safely exercising while sitting\, including the most popular beach ball exercise. \nThere’s no telling what this group will do after exercise- from enjoying homemade cheesecakes to Tea Time with special orange peel tea from China\, this group is always up to something. \nYou’re invited to join them\, no gym membership required!
URL:https://mtwashumc.org/event/chair-exercise-2/2025-02-19/
LOCATION:Mt. Washington United Methodist Church\, 6365 Corbly Rd.\, Cincinnati\, OH\, 45230\, United States
ATTACH;FMTTYPE=image/jpeg:https://mtwashumc.org/wp-content/uploads/2023/02/IMG-4426-scaled-e1676166492122.jpg
END:VEVENT
BEGIN:VEVENT
DTSTART;TZID=America/New_York:20250216T110000
DTEND;TZID=America/New_York:20250216T123000
DTSTAMP:20260419T143544
CREATED:20250206T013606Z
LAST-MODIFIED:20250206T014933Z
UID:10003260-1739703600-1739709000@mtwashumc.org
SUMMARY:Baked Potato Bar Lunch
DESCRIPTION:You’re invited to attend worship at 10:00am\, and then stay afterwards and enjoy some fellowship and tasty food. \nWe will have baked potatoes with all the toppings\, including chili\, as well as sides and desserts. \nAll are welcome. Kid-friendly. Many thanks to the Nurture Committee for organizing this popular\, annual event.
URL:https://mtwashumc.org/event/baked-potato-bar-lunch/
LOCATION:Mt. Washington United Methodist Church\, 6365 Corbly Rd.\, Cincinnati\, OH\, 45230\, United States
ATTACH;FMTTYPE=image/jpeg:https://mtwashumc.org/wp-content/uploads/2025/02/Loaded-Baked-Potatoes-on-Wooden-Board-Depositphotos.jpg
END:VEVENT
BEGIN:VEVENT
DTSTART;TZID=America/New_York:20250216T100000
DTEND;TZID=America/New_York:20250216T110000
DTSTAMP:20260419T143544
CREATED:20240207T033957Z
LAST-MODIFIED:20260309T175120Z
UID:10002767-1739700000-1739703600@mtwashumc.org
SUMMARY:Sunday Worship
DESCRIPTION:Join us in person or online for our Sunday morning blended worship\, where we will sing traditional hymns\, contemporary Christian music\, and hear a casual Pastor sermon. Coffee begins at 9:30. Children’s Sunday School is offered during worship\, designed for children from 3-12 years old. All are welcome!
URL:https://mtwashumc.org/event/sunday-worship/2025-02-16/
LOCATION:Mt. Washington United Methodist Church\, 6365 Corbly Rd.\, Cincinnati\, OH\, 45230\, United States
ATTACH;FMTTYPE=image/jpeg:https://mtwashumc.org/wp-content/uploads/2024/02/470846144_918608993733386_2914126562439977742_n.jpg
END:VEVENT
BEGIN:VEVENT
DTSTART;TZID=America/New_York:20250212T110000
DTEND;TZID=America/New_York:20250212T113000
DTSTAMP:20260419T143544
CREATED:20250204T011236Z
LAST-MODIFIED:20260213T035655Z
UID:10003168-1739358000-1739359800@mtwashumc.org
SUMMARY:Chair Exercise
DESCRIPTION:Our chair exercise group meets twice weekly and shares great laughs and fellowship while safely exercising while sitting\, including the most popular beach ball exercise. \nThere’s no telling what this group will do after exercise- from enjoying homemade cheesecakes to Tea Time with special orange peel tea from China\, this group is always up to something. \nYou’re invited to join them\, no gym membership required!
URL:https://mtwashumc.org/event/chair-exercise-2/2025-02-12/
LOCATION:Mt. Washington United Methodist Church\, 6365 Corbly Rd.\, Cincinnati\, OH\, 45230\, United States
ATTACH;FMTTYPE=image/jpeg:https://mtwashumc.org/wp-content/uploads/2023/02/IMG-4426-scaled-e1676166492122.jpg
END:VEVENT
BEGIN:VEVENT
DTSTART;TZID=America/New_York:20250210T110000
DTEND;TZID=America/New_York:20250210T113000
DTSTAMP:20260419T143544
CREATED:20250204T011236Z
LAST-MODIFIED:20260213T035655Z
UID:10003167-1739185200-1739187000@mtwashumc.org
SUMMARY:Chair Exercise
DESCRIPTION:Our chair exercise group meets twice weekly and shares great laughs and fellowship while safely exercising while sitting\, including the most popular beach ball exercise. \nThere’s no telling what this group will do after exercise- from enjoying homemade cheesecakes to Tea Time with special orange peel tea from China\, this group is always up to something. \nYou’re invited to join them\, no gym membership required!
URL:https://mtwashumc.org/event/chair-exercise-2/2025-02-10/
LOCATION:Mt. Washington United Methodist Church\, 6365 Corbly Rd.\, Cincinnati\, OH\, 45230\, United States
ATTACH;FMTTYPE=image/jpeg:https://mtwashumc.org/wp-content/uploads/2023/02/IMG-4426-scaled-e1676166492122.jpg
END:VEVENT
BEGIN:VEVENT
DTSTART;TZID=America/New_York:20250209T100000
DTEND;TZID=America/New_York:20250209T110000
DTSTAMP:20260419T143544
CREATED:20240207T033957Z
LAST-MODIFIED:20260309T175120Z
UID:10002766-1739095200-1739098800@mtwashumc.org
SUMMARY:Sunday Worship
DESCRIPTION:Join us in person or online for our Sunday morning blended worship\, where we will sing traditional hymns\, contemporary Christian music\, and hear a casual Pastor sermon. Coffee begins at 9:30. Children’s Sunday School is offered during worship\, designed for children from 3-12 years old. All are welcome!
URL:https://mtwashumc.org/event/sunday-worship/2025-02-09/
LOCATION:Mt. Washington United Methodist Church\, 6365 Corbly Rd.\, Cincinnati\, OH\, 45230\, United States
ATTACH;FMTTYPE=image/jpeg:https://mtwashumc.org/wp-content/uploads/2024/02/470846144_918608993733386_2914126562439977742_n.jpg
END:VEVENT
BEGIN:VEVENT
DTSTART;TZID=America/New_York:20250208T173000
DTEND;TZID=America/New_York:20250208T183000
DTSTAMP:20260419T143544
CREATED:20250203T211044Z
LAST-MODIFIED:20250203T211301Z
UID:10003113-1739035800-1739039400@mtwashumc.org
SUMMARY:Free Community Meal- Taco Bar
DESCRIPTION:At Mt. Washington UM Church\, we feed the neighborhood\, and we would love to feed you\, too! You’re invited to our monthly community meal\, where we are serving up a taco bar\, with plenty of sides and desserts. \nPurple bags from IPM filled with non-perishable groceries will also be given out. \nFree. All are welcome. Kid-friendly.
URL:https://mtwashumc.org/event/free-community-meal-taco-bar/
LOCATION:Mt. Washington United Methodist Church\, 6365 Corbly Rd.\, Cincinnati\, OH\, 45230\, United States
ATTACH;FMTTYPE=image/jpeg:https://mtwashumc.org/wp-content/uploads/2025/02/Taco-Bar-Party-Food.jpeg
END:VEVENT
BEGIN:VEVENT
DTSTART;TZID=America/New_York:20250205T110000
DTEND;TZID=America/New_York:20250205T113000
DTSTAMP:20260419T143544
CREATED:20250204T011236Z
LAST-MODIFIED:20260213T035655Z
UID:10003166-1738753200-1738755000@mtwashumc.org
SUMMARY:Chair Exercise
DESCRIPTION:Our chair exercise group meets twice weekly and shares great laughs and fellowship while safely exercising while sitting\, including the most popular beach ball exercise. \nThere’s no telling what this group will do after exercise- from enjoying homemade cheesecakes to Tea Time with special orange peel tea from China\, this group is always up to something. \nYou’re invited to join them\, no gym membership required!
URL:https://mtwashumc.org/event/chair-exercise-2/2025-02-05/
LOCATION:Mt. Washington United Methodist Church\, 6365 Corbly Rd.\, Cincinnati\, OH\, 45230\, United States
ATTACH;FMTTYPE=image/jpeg:https://mtwashumc.org/wp-content/uploads/2023/02/IMG-4426-scaled-e1676166492122.jpg
END:VEVENT
BEGIN:VEVENT
DTSTART;TZID=America/New_York:20250202T100000
DTEND;TZID=America/New_York:20250202T110000
DTSTAMP:20260419T143544
CREATED:20240207T033957Z
LAST-MODIFIED:20260309T175120Z
UID:10002765-1738490400-1738494000@mtwashumc.org
SUMMARY:Sunday Worship
DESCRIPTION:Join us in person or online for our Sunday morning blended worship\, where we will sing traditional hymns\, contemporary Christian music\, and hear a casual Pastor sermon. Coffee begins at 9:30. Children’s Sunday School is offered during worship\, designed for children from 3-12 years old. All are welcome!
URL:https://mtwashumc.org/event/sunday-worship/2025-02-02/
LOCATION:Mt. Washington United Methodist Church\, 6365 Corbly Rd.\, Cincinnati\, OH\, 45230\, United States
ATTACH;FMTTYPE=image/jpeg:https://mtwashumc.org/wp-content/uploads/2024/02/470846144_918608993733386_2914126562439977742_n.jpg
END:VEVENT
BEGIN:VEVENT
DTSTART;TZID=America/New_York:20250126T100000
DTEND;TZID=America/New_York:20250126T110000
DTSTAMP:20260419T143544
CREATED:20240207T033957Z
LAST-MODIFIED:20260309T175120Z
UID:10002764-1737885600-1737889200@mtwashumc.org
SUMMARY:Sunday Worship
DESCRIPTION:Join us in person or online for our Sunday morning blended worship\, where we will sing traditional hymns\, contemporary Christian music\, and hear a casual Pastor sermon. Coffee begins at 9:30. Children’s Sunday School is offered during worship\, designed for children from 3-12 years old. All are welcome!
URL:https://mtwashumc.org/event/sunday-worship/2025-01-26/
LOCATION:Mt. Washington United Methodist Church\, 6365 Corbly Rd.\, Cincinnati\, OH\, 45230\, United States
ATTACH;FMTTYPE=image/jpeg:https://mtwashumc.org/wp-content/uploads/2024/02/470846144_918608993733386_2914126562439977742_n.jpg
END:VEVENT
BEGIN:VEVENT
DTSTART;TZID=America/New_York:20250120T110000
DTEND;TZID=America/New_York:20250120T113000
DTSTAMP:20260419T143544
CREATED:20240207T003708Z
LAST-MODIFIED:20240914T031517Z
UID:10003105-1737370800-1737372600@mtwashumc.org
SUMMARY:Chair Exercise
DESCRIPTION:Our chair exercise group meets twice weekly and shares great laughs and fellowship while safely exercising while sitting\, including the most popular beach ball exercise. \nThere’s no telling what this group will do after exercise- from enjoying homemade cheesecakes to Tea Time with special orange peel tea from China\, this group is always up to something. \nYou’re invited to join them\, no gym membership required!
URL:https://mtwashumc.org/event/chair-exercise/2025-01-20/
LOCATION:Mt. Washington United Methodist Church\, 6365 Corbly Rd.\, Cincinnati\, OH\, 45230\, United States
ATTACH;FMTTYPE=image/jpeg:https://mtwashumc.org/wp-content/uploads/2023/02/IMG-4426-scaled-e1676166492122.jpg
END:VEVENT
BEGIN:VEVENT
DTSTART;TZID=America/New_York:20250119T100000
DTEND;TZID=America/New_York:20250119T110000
DTSTAMP:20260419T143544
CREATED:20240207T033957Z
LAST-MODIFIED:20260309T175120Z
UID:10002763-1737280800-1737284400@mtwashumc.org
SUMMARY:Sunday Worship
DESCRIPTION:Join us in person or online for our Sunday morning blended worship\, where we will sing traditional hymns\, contemporary Christian music\, and hear a casual Pastor sermon. Coffee begins at 9:30. Children’s Sunday School is offered during worship\, designed for children from 3-12 years old. All are welcome!
URL:https://mtwashumc.org/event/sunday-worship/2025-01-19/
LOCATION:Mt. Washington United Methodist Church\, 6365 Corbly Rd.\, Cincinnati\, OH\, 45230\, United States
ATTACH;FMTTYPE=image/jpeg:https://mtwashumc.org/wp-content/uploads/2024/02/470846144_918608993733386_2914126562439977742_n.jpg
END:VEVENT
BEGIN:VEVENT
DTSTART;TZID=America/New_York:20250115T110000
DTEND;TZID=America/New_York:20250115T113000
DTSTAMP:20260419T143544
CREATED:20240207T003708Z
LAST-MODIFIED:20240914T031517Z
UID:10003104-1736938800-1736940600@mtwashumc.org
SUMMARY:Chair Exercise
DESCRIPTION:Our chair exercise group meets twice weekly and shares great laughs and fellowship while safely exercising while sitting\, including the most popular beach ball exercise. \nThere’s no telling what this group will do after exercise- from enjoying homemade cheesecakes to Tea Time with special orange peel tea from China\, this group is always up to something. \nYou’re invited to join them\, no gym membership required!
URL:https://mtwashumc.org/event/chair-exercise/2025-01-15/
LOCATION:Mt. Washington United Methodist Church\, 6365 Corbly Rd.\, Cincinnati\, OH\, 45230\, United States
ATTACH;FMTTYPE=image/jpeg:https://mtwashumc.org/wp-content/uploads/2023/02/IMG-4426-scaled-e1676166492122.jpg
END:VEVENT
BEGIN:VEVENT
DTSTART;TZID=America/New_York:20250113T110000
DTEND;TZID=America/New_York:20250113T113000
DTSTAMP:20260419T143544
CREATED:20240207T003708Z
LAST-MODIFIED:20240914T031517Z
UID:10003103-1736766000-1736767800@mtwashumc.org
SUMMARY:Chair Exercise
DESCRIPTION:Our chair exercise group meets twice weekly and shares great laughs and fellowship while safely exercising while sitting\, including the most popular beach ball exercise. \nThere’s no telling what this group will do after exercise- from enjoying homemade cheesecakes to Tea Time with special orange peel tea from China\, this group is always up to something. \nYou’re invited to join them\, no gym membership required!
URL:https://mtwashumc.org/event/chair-exercise/2025-01-13/
LOCATION:Mt. Washington United Methodist Church\, 6365 Corbly Rd.\, Cincinnati\, OH\, 45230\, United States
ATTACH;FMTTYPE=image/jpeg:https://mtwashumc.org/wp-content/uploads/2023/02/IMG-4426-scaled-e1676166492122.jpg
END:VEVENT
END:VCALENDAR