BEGIN:VCALENDAR
VERSION:2.0
PRODID:-//Mt. Washington United Methodist Church - ECPv6.15.20//NONSGML v1.0//EN
CALSCALE:GREGORIAN
METHOD:PUBLISH
X-WR-CALNAME:Mt. Washington United Methodist Church
X-ORIGINAL-URL:https://mtwashumc.org
X-WR-CALDESC:Events for Mt. Washington United Methodist Church
REFRESH-INTERVAL;VALUE=DURATION:PT1H
X-Robots-Tag:noindex
X-PUBLISHED-TTL:PT1H
BEGIN:VTIMEZONE
TZID:America/New_York
BEGIN:DAYLIGHT
TZOFFSETFROM:-0500
TZOFFSETTO:-0400
TZNAME:EDT
DTSTART:20280312T070000
END:DAYLIGHT
BEGIN:STANDARD
TZOFFSETFROM:-0400
TZOFFSETTO:-0500
TZNAME:EST
DTSTART:20281105T060000
END:STANDARD
BEGIN:DAYLIGHT
TZOFFSETFROM:-0500
TZOFFSETTO:-0400
TZNAME:EDT
DTSTART:20290311T070000
END:DAYLIGHT
BEGIN:STANDARD
TZOFFSETFROM:-0400
TZOFFSETTO:-0500
TZNAME:EST
DTSTART:20291104T060000
END:STANDARD
BEGIN:DAYLIGHT
TZOFFSETFROM:-0500
TZOFFSETTO:-0400
TZNAME:EDT
DTSTART:20300310T070000
END:DAYLIGHT
BEGIN:STANDARD
TZOFFSETFROM:-0400
TZOFFSETTO:-0500
TZNAME:EST
DTSTART:20301103T060000
END:STANDARD
END:VTIMEZONE
BEGIN:VEVENT
DTSTART;TZID=America/New_York:20290325T100000
DTEND;TZID=America/New_York:20290325T110000
DTSTAMP:20260419T144939
CREATED:20240207T033957Z
LAST-MODIFIED:20260309T175120Z
UID:10003120-1869127200-1869130800@mtwashumc.org
SUMMARY:Sunday Worship
DESCRIPTION:Join us in person or online for our Sunday morning blended worship\, where we will sing traditional hymns\, contemporary Christian music\, and hear a casual Pastor sermon. Coffee begins at 9:30. Children’s Sunday School is offered during worship\, designed for children from 3-12 years old. All are welcome!
URL:https://mtwashumc.org/event/sunday-worship/2029-03-25/
LOCATION:Mt. Washington United Methodist Church\, 6365 Corbly Rd.\, Cincinnati\, OH\, 45230\, United States
ATTACH;FMTTYPE=image/jpeg:https://mtwashumc.org/wp-content/uploads/2024/02/470846144_918608993733386_2914126562439977742_n.jpg
END:VEVENT
BEGIN:VEVENT
DTSTART;TZID=America/New_York:20290401T100000
DTEND;TZID=America/New_York:20290401T110000
DTSTAMP:20260419T144939
CREATED:20240207T033957Z
LAST-MODIFIED:20260309T175120Z
UID:10003121-1869732000-1869735600@mtwashumc.org
SUMMARY:Sunday Worship
DESCRIPTION:Join us in person or online for our Sunday morning blended worship\, where we will sing traditional hymns\, contemporary Christian music\, and hear a casual Pastor sermon. Coffee begins at 9:30. Children’s Sunday School is offered during worship\, designed for children from 3-12 years old. All are welcome!
URL:https://mtwashumc.org/event/sunday-worship/2029-04-01/
LOCATION:Mt. Washington United Methodist Church\, 6365 Corbly Rd.\, Cincinnati\, OH\, 45230\, United States
ATTACH;FMTTYPE=image/jpeg:https://mtwashumc.org/wp-content/uploads/2024/02/470846144_918608993733386_2914126562439977742_n.jpg
END:VEVENT
BEGIN:VEVENT
DTSTART;TZID=America/New_York:20290408T100000
DTEND;TZID=America/New_York:20290408T110000
DTSTAMP:20260419T144939
CREATED:20240207T033957Z
LAST-MODIFIED:20260309T175120Z
UID:10003122-1870336800-1870340400@mtwashumc.org
SUMMARY:Sunday Worship
DESCRIPTION:Join us in person or online for our Sunday morning blended worship\, where we will sing traditional hymns\, contemporary Christian music\, and hear a casual Pastor sermon. Coffee begins at 9:30. Children’s Sunday School is offered during worship\, designed for children from 3-12 years old. All are welcome!
URL:https://mtwashumc.org/event/sunday-worship/2029-04-08/
LOCATION:Mt. Washington United Methodist Church\, 6365 Corbly Rd.\, Cincinnati\, OH\, 45230\, United States
ATTACH;FMTTYPE=image/jpeg:https://mtwashumc.org/wp-content/uploads/2024/02/470846144_918608993733386_2914126562439977742_n.jpg
END:VEVENT
BEGIN:VEVENT
DTSTART;TZID=America/New_York:20290415T100000
DTEND;TZID=America/New_York:20290415T110000
DTSTAMP:20260419T144939
CREATED:20240207T033957Z
LAST-MODIFIED:20260309T175120Z
UID:10003123-1870941600-1870945200@mtwashumc.org
SUMMARY:Sunday Worship
DESCRIPTION:Join us in person or online for our Sunday morning blended worship\, where we will sing traditional hymns\, contemporary Christian music\, and hear a casual Pastor sermon. Coffee begins at 9:30. Children’s Sunday School is offered during worship\, designed for children from 3-12 years old. All are welcome!
URL:https://mtwashumc.org/event/sunday-worship/2029-04-15/
LOCATION:Mt. Washington United Methodist Church\, 6365 Corbly Rd.\, Cincinnati\, OH\, 45230\, United States
ATTACH;FMTTYPE=image/jpeg:https://mtwashumc.org/wp-content/uploads/2024/02/470846144_918608993733386_2914126562439977742_n.jpg
END:VEVENT
BEGIN:VEVENT
DTSTART;TZID=America/New_York:20290422T100000
DTEND;TZID=America/New_York:20290422T110000
DTSTAMP:20260419T144939
CREATED:20240207T033957Z
LAST-MODIFIED:20260309T175120Z
UID:10003124-1871546400-1871550000@mtwashumc.org
SUMMARY:Sunday Worship
DESCRIPTION:Join us in person or online for our Sunday morning blended worship\, where we will sing traditional hymns\, contemporary Christian music\, and hear a casual Pastor sermon. Coffee begins at 9:30. Children’s Sunday School is offered during worship\, designed for children from 3-12 years old. All are welcome!
URL:https://mtwashumc.org/event/sunday-worship/2029-04-22/
LOCATION:Mt. Washington United Methodist Church\, 6365 Corbly Rd.\, Cincinnati\, OH\, 45230\, United States
ATTACH;FMTTYPE=image/jpeg:https://mtwashumc.org/wp-content/uploads/2024/02/470846144_918608993733386_2914126562439977742_n.jpg
END:VEVENT
BEGIN:VEVENT
DTSTART;TZID=America/New_York:20290429T100000
DTEND;TZID=America/New_York:20290429T110000
DTSTAMP:20260419T144939
CREATED:20240207T033957Z
LAST-MODIFIED:20260309T175120Z
UID:10003125-1872151200-1872154800@mtwashumc.org
SUMMARY:Sunday Worship
DESCRIPTION:Join us in person or online for our Sunday morning blended worship\, where we will sing traditional hymns\, contemporary Christian music\, and hear a casual Pastor sermon. Coffee begins at 9:30. Children’s Sunday School is offered during worship\, designed for children from 3-12 years old. All are welcome!
URL:https://mtwashumc.org/event/sunday-worship/2029-04-29/
LOCATION:Mt. Washington United Methodist Church\, 6365 Corbly Rd.\, Cincinnati\, OH\, 45230\, United States
ATTACH;FMTTYPE=image/jpeg:https://mtwashumc.org/wp-content/uploads/2024/02/470846144_918608993733386_2914126562439977742_n.jpg
END:VEVENT
BEGIN:VEVENT
DTSTART;TZID=America/New_York:20290506T100000
DTEND;TZID=America/New_York:20290506T110000
DTSTAMP:20260419T144939
CREATED:20240207T033957Z
LAST-MODIFIED:20260309T175120Z
UID:10003126-1872756000-1872759600@mtwashumc.org
SUMMARY:Sunday Worship
DESCRIPTION:Join us in person or online for our Sunday morning blended worship\, where we will sing traditional hymns\, contemporary Christian music\, and hear a casual Pastor sermon. Coffee begins at 9:30. Children’s Sunday School is offered during worship\, designed for children from 3-12 years old. All are welcome!
URL:https://mtwashumc.org/event/sunday-worship/2029-05-06/
LOCATION:Mt. Washington United Methodist Church\, 6365 Corbly Rd.\, Cincinnati\, OH\, 45230\, United States
ATTACH;FMTTYPE=image/jpeg:https://mtwashumc.org/wp-content/uploads/2024/02/470846144_918608993733386_2914126562439977742_n.jpg
END:VEVENT
BEGIN:VEVENT
DTSTART;TZID=America/New_York:20290513T100000
DTEND;TZID=America/New_York:20290513T110000
DTSTAMP:20260419T144939
CREATED:20240207T033957Z
LAST-MODIFIED:20260309T175120Z
UID:10003127-1873360800-1873364400@mtwashumc.org
SUMMARY:Sunday Worship
DESCRIPTION:Join us in person or online for our Sunday morning blended worship\, where we will sing traditional hymns\, contemporary Christian music\, and hear a casual Pastor sermon. Coffee begins at 9:30. Children’s Sunday School is offered during worship\, designed for children from 3-12 years old. All are welcome!
URL:https://mtwashumc.org/event/sunday-worship/2029-05-13/
LOCATION:Mt. Washington United Methodist Church\, 6365 Corbly Rd.\, Cincinnati\, OH\, 45230\, United States
ATTACH;FMTTYPE=image/jpeg:https://mtwashumc.org/wp-content/uploads/2024/02/470846144_918608993733386_2914126562439977742_n.jpg
END:VEVENT
BEGIN:VEVENT
DTSTART;TZID=America/New_York:20290520T100000
DTEND;TZID=America/New_York:20290520T110000
DTSTAMP:20260419T144939
CREATED:20240207T033957Z
LAST-MODIFIED:20260309T175120Z
UID:10003128-1873965600-1873969200@mtwashumc.org
SUMMARY:Sunday Worship
DESCRIPTION:Join us in person or online for our Sunday morning blended worship\, where we will sing traditional hymns\, contemporary Christian music\, and hear a casual Pastor sermon. Coffee begins at 9:30. Children’s Sunday School is offered during worship\, designed for children from 3-12 years old. All are welcome!
URL:https://mtwashumc.org/event/sunday-worship/2029-05-20/
LOCATION:Mt. Washington United Methodist Church\, 6365 Corbly Rd.\, Cincinnati\, OH\, 45230\, United States
ATTACH;FMTTYPE=image/jpeg:https://mtwashumc.org/wp-content/uploads/2024/02/470846144_918608993733386_2914126562439977742_n.jpg
END:VEVENT
BEGIN:VEVENT
DTSTART;TZID=America/New_York:20290527T100000
DTEND;TZID=America/New_York:20290527T110000
DTSTAMP:20260419T144939
CREATED:20240207T033957Z
LAST-MODIFIED:20260309T175120Z
UID:10003129-1874570400-1874574000@mtwashumc.org
SUMMARY:Sunday Worship
DESCRIPTION:Join us in person or online for our Sunday morning blended worship\, where we will sing traditional hymns\, contemporary Christian music\, and hear a casual Pastor sermon. Coffee begins at 9:30. Children’s Sunday School is offered during worship\, designed for children from 3-12 years old. All are welcome!
URL:https://mtwashumc.org/event/sunday-worship/2029-05-27/
LOCATION:Mt. Washington United Methodist Church\, 6365 Corbly Rd.\, Cincinnati\, OH\, 45230\, United States
ATTACH;FMTTYPE=image/jpeg:https://mtwashumc.org/wp-content/uploads/2024/02/470846144_918608993733386_2914126562439977742_n.jpg
END:VEVENT
BEGIN:VEVENT
DTSTART;TZID=America/New_York:20290603T100000
DTEND;TZID=America/New_York:20290603T110000
DTSTAMP:20260419T144939
CREATED:20240207T033957Z
LAST-MODIFIED:20260309T175120Z
UID:10003130-1875175200-1875178800@mtwashumc.org
SUMMARY:Sunday Worship
DESCRIPTION:Join us in person or online for our Sunday morning blended worship\, where we will sing traditional hymns\, contemporary Christian music\, and hear a casual Pastor sermon. Coffee begins at 9:30. Children’s Sunday School is offered during worship\, designed for children from 3-12 years old. All are welcome!
URL:https://mtwashumc.org/event/sunday-worship/2029-06-03/
LOCATION:Mt. Washington United Methodist Church\, 6365 Corbly Rd.\, Cincinnati\, OH\, 45230\, United States
ATTACH;FMTTYPE=image/jpeg:https://mtwashumc.org/wp-content/uploads/2024/02/470846144_918608993733386_2914126562439977742_n.jpg
END:VEVENT
BEGIN:VEVENT
DTSTART;TZID=America/New_York:20290610T100000
DTEND;TZID=America/New_York:20290610T110000
DTSTAMP:20260419T144939
CREATED:20240207T033957Z
LAST-MODIFIED:20260309T175120Z
UID:10003131-1875780000-1875783600@mtwashumc.org
SUMMARY:Sunday Worship
DESCRIPTION:Join us in person or online for our Sunday morning blended worship\, where we will sing traditional hymns\, contemporary Christian music\, and hear a casual Pastor sermon. Coffee begins at 9:30. Children’s Sunday School is offered during worship\, designed for children from 3-12 years old. All are welcome!
URL:https://mtwashumc.org/event/sunday-worship/2029-06-10/
LOCATION:Mt. Washington United Methodist Church\, 6365 Corbly Rd.\, Cincinnati\, OH\, 45230\, United States
ATTACH;FMTTYPE=image/jpeg:https://mtwashumc.org/wp-content/uploads/2024/02/470846144_918608993733386_2914126562439977742_n.jpg
END:VEVENT
BEGIN:VEVENT
DTSTART;TZID=America/New_York:20290617T100000
DTEND;TZID=America/New_York:20290617T110000
DTSTAMP:20260419T144939
CREATED:20240207T033957Z
LAST-MODIFIED:20260309T175120Z
UID:10003132-1876384800-1876388400@mtwashumc.org
SUMMARY:Sunday Worship
DESCRIPTION:Join us in person or online for our Sunday morning blended worship\, where we will sing traditional hymns\, contemporary Christian music\, and hear a casual Pastor sermon. Coffee begins at 9:30. Children’s Sunday School is offered during worship\, designed for children from 3-12 years old. All are welcome!
URL:https://mtwashumc.org/event/sunday-worship/2029-06-17/
LOCATION:Mt. Washington United Methodist Church\, 6365 Corbly Rd.\, Cincinnati\, OH\, 45230\, United States
ATTACH;FMTTYPE=image/jpeg:https://mtwashumc.org/wp-content/uploads/2024/02/470846144_918608993733386_2914126562439977742_n.jpg
END:VEVENT
BEGIN:VEVENT
DTSTART;TZID=America/New_York:20290624T100000
DTEND;TZID=America/New_York:20290624T110000
DTSTAMP:20260419T144939
CREATED:20240207T033957Z
LAST-MODIFIED:20260309T175120Z
UID:10003133-1876989600-1876993200@mtwashumc.org
SUMMARY:Sunday Worship
DESCRIPTION:Join us in person or online for our Sunday morning blended worship\, where we will sing traditional hymns\, contemporary Christian music\, and hear a casual Pastor sermon. Coffee begins at 9:30. Children’s Sunday School is offered during worship\, designed for children from 3-12 years old. All are welcome!
URL:https://mtwashumc.org/event/sunday-worship/2029-06-24/
LOCATION:Mt. Washington United Methodist Church\, 6365 Corbly Rd.\, Cincinnati\, OH\, 45230\, United States
ATTACH;FMTTYPE=image/jpeg:https://mtwashumc.org/wp-content/uploads/2024/02/470846144_918608993733386_2914126562439977742_n.jpg
END:VEVENT
BEGIN:VEVENT
DTSTART;TZID=America/New_York:20290701T100000
DTEND;TZID=America/New_York:20290701T110000
DTSTAMP:20260419T144939
CREATED:20240207T033957Z
LAST-MODIFIED:20260309T175120Z
UID:10003134-1877594400-1877598000@mtwashumc.org
SUMMARY:Sunday Worship
DESCRIPTION:Join us in person or online for our Sunday morning blended worship\, where we will sing traditional hymns\, contemporary Christian music\, and hear a casual Pastor sermon. Coffee begins at 9:30. Children’s Sunday School is offered during worship\, designed for children from 3-12 years old. All are welcome!
URL:https://mtwashumc.org/event/sunday-worship/2029-07-01/
LOCATION:Mt. Washington United Methodist Church\, 6365 Corbly Rd.\, Cincinnati\, OH\, 45230\, United States
ATTACH;FMTTYPE=image/jpeg:https://mtwashumc.org/wp-content/uploads/2024/02/470846144_918608993733386_2914126562439977742_n.jpg
END:VEVENT
BEGIN:VEVENT
DTSTART;TZID=America/New_York:20290708T100000
DTEND;TZID=America/New_York:20290708T110000
DTSTAMP:20260419T144939
CREATED:20240207T033957Z
LAST-MODIFIED:20260309T175120Z
UID:10003135-1878199200-1878202800@mtwashumc.org
SUMMARY:Sunday Worship
DESCRIPTION:Join us in person or online for our Sunday morning blended worship\, where we will sing traditional hymns\, contemporary Christian music\, and hear a casual Pastor sermon. Coffee begins at 9:30. Children’s Sunday School is offered during worship\, designed for children from 3-12 years old. All are welcome!
URL:https://mtwashumc.org/event/sunday-worship/2029-07-08/
LOCATION:Mt. Washington United Methodist Church\, 6365 Corbly Rd.\, Cincinnati\, OH\, 45230\, United States
ATTACH;FMTTYPE=image/jpeg:https://mtwashumc.org/wp-content/uploads/2024/02/470846144_918608993733386_2914126562439977742_n.jpg
END:VEVENT
BEGIN:VEVENT
DTSTART;TZID=America/New_York:20290715T100000
DTEND;TZID=America/New_York:20290715T110000
DTSTAMP:20260419T144939
CREATED:20240207T033957Z
LAST-MODIFIED:20260309T175120Z
UID:10003136-1878804000-1878807600@mtwashumc.org
SUMMARY:Sunday Worship
DESCRIPTION:Join us in person or online for our Sunday morning blended worship\, where we will sing traditional hymns\, contemporary Christian music\, and hear a casual Pastor sermon. Coffee begins at 9:30. Children’s Sunday School is offered during worship\, designed for children from 3-12 years old. All are welcome!
URL:https://mtwashumc.org/event/sunday-worship/2029-07-15/
LOCATION:Mt. Washington United Methodist Church\, 6365 Corbly Rd.\, Cincinnati\, OH\, 45230\, United States
ATTACH;FMTTYPE=image/jpeg:https://mtwashumc.org/wp-content/uploads/2024/02/470846144_918608993733386_2914126562439977742_n.jpg
END:VEVENT
BEGIN:VEVENT
DTSTART;TZID=America/New_York:20290722T100000
DTEND;TZID=America/New_York:20290722T110000
DTSTAMP:20260419T144939
CREATED:20240207T033957Z
LAST-MODIFIED:20260309T175120Z
UID:10003137-1879408800-1879412400@mtwashumc.org
SUMMARY:Sunday Worship
DESCRIPTION:Join us in person or online for our Sunday morning blended worship\, where we will sing traditional hymns\, contemporary Christian music\, and hear a casual Pastor sermon. Coffee begins at 9:30. Children’s Sunday School is offered during worship\, designed for children from 3-12 years old. All are welcome!
URL:https://mtwashumc.org/event/sunday-worship/2029-07-22/
LOCATION:Mt. Washington United Methodist Church\, 6365 Corbly Rd.\, Cincinnati\, OH\, 45230\, United States
ATTACH;FMTTYPE=image/jpeg:https://mtwashumc.org/wp-content/uploads/2024/02/470846144_918608993733386_2914126562439977742_n.jpg
END:VEVENT
BEGIN:VEVENT
DTSTART;TZID=America/New_York:20290729T100000
DTEND;TZID=America/New_York:20290729T110000
DTSTAMP:20260419T144939
CREATED:20240207T033957Z
LAST-MODIFIED:20260309T175120Z
UID:10003138-1880013600-1880017200@mtwashumc.org
SUMMARY:Sunday Worship
DESCRIPTION:Join us in person or online for our Sunday morning blended worship\, where we will sing traditional hymns\, contemporary Christian music\, and hear a casual Pastor sermon. Coffee begins at 9:30. Children’s Sunday School is offered during worship\, designed for children from 3-12 years old. All are welcome!
URL:https://mtwashumc.org/event/sunday-worship/2029-07-29/
LOCATION:Mt. Washington United Methodist Church\, 6365 Corbly Rd.\, Cincinnati\, OH\, 45230\, United States
ATTACH;FMTTYPE=image/jpeg:https://mtwashumc.org/wp-content/uploads/2024/02/470846144_918608993733386_2914126562439977742_n.jpg
END:VEVENT
BEGIN:VEVENT
DTSTART;TZID=America/New_York:20290805T100000
DTEND;TZID=America/New_York:20290805T110000
DTSTAMP:20260419T144939
CREATED:20240207T033957Z
LAST-MODIFIED:20260309T175120Z
UID:10003139-1880618400-1880622000@mtwashumc.org
SUMMARY:Sunday Worship
DESCRIPTION:Join us in person or online for our Sunday morning blended worship\, where we will sing traditional hymns\, contemporary Christian music\, and hear a casual Pastor sermon. Coffee begins at 9:30. Children’s Sunday School is offered during worship\, designed for children from 3-12 years old. All are welcome!
URL:https://mtwashumc.org/event/sunday-worship/2029-08-05/
LOCATION:Mt. Washington United Methodist Church\, 6365 Corbly Rd.\, Cincinnati\, OH\, 45230\, United States
ATTACH;FMTTYPE=image/jpeg:https://mtwashumc.org/wp-content/uploads/2024/02/470846144_918608993733386_2914126562439977742_n.jpg
END:VEVENT
BEGIN:VEVENT
DTSTART;TZID=America/New_York:20290812T100000
DTEND;TZID=America/New_York:20290812T110000
DTSTAMP:20260419T144939
CREATED:20240207T033957Z
LAST-MODIFIED:20260309T175120Z
UID:10003140-1881223200-1881226800@mtwashumc.org
SUMMARY:Sunday Worship
DESCRIPTION:Join us in person or online for our Sunday morning blended worship\, where we will sing traditional hymns\, contemporary Christian music\, and hear a casual Pastor sermon. Coffee begins at 9:30. Children’s Sunday School is offered during worship\, designed for children from 3-12 years old. All are welcome!
URL:https://mtwashumc.org/event/sunday-worship/2029-08-12/
LOCATION:Mt. Washington United Methodist Church\, 6365 Corbly Rd.\, Cincinnati\, OH\, 45230\, United States
ATTACH;FMTTYPE=image/jpeg:https://mtwashumc.org/wp-content/uploads/2024/02/470846144_918608993733386_2914126562439977742_n.jpg
END:VEVENT
BEGIN:VEVENT
DTSTART;TZID=America/New_York:20290819T100000
DTEND;TZID=America/New_York:20290819T110000
DTSTAMP:20260419T144939
CREATED:20240207T033957Z
LAST-MODIFIED:20260309T175120Z
UID:10003141-1881828000-1881831600@mtwashumc.org
SUMMARY:Sunday Worship
DESCRIPTION:Join us in person or online for our Sunday morning blended worship\, where we will sing traditional hymns\, contemporary Christian music\, and hear a casual Pastor sermon. Coffee begins at 9:30. Children’s Sunday School is offered during worship\, designed for children from 3-12 years old. All are welcome!
URL:https://mtwashumc.org/event/sunday-worship/2029-08-19/
LOCATION:Mt. Washington United Methodist Church\, 6365 Corbly Rd.\, Cincinnati\, OH\, 45230\, United States
ATTACH;FMTTYPE=image/jpeg:https://mtwashumc.org/wp-content/uploads/2024/02/470846144_918608993733386_2914126562439977742_n.jpg
END:VEVENT
BEGIN:VEVENT
DTSTART;TZID=America/New_York:20290826T100000
DTEND;TZID=America/New_York:20290826T110000
DTSTAMP:20260419T144939
CREATED:20240207T033957Z
LAST-MODIFIED:20260309T175120Z
UID:10003142-1882432800-1882436400@mtwashumc.org
SUMMARY:Sunday Worship
DESCRIPTION:Join us in person or online for our Sunday morning blended worship\, where we will sing traditional hymns\, contemporary Christian music\, and hear a casual Pastor sermon. Coffee begins at 9:30. Children’s Sunday School is offered during worship\, designed for children from 3-12 years old. All are welcome!
URL:https://mtwashumc.org/event/sunday-worship/2029-08-26/
LOCATION:Mt. Washington United Methodist Church\, 6365 Corbly Rd.\, Cincinnati\, OH\, 45230\, United States
ATTACH;FMTTYPE=image/jpeg:https://mtwashumc.org/wp-content/uploads/2024/02/470846144_918608993733386_2914126562439977742_n.jpg
END:VEVENT
BEGIN:VEVENT
DTSTART;TZID=America/New_York:20290902T100000
DTEND;TZID=America/New_York:20290902T110000
DTSTAMP:20260419T144939
CREATED:20240207T033957Z
LAST-MODIFIED:20260309T175120Z
UID:10003143-1883037600-1883041200@mtwashumc.org
SUMMARY:Sunday Worship
DESCRIPTION:Join us in person or online for our Sunday morning blended worship\, where we will sing traditional hymns\, contemporary Christian music\, and hear a casual Pastor sermon. Coffee begins at 9:30. Children’s Sunday School is offered during worship\, designed for children from 3-12 years old. All are welcome!
URL:https://mtwashumc.org/event/sunday-worship/2029-09-02/
LOCATION:Mt. Washington United Methodist Church\, 6365 Corbly Rd.\, Cincinnati\, OH\, 45230\, United States
ATTACH;FMTTYPE=image/jpeg:https://mtwashumc.org/wp-content/uploads/2024/02/470846144_918608993733386_2914126562439977742_n.jpg
END:VEVENT
BEGIN:VEVENT
DTSTART;TZID=America/New_York:20290909T100000
DTEND;TZID=America/New_York:20290909T110000
DTSTAMP:20260419T144939
CREATED:20240207T033957Z
LAST-MODIFIED:20260309T175120Z
UID:10003144-1883642400-1883646000@mtwashumc.org
SUMMARY:Sunday Worship
DESCRIPTION:Join us in person or online for our Sunday morning blended worship\, where we will sing traditional hymns\, contemporary Christian music\, and hear a casual Pastor sermon. Coffee begins at 9:30. Children’s Sunday School is offered during worship\, designed for children from 3-12 years old. All are welcome!
URL:https://mtwashumc.org/event/sunday-worship/2029-09-09/
LOCATION:Mt. Washington United Methodist Church\, 6365 Corbly Rd.\, Cincinnati\, OH\, 45230\, United States
ATTACH;FMTTYPE=image/jpeg:https://mtwashumc.org/wp-content/uploads/2024/02/470846144_918608993733386_2914126562439977742_n.jpg
END:VEVENT
BEGIN:VEVENT
DTSTART;TZID=America/New_York:20290916T100000
DTEND;TZID=America/New_York:20290916T110000
DTSTAMP:20260419T144939
CREATED:20240207T033957Z
LAST-MODIFIED:20260309T175120Z
UID:10003145-1884247200-1884250800@mtwashumc.org
SUMMARY:Sunday Worship
DESCRIPTION:Join us in person or online for our Sunday morning blended worship\, where we will sing traditional hymns\, contemporary Christian music\, and hear a casual Pastor sermon. Coffee begins at 9:30. Children’s Sunday School is offered during worship\, designed for children from 3-12 years old. All are welcome!
URL:https://mtwashumc.org/event/sunday-worship/2029-09-16/
LOCATION:Mt. Washington United Methodist Church\, 6365 Corbly Rd.\, Cincinnati\, OH\, 45230\, United States
ATTACH;FMTTYPE=image/jpeg:https://mtwashumc.org/wp-content/uploads/2024/02/470846144_918608993733386_2914126562439977742_n.jpg
END:VEVENT
BEGIN:VEVENT
DTSTART;TZID=America/New_York:20290923T100000
DTEND;TZID=America/New_York:20290923T110000
DTSTAMP:20260419T144939
CREATED:20240207T033957Z
LAST-MODIFIED:20260309T175120Z
UID:10003146-1884852000-1884855600@mtwashumc.org
SUMMARY:Sunday Worship
DESCRIPTION:Join us in person or online for our Sunday morning blended worship\, where we will sing traditional hymns\, contemporary Christian music\, and hear a casual Pastor sermon. Coffee begins at 9:30. Children’s Sunday School is offered during worship\, designed for children from 3-12 years old. All are welcome!
URL:https://mtwashumc.org/event/sunday-worship/2029-09-23/
LOCATION:Mt. Washington United Methodist Church\, 6365 Corbly Rd.\, Cincinnati\, OH\, 45230\, United States
ATTACH;FMTTYPE=image/jpeg:https://mtwashumc.org/wp-content/uploads/2024/02/470846144_918608993733386_2914126562439977742_n.jpg
END:VEVENT
BEGIN:VEVENT
DTSTART;TZID=America/New_York:20290930T100000
DTEND;TZID=America/New_York:20290930T110000
DTSTAMP:20260419T144939
CREATED:20240207T033957Z
LAST-MODIFIED:20260309T175120Z
UID:10003147-1885456800-1885460400@mtwashumc.org
SUMMARY:Sunday Worship
DESCRIPTION:Join us in person or online for our Sunday morning blended worship\, where we will sing traditional hymns\, contemporary Christian music\, and hear a casual Pastor sermon. Coffee begins at 9:30. Children’s Sunday School is offered during worship\, designed for children from 3-12 years old. All are welcome!
URL:https://mtwashumc.org/event/sunday-worship/2029-09-30/
LOCATION:Mt. Washington United Methodist Church\, 6365 Corbly Rd.\, Cincinnati\, OH\, 45230\, United States
ATTACH;FMTTYPE=image/jpeg:https://mtwashumc.org/wp-content/uploads/2024/02/470846144_918608993733386_2914126562439977742_n.jpg
END:VEVENT
BEGIN:VEVENT
DTSTART;TZID=America/New_York:20291007T100000
DTEND;TZID=America/New_York:20291007T110000
DTSTAMP:20260419T144939
CREATED:20240207T033957Z
LAST-MODIFIED:20260309T175120Z
UID:10003148-1886061600-1886065200@mtwashumc.org
SUMMARY:Sunday Worship
DESCRIPTION:Join us in person or online for our Sunday morning blended worship\, where we will sing traditional hymns\, contemporary Christian music\, and hear a casual Pastor sermon. Coffee begins at 9:30. Children’s Sunday School is offered during worship\, designed for children from 3-12 years old. All are welcome!
URL:https://mtwashumc.org/event/sunday-worship/2029-10-07/
LOCATION:Mt. Washington United Methodist Church\, 6365 Corbly Rd.\, Cincinnati\, OH\, 45230\, United States
ATTACH;FMTTYPE=image/jpeg:https://mtwashumc.org/wp-content/uploads/2024/02/470846144_918608993733386_2914126562439977742_n.jpg
END:VEVENT
BEGIN:VEVENT
DTSTART;TZID=America/New_York:20291014T100000
DTEND;TZID=America/New_York:20291014T110000
DTSTAMP:20260419T144939
CREATED:20240207T033957Z
LAST-MODIFIED:20260309T175120Z
UID:10003149-1886666400-1886670000@mtwashumc.org
SUMMARY:Sunday Worship
DESCRIPTION:Join us in person or online for our Sunday morning blended worship\, where we will sing traditional hymns\, contemporary Christian music\, and hear a casual Pastor sermon. Coffee begins at 9:30. Children’s Sunday School is offered during worship\, designed for children from 3-12 years old. All are welcome!
URL:https://mtwashumc.org/event/sunday-worship/2029-10-14/
LOCATION:Mt. Washington United Methodist Church\, 6365 Corbly Rd.\, Cincinnati\, OH\, 45230\, United States
ATTACH;FMTTYPE=image/jpeg:https://mtwashumc.org/wp-content/uploads/2024/02/470846144_918608993733386_2914126562439977742_n.jpg
END:VEVENT
END:VCALENDAR