BEGIN:VCALENDAR
VERSION:2.0
PRODID:-//Mt. Washington United Methodist Church - ECPv6.15.20//NONSGML v1.0//EN
CALSCALE:GREGORIAN
METHOD:PUBLISH
X-ORIGINAL-URL:https://mtwashumc.org
X-WR-CALDESC:Events for Mt. Washington United Methodist Church
REFRESH-INTERVAL;VALUE=DURATION:PT1H
X-Robots-Tag:noindex
X-PUBLISHED-TTL:PT1H
BEGIN:VTIMEZONE
TZID:America/New_York
BEGIN:DAYLIGHT
TZOFFSETFROM:-0500
TZOFFSETTO:-0400
TZNAME:EDT
DTSTART:20230312T070000
END:DAYLIGHT
BEGIN:STANDARD
TZOFFSETFROM:-0400
TZOFFSETTO:-0500
TZNAME:EST
DTSTART:20231105T060000
END:STANDARD
BEGIN:DAYLIGHT
TZOFFSETFROM:-0500
TZOFFSETTO:-0400
TZNAME:EDT
DTSTART:20240310T070000
END:DAYLIGHT
BEGIN:STANDARD
TZOFFSETFROM:-0400
TZOFFSETTO:-0500
TZNAME:EST
DTSTART:20241103T060000
END:STANDARD
BEGIN:DAYLIGHT
TZOFFSETFROM:-0500
TZOFFSETTO:-0400
TZNAME:EDT
DTSTART:20250309T070000
END:DAYLIGHT
BEGIN:STANDARD
TZOFFSETFROM:-0400
TZOFFSETTO:-0500
TZNAME:EST
DTSTART:20251102T060000
END:STANDARD
END:VTIMEZONE
BEGIN:VEVENT
DTSTART;TZID=America/New_York:20240729T110000
DTEND;TZID=America/New_York:20240729T113000
DTSTAMP:20260420T014003
CREATED:20240207T003708Z
LAST-MODIFIED:20240914T031517Z
UID:10003058-1722250800-1722252600@mtwashumc.org
SUMMARY:Chair Exercise
DESCRIPTION:Our chair exercise group meets twice weekly and shares great laughs and fellowship while safely exercising while sitting\, including the most popular beach ball exercise. \nThere’s no telling what this group will do after exercise- from enjoying homemade cheesecakes to Tea Time with special orange peel tea from China\, this group is always up to something. \nYou’re invited to join them\, no gym membership required!
URL:https://mtwashumc.org/event/chair-exercise/2024-07-29/
LOCATION:Mt. Washington United Methodist Church\, 6365 Corbly Rd.\, Cincinnati\, OH\, 45230\, United States
ATTACH;FMTTYPE=image/jpeg:https://mtwashumc.org/wp-content/uploads/2023/02/IMG-4426-scaled-e1676166492122.jpg
END:VEVENT
BEGIN:VEVENT
DTSTART;TZID=America/New_York:20240728T180000
DTEND;TZID=America/New_York:20240728T193000
DTSTAMP:20260420T014003
CREATED:20240724T182519Z
LAST-MODIFIED:20240724T182519Z
UID:10002990-1722189600-1722195000@mtwashumc.org
SUMMARY:Vacation Bible Experience- Break Out!
DESCRIPTION:All the youth in the community\, ages 5-12ish\, are invited to our popular Vacation Bible Experience\, which is themed this year to an Escape Room. \nThe children will learn that God breaks us out of the ordinary to give us something extraordinary. They’ll learn this through bible stories\, a snack\, arts/crafts and music. \nThe first night we start with a pizza party at 5:30\, the remaining nights start at 6. \nLed by Sunday School teachers Joyce Peters and Mikayla Dimmitt\, with help from Revered Jeaninne Walker. Register with the church at office@mtwashumc.org or 513-231-2946.
URL:https://mtwashumc.org/event/vacation-bible-experience-break-out/2024-07-28/
LOCATION:Mt. Washington United Methodist Church\, 6365 Corbly Rd.\, Cincinnati\, OH\, 45230\, United States
ATTACH;FMTTYPE=image/jpeg:https://mtwashumc.org/wp-content/uploads/2024/07/fbbaner_opt2.jpg
END:VEVENT
BEGIN:VEVENT
DTSTART;TZID=America/New_York:20240728T173000
DTEND;TZID=America/New_York:20240728T183000
DTSTAMP:20260420T014003
CREATED:20240724T023620Z
LAST-MODIFIED:20240724T023705Z
UID:10002989-1722187800-1722191400@mtwashumc.org
SUMMARY:Dinner Church- Pizza & Salad
DESCRIPTION:This month we will offer pizza & salad\, also breadsticks\, several desserts and many beverages. \nChidren are encouraged to stay after their meal for our VBS- Break Out!- Which will run from 6:00 7:30 and continue through Wednesday. \nFree. Kid-friendly. All are welcome.
URL:https://mtwashumc.org/event/dinner-church-pizza-salad/
LOCATION:Mt. Washington United Methodist Church\, 6365 Corbly Rd.\, Cincinnati\, OH\, 45230\, United States
ATTACH;FMTTYPE=image/jpeg:https://mtwashumc.org/wp-content/uploads/2024/07/Simple-Italian-Chopped-Salad-10-of-11.jpg
END:VEVENT
BEGIN:VEVENT
DTSTART;TZID=America/New_York:20240728T100000
DTEND;TZID=America/New_York:20240728T110000
DTSTAMP:20260420T014003
CREATED:20240207T033957Z
LAST-MODIFIED:20260309T175120Z
UID:10002738-1722160800-1722164400@mtwashumc.org
SUMMARY:Sunday Worship
DESCRIPTION:Join us in person or online for our Sunday morning blended worship\, where we will sing traditional hymns\, contemporary Christian music\, and hear a casual Pastor sermon. Coffee begins at 9:30. Children’s Sunday School is offered during worship\, designed for children from 3-12 years old. All are welcome!
URL:https://mtwashumc.org/event/sunday-worship/2024-07-28/
LOCATION:Mt. Washington United Methodist Church\, 6365 Corbly Rd.\, Cincinnati\, OH\, 45230\, United States
ATTACH;FMTTYPE=image/jpeg:https://mtwashumc.org/wp-content/uploads/2024/02/470846144_918608993733386_2914126562439977742_n.jpg
END:VEVENT
BEGIN:VEVENT
DTSTART;TZID=America/New_York:20240724T110000
DTEND;TZID=America/New_York:20240724T113000
DTSTAMP:20260420T014003
CREATED:20240207T003708Z
LAST-MODIFIED:20240914T031517Z
UID:10003057-1721818800-1721820600@mtwashumc.org
SUMMARY:Chair Exercise
DESCRIPTION:Our chair exercise group meets twice weekly and shares great laughs and fellowship while safely exercising while sitting\, including the most popular beach ball exercise. \nThere’s no telling what this group will do after exercise- from enjoying homemade cheesecakes to Tea Time with special orange peel tea from China\, this group is always up to something. \nYou’re invited to join them\, no gym membership required!
URL:https://mtwashumc.org/event/chair-exercise/2024-07-24/
LOCATION:Mt. Washington United Methodist Church\, 6365 Corbly Rd.\, Cincinnati\, OH\, 45230\, United States
ATTACH;FMTTYPE=image/jpeg:https://mtwashumc.org/wp-content/uploads/2023/02/IMG-4426-scaled-e1676166492122.jpg
END:VEVENT
BEGIN:VEVENT
DTSTART;TZID=America/New_York:20240722T110000
DTEND;TZID=America/New_York:20240722T113000
DTSTAMP:20260420T014003
CREATED:20240207T003708Z
LAST-MODIFIED:20240914T031517Z
UID:10003056-1721646000-1721647800@mtwashumc.org
SUMMARY:Chair Exercise
DESCRIPTION:Our chair exercise group meets twice weekly and shares great laughs and fellowship while safely exercising while sitting\, including the most popular beach ball exercise. \nThere’s no telling what this group will do after exercise- from enjoying homemade cheesecakes to Tea Time with special orange peel tea from China\, this group is always up to something. \nYou’re invited to join them\, no gym membership required!
URL:https://mtwashumc.org/event/chair-exercise/2024-07-22/
LOCATION:Mt. Washington United Methodist Church\, 6365 Corbly Rd.\, Cincinnati\, OH\, 45230\, United States
ATTACH;FMTTYPE=image/jpeg:https://mtwashumc.org/wp-content/uploads/2023/02/IMG-4426-scaled-e1676166492122.jpg
END:VEVENT
BEGIN:VEVENT
DTSTART;TZID=America/New_York:20240721T100000
DTEND;TZID=America/New_York:20240721T110000
DTSTAMP:20260420T014004
CREATED:20240207T033957Z
LAST-MODIFIED:20260309T175120Z
UID:10002737-1721556000-1721559600@mtwashumc.org
SUMMARY:Sunday Worship
DESCRIPTION:Join us in person or online for our Sunday morning blended worship\, where we will sing traditional hymns\, contemporary Christian music\, and hear a casual Pastor sermon. Coffee begins at 9:30. Children’s Sunday School is offered during worship\, designed for children from 3-12 years old. All are welcome!
URL:https://mtwashumc.org/event/sunday-worship/2024-07-21/
LOCATION:Mt. Washington United Methodist Church\, 6365 Corbly Rd.\, Cincinnati\, OH\, 45230\, United States
ATTACH;FMTTYPE=image/jpeg:https://mtwashumc.org/wp-content/uploads/2024/02/470846144_918608993733386_2914126562439977742_n.jpg
END:VEVENT
BEGIN:VEVENT
DTSTART;TZID=America/New_York:20240717T110000
DTEND;TZID=America/New_York:20240717T113000
DTSTAMP:20260420T014004
CREATED:20240207T003708Z
LAST-MODIFIED:20240914T031517Z
UID:10003055-1721214000-1721215800@mtwashumc.org
SUMMARY:Chair Exercise
DESCRIPTION:Our chair exercise group meets twice weekly and shares great laughs and fellowship while safely exercising while sitting\, including the most popular beach ball exercise. \nThere’s no telling what this group will do after exercise- from enjoying homemade cheesecakes to Tea Time with special orange peel tea from China\, this group is always up to something. \nYou’re invited to join them\, no gym membership required!
URL:https://mtwashumc.org/event/chair-exercise/2024-07-17/
LOCATION:Mt. Washington United Methodist Church\, 6365 Corbly Rd.\, Cincinnati\, OH\, 45230\, United States
ATTACH;FMTTYPE=image/jpeg:https://mtwashumc.org/wp-content/uploads/2023/02/IMG-4426-scaled-e1676166492122.jpg
END:VEVENT
BEGIN:VEVENT
DTSTART;TZID=America/New_York:20240715T110000
DTEND;TZID=America/New_York:20240715T113000
DTSTAMP:20260420T014004
CREATED:20240207T003708Z
LAST-MODIFIED:20240914T031517Z
UID:10002203-1721041200-1721043000@mtwashumc.org
SUMMARY:Chair Exercise
DESCRIPTION:Our chair exercise group meets twice weekly and shares great laughs and fellowship while safely exercising while sitting\, including the most popular beach ball exercise. \nThere’s no telling what this group will do after exercise- from enjoying homemade cheesecakes to Tea Time with special orange peel tea from China\, this group is always up to something. \nYou’re invited to join them\, no gym membership required!
URL:https://mtwashumc.org/event/chair-exercise/2024-07-15/
LOCATION:Mt. Washington United Methodist Church\, 6365 Corbly Rd.\, Cincinnati\, OH\, 45230\, United States
ATTACH;FMTTYPE=image/jpeg:https://mtwashumc.org/wp-content/uploads/2023/02/IMG-4426-scaled-e1676166492122.jpg
END:VEVENT
BEGIN:VEVENT
DTSTART;TZID=America/New_York:20240714T100000
DTEND;TZID=America/New_York:20240714T110000
DTSTAMP:20260420T014004
CREATED:20240207T033957Z
LAST-MODIFIED:20260309T175120Z
UID:10002736-1720951200-1720954800@mtwashumc.org
SUMMARY:Sunday Worship
DESCRIPTION:Join us in person or online for our Sunday morning blended worship\, where we will sing traditional hymns\, contemporary Christian music\, and hear a casual Pastor sermon. Coffee begins at 9:30. Children’s Sunday School is offered during worship\, designed for children from 3-12 years old. All are welcome!
URL:https://mtwashumc.org/event/sunday-worship/2024-07-14/
LOCATION:Mt. Washington United Methodist Church\, 6365 Corbly Rd.\, Cincinnati\, OH\, 45230\, United States
ATTACH;FMTTYPE=image/jpeg:https://mtwashumc.org/wp-content/uploads/2024/02/470846144_918608993733386_2914126562439977742_n.jpg
END:VEVENT
BEGIN:VEVENT
DTSTART;TZID=America/New_York:20240710T110000
DTEND;TZID=America/New_York:20240710T113000
DTSTAMP:20260420T014004
CREATED:20240207T003708Z
LAST-MODIFIED:20240914T031517Z
UID:10002202-1720609200-1720611000@mtwashumc.org
SUMMARY:Chair Exercise
DESCRIPTION:Our chair exercise group meets twice weekly and shares great laughs and fellowship while safely exercising while sitting\, including the most popular beach ball exercise. \nThere’s no telling what this group will do after exercise- from enjoying homemade cheesecakes to Tea Time with special orange peel tea from China\, this group is always up to something. \nYou’re invited to join them\, no gym membership required!
URL:https://mtwashumc.org/event/chair-exercise/2024-07-10/
LOCATION:Mt. Washington United Methodist Church\, 6365 Corbly Rd.\, Cincinnati\, OH\, 45230\, United States
ATTACH;FMTTYPE=image/jpeg:https://mtwashumc.org/wp-content/uploads/2023/02/IMG-4426-scaled-e1676166492122.jpg
END:VEVENT
BEGIN:VEVENT
DTSTART;TZID=America/New_York:20240708T110000
DTEND;TZID=America/New_York:20240708T113000
DTSTAMP:20260420T014004
CREATED:20240207T003708Z
LAST-MODIFIED:20240914T031517Z
UID:10002201-1720436400-1720438200@mtwashumc.org
SUMMARY:Chair Exercise
DESCRIPTION:Our chair exercise group meets twice weekly and shares great laughs and fellowship while safely exercising while sitting\, including the most popular beach ball exercise. \nThere’s no telling what this group will do after exercise- from enjoying homemade cheesecakes to Tea Time with special orange peel tea from China\, this group is always up to something. \nYou’re invited to join them\, no gym membership required!
URL:https://mtwashumc.org/event/chair-exercise/2024-07-08/
LOCATION:Mt. Washington United Methodist Church\, 6365 Corbly Rd.\, Cincinnati\, OH\, 45230\, United States
ATTACH;FMTTYPE=image/jpeg:https://mtwashumc.org/wp-content/uploads/2023/02/IMG-4426-scaled-e1676166492122.jpg
END:VEVENT
BEGIN:VEVENT
DTSTART;TZID=America/New_York:20240707T100000
DTEND;TZID=America/New_York:20240707T110000
DTSTAMP:20260420T014004
CREATED:20240207T033957Z
LAST-MODIFIED:20260309T175120Z
UID:10002735-1720346400-1720350000@mtwashumc.org
SUMMARY:Sunday Worship
DESCRIPTION:Join us in person or online for our Sunday morning blended worship\, where we will sing traditional hymns\, contemporary Christian music\, and hear a casual Pastor sermon. Coffee begins at 9:30. Children’s Sunday School is offered during worship\, designed for children from 3-12 years old. All are welcome!
URL:https://mtwashumc.org/event/sunday-worship/2024-07-07/
LOCATION:Mt. Washington United Methodist Church\, 6365 Corbly Rd.\, Cincinnati\, OH\, 45230\, United States
ATTACH;FMTTYPE=image/jpeg:https://mtwashumc.org/wp-content/uploads/2024/02/470846144_918608993733386_2914126562439977742_n.jpg
END:VEVENT
BEGIN:VEVENT
DTSTART;TZID=America/New_York:20240703T110000
DTEND;TZID=America/New_York:20240703T113000
DTSTAMP:20260420T014004
CREATED:20240207T003708Z
LAST-MODIFIED:20240914T031517Z
UID:10002200-1720004400-1720006200@mtwashumc.org
SUMMARY:Chair Exercise
DESCRIPTION:Our chair exercise group meets twice weekly and shares great laughs and fellowship while safely exercising while sitting\, including the most popular beach ball exercise. \nThere’s no telling what this group will do after exercise- from enjoying homemade cheesecakes to Tea Time with special orange peel tea from China\, this group is always up to something. \nYou’re invited to join them\, no gym membership required!
URL:https://mtwashumc.org/event/chair-exercise/2024-07-03/
LOCATION:Mt. Washington United Methodist Church\, 6365 Corbly Rd.\, Cincinnati\, OH\, 45230\, United States
ATTACH;FMTTYPE=image/jpeg:https://mtwashumc.org/wp-content/uploads/2023/02/IMG-4426-scaled-e1676166492122.jpg
END:VEVENT
BEGIN:VEVENT
DTSTART;TZID=America/New_York:20240701T110000
DTEND;TZID=America/New_York:20240701T113000
DTSTAMP:20260420T014004
CREATED:20240207T003708Z
LAST-MODIFIED:20240914T031517Z
UID:10002199-1719831600-1719833400@mtwashumc.org
SUMMARY:Chair Exercise
DESCRIPTION:Our chair exercise group meets twice weekly and shares great laughs and fellowship while safely exercising while sitting\, including the most popular beach ball exercise. \nThere’s no telling what this group will do after exercise- from enjoying homemade cheesecakes to Tea Time with special orange peel tea from China\, this group is always up to something. \nYou’re invited to join them\, no gym membership required!
URL:https://mtwashumc.org/event/chair-exercise/2024-07-01/
LOCATION:Mt. Washington United Methodist Church\, 6365 Corbly Rd.\, Cincinnati\, OH\, 45230\, United States
ATTACH;FMTTYPE=image/jpeg:https://mtwashumc.org/wp-content/uploads/2023/02/IMG-4426-scaled-e1676166492122.jpg
END:VEVENT
BEGIN:VEVENT
DTSTART;TZID=America/New_York:20240630T100000
DTEND;TZID=America/New_York:20240630T110000
DTSTAMP:20260420T014004
CREATED:20240207T033957Z
LAST-MODIFIED:20260309T175120Z
UID:10002734-1719741600-1719745200@mtwashumc.org
SUMMARY:Sunday Worship
DESCRIPTION:Join us in person or online for our Sunday morning blended worship\, where we will sing traditional hymns\, contemporary Christian music\, and hear a casual Pastor sermon. Coffee begins at 9:30. Children’s Sunday School is offered during worship\, designed for children from 3-12 years old. All are welcome!
URL:https://mtwashumc.org/event/sunday-worship/2024-06-30/
LOCATION:Mt. Washington United Methodist Church\, 6365 Corbly Rd.\, Cincinnati\, OH\, 45230\, United States
ATTACH;FMTTYPE=image/jpeg:https://mtwashumc.org/wp-content/uploads/2024/02/470846144_918608993733386_2914126562439977742_n.jpg
END:VEVENT
BEGIN:VEVENT
DTSTART;TZID=America/New_York:20240626T110000
DTEND;TZID=America/New_York:20240626T113000
DTSTAMP:20260420T014004
CREATED:20240207T003708Z
LAST-MODIFIED:20240914T031517Z
UID:10002198-1719399600-1719401400@mtwashumc.org
SUMMARY:Chair Exercise
DESCRIPTION:Our chair exercise group meets twice weekly and shares great laughs and fellowship while safely exercising while sitting\, including the most popular beach ball exercise. \nThere’s no telling what this group will do after exercise- from enjoying homemade cheesecakes to Tea Time with special orange peel tea from China\, this group is always up to something. \nYou’re invited to join them\, no gym membership required!
URL:https://mtwashumc.org/event/chair-exercise/2024-06-26/
LOCATION:Mt. Washington United Methodist Church\, 6365 Corbly Rd.\, Cincinnati\, OH\, 45230\, United States
ATTACH;FMTTYPE=image/jpeg:https://mtwashumc.org/wp-content/uploads/2023/02/IMG-4426-scaled-e1676166492122.jpg
END:VEVENT
BEGIN:VEVENT
DTSTART;TZID=America/New_York:20240624T110000
DTEND;TZID=America/New_York:20240624T113000
DTSTAMP:20260420T014004
CREATED:20240207T003708Z
LAST-MODIFIED:20240914T031517Z
UID:10002197-1719226800-1719228600@mtwashumc.org
SUMMARY:Chair Exercise
DESCRIPTION:Our chair exercise group meets twice weekly and shares great laughs and fellowship while safely exercising while sitting\, including the most popular beach ball exercise. \nThere’s no telling what this group will do after exercise- from enjoying homemade cheesecakes to Tea Time with special orange peel tea from China\, this group is always up to something. \nYou’re invited to join them\, no gym membership required!
URL:https://mtwashumc.org/event/chair-exercise/2024-06-24/
LOCATION:Mt. Washington United Methodist Church\, 6365 Corbly Rd.\, Cincinnati\, OH\, 45230\, United States
ATTACH;FMTTYPE=image/jpeg:https://mtwashumc.org/wp-content/uploads/2023/02/IMG-4426-scaled-e1676166492122.jpg
END:VEVENT
BEGIN:VEVENT
DTSTART;TZID=America/New_York:20240623T100000
DTEND;TZID=America/New_York:20240623T110000
DTSTAMP:20260420T014004
CREATED:20240207T033957Z
LAST-MODIFIED:20260309T175120Z
UID:10002733-1719136800-1719140400@mtwashumc.org
SUMMARY:Sunday Worship
DESCRIPTION:Join us in person or online for our Sunday morning blended worship\, where we will sing traditional hymns\, contemporary Christian music\, and hear a casual Pastor sermon. Coffee begins at 9:30. Children’s Sunday School is offered during worship\, designed for children from 3-12 years old. All are welcome!
URL:https://mtwashumc.org/event/sunday-worship/2024-06-23/
LOCATION:Mt. Washington United Methodist Church\, 6365 Corbly Rd.\, Cincinnati\, OH\, 45230\, United States
ATTACH;FMTTYPE=image/jpeg:https://mtwashumc.org/wp-content/uploads/2024/02/470846144_918608993733386_2914126562439977742_n.jpg
END:VEVENT
BEGIN:VEVENT
DTSTART;TZID=America/New_York:20240619T110000
DTEND;TZID=America/New_York:20240619T113000
DTSTAMP:20260420T014004
CREATED:20240207T003708Z
LAST-MODIFIED:20240914T031517Z
UID:10002196-1718794800-1718796600@mtwashumc.org
SUMMARY:Chair Exercise
DESCRIPTION:Our chair exercise group meets twice weekly and shares great laughs and fellowship while safely exercising while sitting\, including the most popular beach ball exercise. \nThere’s no telling what this group will do after exercise- from enjoying homemade cheesecakes to Tea Time with special orange peel tea from China\, this group is always up to something. \nYou’re invited to join them\, no gym membership required!
URL:https://mtwashumc.org/event/chair-exercise/2024-06-19/
LOCATION:Mt. Washington United Methodist Church\, 6365 Corbly Rd.\, Cincinnati\, OH\, 45230\, United States
ATTACH;FMTTYPE=image/jpeg:https://mtwashumc.org/wp-content/uploads/2023/02/IMG-4426-scaled-e1676166492122.jpg
END:VEVENT
BEGIN:VEVENT
DTSTART;TZID=America/New_York:20240617T110000
DTEND;TZID=America/New_York:20240617T113000
DTSTAMP:20260420T014004
CREATED:20240207T003708Z
LAST-MODIFIED:20240914T031517Z
UID:10002195-1718622000-1718623800@mtwashumc.org
SUMMARY:Chair Exercise
DESCRIPTION:Our chair exercise group meets twice weekly and shares great laughs and fellowship while safely exercising while sitting\, including the most popular beach ball exercise. \nThere’s no telling what this group will do after exercise- from enjoying homemade cheesecakes to Tea Time with special orange peel tea from China\, this group is always up to something. \nYou’re invited to join them\, no gym membership required!
URL:https://mtwashumc.org/event/chair-exercise/2024-06-17/
LOCATION:Mt. Washington United Methodist Church\, 6365 Corbly Rd.\, Cincinnati\, OH\, 45230\, United States
ATTACH;FMTTYPE=image/jpeg:https://mtwashumc.org/wp-content/uploads/2023/02/IMG-4426-scaled-e1676166492122.jpg
END:VEVENT
BEGIN:VEVENT
DTSTART;TZID=America/New_York:20240616T100000
DTEND;TZID=America/New_York:20240616T110000
DTSTAMP:20260420T014004
CREATED:20240207T033957Z
LAST-MODIFIED:20260309T175120Z
UID:10002732-1718532000-1718535600@mtwashumc.org
SUMMARY:Sunday Worship
DESCRIPTION:Join us in person or online for our Sunday morning blended worship\, where we will sing traditional hymns\, contemporary Christian music\, and hear a casual Pastor sermon. Coffee begins at 9:30. Children’s Sunday School is offered during worship\, designed for children from 3-12 years old. All are welcome!
URL:https://mtwashumc.org/event/sunday-worship/2024-06-16/
LOCATION:Mt. Washington United Methodist Church\, 6365 Corbly Rd.\, Cincinnati\, OH\, 45230\, United States
ATTACH;FMTTYPE=image/jpeg:https://mtwashumc.org/wp-content/uploads/2024/02/470846144_918608993733386_2914126562439977742_n.jpg
END:VEVENT
BEGIN:VEVENT
DTSTART;TZID=America/New_York:20240612T110000
DTEND;TZID=America/New_York:20240612T113000
DTSTAMP:20260420T014004
CREATED:20240207T003708Z
LAST-MODIFIED:20240914T031517Z
UID:10002194-1718190000-1718191800@mtwashumc.org
SUMMARY:Chair Exercise
DESCRIPTION:Our chair exercise group meets twice weekly and shares great laughs and fellowship while safely exercising while sitting\, including the most popular beach ball exercise. \nThere’s no telling what this group will do after exercise- from enjoying homemade cheesecakes to Tea Time with special orange peel tea from China\, this group is always up to something. \nYou’re invited to join them\, no gym membership required!
URL:https://mtwashumc.org/event/chair-exercise/2024-06-12/
LOCATION:Mt. Washington United Methodist Church\, 6365 Corbly Rd.\, Cincinnati\, OH\, 45230\, United States
ATTACH;FMTTYPE=image/jpeg:https://mtwashumc.org/wp-content/uploads/2023/02/IMG-4426-scaled-e1676166492122.jpg
END:VEVENT
BEGIN:VEVENT
DTSTART;TZID=America/New_York:20240610T110000
DTEND;TZID=America/New_York:20240610T113000
DTSTAMP:20260420T014004
CREATED:20240207T003708Z
LAST-MODIFIED:20240914T031517Z
UID:10002193-1718017200-1718019000@mtwashumc.org
SUMMARY:Chair Exercise
DESCRIPTION:Our chair exercise group meets twice weekly and shares great laughs and fellowship while safely exercising while sitting\, including the most popular beach ball exercise. \nThere’s no telling what this group will do after exercise- from enjoying homemade cheesecakes to Tea Time with special orange peel tea from China\, this group is always up to something. \nYou’re invited to join them\, no gym membership required!
URL:https://mtwashumc.org/event/chair-exercise/2024-06-10/
LOCATION:Mt. Washington United Methodist Church\, 6365 Corbly Rd.\, Cincinnati\, OH\, 45230\, United States
ATTACH;FMTTYPE=image/jpeg:https://mtwashumc.org/wp-content/uploads/2023/02/IMG-4426-scaled-e1676166492122.jpg
END:VEVENT
BEGIN:VEVENT
DTSTART;TZID=America/New_York:20240609T100000
DTEND;TZID=America/New_York:20240609T110000
DTSTAMP:20260420T014004
CREATED:20240207T033957Z
LAST-MODIFIED:20260309T175120Z
UID:10002731-1717927200-1717930800@mtwashumc.org
SUMMARY:Sunday Worship
DESCRIPTION:Join us in person or online for our Sunday morning blended worship\, where we will sing traditional hymns\, contemporary Christian music\, and hear a casual Pastor sermon. Coffee begins at 9:30. Children’s Sunday School is offered during worship\, designed for children from 3-12 years old. All are welcome!
URL:https://mtwashumc.org/event/sunday-worship/2024-06-09/
LOCATION:Mt. Washington United Methodist Church\, 6365 Corbly Rd.\, Cincinnati\, OH\, 45230\, United States
ATTACH;FMTTYPE=image/jpeg:https://mtwashumc.org/wp-content/uploads/2024/02/470846144_918608993733386_2914126562439977742_n.jpg
END:VEVENT
BEGIN:VEVENT
DTSTART;TZID=America/New_York:20240605T110000
DTEND;TZID=America/New_York:20240605T113000
DTSTAMP:20260420T014004
CREATED:20240207T003708Z
LAST-MODIFIED:20240914T031517Z
UID:10002192-1717585200-1717587000@mtwashumc.org
SUMMARY:Chair Exercise
DESCRIPTION:Our chair exercise group meets twice weekly and shares great laughs and fellowship while safely exercising while sitting\, including the most popular beach ball exercise. \nThere’s no telling what this group will do after exercise- from enjoying homemade cheesecakes to Tea Time with special orange peel tea from China\, this group is always up to something. \nYou’re invited to join them\, no gym membership required!
URL:https://mtwashumc.org/event/chair-exercise/2024-06-05/
LOCATION:Mt. Washington United Methodist Church\, 6365 Corbly Rd.\, Cincinnati\, OH\, 45230\, United States
ATTACH;FMTTYPE=image/jpeg:https://mtwashumc.org/wp-content/uploads/2023/02/IMG-4426-scaled-e1676166492122.jpg
END:VEVENT
BEGIN:VEVENT
DTSTART;TZID=America/New_York:20240603T110000
DTEND;TZID=America/New_York:20240603T113000
DTSTAMP:20260420T014004
CREATED:20240207T003708Z
LAST-MODIFIED:20240914T031517Z
UID:10002191-1717412400-1717414200@mtwashumc.org
SUMMARY:Chair Exercise
DESCRIPTION:Our chair exercise group meets twice weekly and shares great laughs and fellowship while safely exercising while sitting\, including the most popular beach ball exercise. \nThere’s no telling what this group will do after exercise- from enjoying homemade cheesecakes to Tea Time with special orange peel tea from China\, this group is always up to something. \nYou’re invited to join them\, no gym membership required!
URL:https://mtwashumc.org/event/chair-exercise/2024-06-03/
LOCATION:Mt. Washington United Methodist Church\, 6365 Corbly Rd.\, Cincinnati\, OH\, 45230\, United States
ATTACH;FMTTYPE=image/jpeg:https://mtwashumc.org/wp-content/uploads/2023/02/IMG-4426-scaled-e1676166492122.jpg
END:VEVENT
BEGIN:VEVENT
DTSTART;TZID=America/New_York:20240602T100000
DTEND;TZID=America/New_York:20240602T110000
DTSTAMP:20260420T014004
CREATED:20240207T033957Z
LAST-MODIFIED:20260309T175120Z
UID:10002730-1717322400-1717326000@mtwashumc.org
SUMMARY:Sunday Worship
DESCRIPTION:Join us in person or online for our Sunday morning blended worship\, where we will sing traditional hymns\, contemporary Christian music\, and hear a casual Pastor sermon. Coffee begins at 9:30. Children’s Sunday School is offered during worship\, designed for children from 3-12 years old. All are welcome!
URL:https://mtwashumc.org/event/sunday-worship/2024-06-02/
LOCATION:Mt. Washington United Methodist Church\, 6365 Corbly Rd.\, Cincinnati\, OH\, 45230\, United States
ATTACH;FMTTYPE=image/jpeg:https://mtwashumc.org/wp-content/uploads/2024/02/470846144_918608993733386_2914126562439977742_n.jpg
END:VEVENT
BEGIN:VEVENT
DTSTART;TZID=America/New_York:20240529T110000
DTEND;TZID=America/New_York:20240529T113000
DTSTAMP:20260420T014004
CREATED:20240207T003708Z
LAST-MODIFIED:20240914T031517Z
UID:10002190-1716980400-1716982200@mtwashumc.org
SUMMARY:Chair Exercise
DESCRIPTION:Our chair exercise group meets twice weekly and shares great laughs and fellowship while safely exercising while sitting\, including the most popular beach ball exercise. \nThere’s no telling what this group will do after exercise- from enjoying homemade cheesecakes to Tea Time with special orange peel tea from China\, this group is always up to something. \nYou’re invited to join them\, no gym membership required!
URL:https://mtwashumc.org/event/chair-exercise/2024-05-29/
LOCATION:Mt. Washington United Methodist Church\, 6365 Corbly Rd.\, Cincinnati\, OH\, 45230\, United States
ATTACH;FMTTYPE=image/jpeg:https://mtwashumc.org/wp-content/uploads/2023/02/IMG-4426-scaled-e1676166492122.jpg
END:VEVENT
BEGIN:VEVENT
DTSTART;TZID=America/New_York:20240527T110000
DTEND;TZID=America/New_York:20240527T113000
DTSTAMP:20260420T014004
CREATED:20240207T003708Z
LAST-MODIFIED:20240914T031517Z
UID:10002189-1716807600-1716809400@mtwashumc.org
SUMMARY:Chair Exercise
DESCRIPTION:Our chair exercise group meets twice weekly and shares great laughs and fellowship while safely exercising while sitting\, including the most popular beach ball exercise. \nThere’s no telling what this group will do after exercise- from enjoying homemade cheesecakes to Tea Time with special orange peel tea from China\, this group is always up to something. \nYou’re invited to join them\, no gym membership required!
URL:https://mtwashumc.org/event/chair-exercise/2024-05-27/
LOCATION:Mt. Washington United Methodist Church\, 6365 Corbly Rd.\, Cincinnati\, OH\, 45230\, United States
ATTACH;FMTTYPE=image/jpeg:https://mtwashumc.org/wp-content/uploads/2023/02/IMG-4426-scaled-e1676166492122.jpg
END:VEVENT
END:VCALENDAR