BEGIN:VCALENDAR
VERSION:2.0
PRODID:-//Mt. Washington United Methodist Church - ECPv6.15.20//NONSGML v1.0//EN
CALSCALE:GREGORIAN
METHOD:PUBLISH
X-ORIGINAL-URL:https://mtwashumc.org
X-WR-CALDESC:Events for Mt. Washington United Methodist Church
REFRESH-INTERVAL;VALUE=DURATION:PT1H
X-Robots-Tag:noindex
X-PUBLISHED-TTL:PT1H
BEGIN:VTIMEZONE
TZID:America/New_York
BEGIN:DAYLIGHT
TZOFFSETFROM:-0500
TZOFFSETTO:-0400
TZNAME:EDT
DTSTART:20230312T070000
END:DAYLIGHT
BEGIN:STANDARD
TZOFFSETFROM:-0400
TZOFFSETTO:-0500
TZNAME:EST
DTSTART:20231105T060000
END:STANDARD
BEGIN:DAYLIGHT
TZOFFSETFROM:-0500
TZOFFSETTO:-0400
TZNAME:EDT
DTSTART:20240310T070000
END:DAYLIGHT
BEGIN:STANDARD
TZOFFSETFROM:-0400
TZOFFSETTO:-0500
TZNAME:EST
DTSTART:20241103T060000
END:STANDARD
BEGIN:DAYLIGHT
TZOFFSETFROM:-0500
TZOFFSETTO:-0400
TZNAME:EDT
DTSTART:20250309T070000
END:DAYLIGHT
BEGIN:STANDARD
TZOFFSETFROM:-0400
TZOFFSETTO:-0500
TZNAME:EST
DTSTART:20251102T060000
END:STANDARD
END:VTIMEZONE
BEGIN:VEVENT
DTSTART;TZID=America/New_York:20240403T110000
DTEND;TZID=America/New_York:20240403T113000
DTSTAMP:20260422T080812
CREATED:20240207T003708Z
LAST-MODIFIED:20240914T031517Z
UID:10002174-1712142000-1712143800@mtwashumc.org
SUMMARY:Chair Exercise
DESCRIPTION:Our chair exercise group meets twice weekly and shares great laughs and fellowship while safely exercising while sitting\, including the most popular beach ball exercise. \nThere’s no telling what this group will do after exercise- from enjoying homemade cheesecakes to Tea Time with special orange peel tea from China\, this group is always up to something. \nYou’re invited to join them\, no gym membership required!
URL:https://mtwashumc.org/event/chair-exercise/2024-04-03/
LOCATION:Mt. Washington United Methodist Church\, 6365 Corbly Rd.\, Cincinnati\, OH\, 45230\, United States
ATTACH;FMTTYPE=image/jpeg:https://mtwashumc.org/wp-content/uploads/2023/02/IMG-4426-scaled-e1676166492122.jpg
END:VEVENT
BEGIN:VEVENT
DTSTART;TZID=America/New_York:20240401T110000
DTEND;TZID=America/New_York:20240401T113000
DTSTAMP:20260422T080812
CREATED:20240207T003708Z
LAST-MODIFIED:20240914T031517Z
UID:10002173-1711969200-1711971000@mtwashumc.org
SUMMARY:Chair Exercise
DESCRIPTION:Our chair exercise group meets twice weekly and shares great laughs and fellowship while safely exercising while sitting\, including the most popular beach ball exercise. \nThere’s no telling what this group will do after exercise- from enjoying homemade cheesecakes to Tea Time with special orange peel tea from China\, this group is always up to something. \nYou’re invited to join them\, no gym membership required!
URL:https://mtwashumc.org/event/chair-exercise/2024-04-01/
LOCATION:Mt. Washington United Methodist Church\, 6365 Corbly Rd.\, Cincinnati\, OH\, 45230\, United States
ATTACH;FMTTYPE=image/jpeg:https://mtwashumc.org/wp-content/uploads/2023/02/IMG-4426-scaled-e1676166492122.jpg
END:VEVENT
BEGIN:VEVENT
DTSTART;TZID=America/New_York:20240331T100000
DTEND;TZID=America/New_York:20240331T110000
DTSTAMP:20260422T080812
CREATED:20240207T041028Z
LAST-MODIFIED:20240207T044721Z
UID:10002976-1711879200-1711882800@mtwashumc.org
SUMMARY:Easter Worship
DESCRIPTION:We celebrate the resurrection of Jesus with a full morning of activities. \nStarting at 9:00 is our famous Easter Sunrise Breakfast\, with plenty of savory foods\, pastries\, coffee\, juice and more in the Fellowship Hall. \nAt 10:00 we hold our worship- a blended mix of traditional and contemporary worship elements- in the Sanctuary. We offer Sunday School for the children during the Worship. \nAt the conclusion of Worship the children are split by age group and invited outside for an Easter Egg Hunt. \nEveryone is welcome to join us for Easter Sunday or any Sunday\, you do not have to be a member to attend\, we love visitors!
URL:https://mtwashumc.org/event/easter-worship/
LOCATION:Mt. Washington United Methodist Church\, 6365 Corbly Rd.\, Cincinnati\, OH\, 45230\, United States
ATTACH;FMTTYPE=image/jpeg:https://mtwashumc.org/wp-content/uploads/2024/02/celebrate-easter-2015.jpg
END:VEVENT
BEGIN:VEVENT
DTSTART;TZID=America/New_York:20240327T110000
DTEND;TZID=America/New_York:20240327T113000
DTSTAMP:20260422T080812
CREATED:20240207T003708Z
LAST-MODIFIED:20240914T031517Z
UID:10002172-1711537200-1711539000@mtwashumc.org
SUMMARY:Chair Exercise
DESCRIPTION:Our chair exercise group meets twice weekly and shares great laughs and fellowship while safely exercising while sitting\, including the most popular beach ball exercise. \nThere’s no telling what this group will do after exercise- from enjoying homemade cheesecakes to Tea Time with special orange peel tea from China\, this group is always up to something. \nYou’re invited to join them\, no gym membership required!
URL:https://mtwashumc.org/event/chair-exercise/2024-03-27/
LOCATION:Mt. Washington United Methodist Church\, 6365 Corbly Rd.\, Cincinnati\, OH\, 45230\, United States
ATTACH;FMTTYPE=image/jpeg:https://mtwashumc.org/wp-content/uploads/2023/02/IMG-4426-scaled-e1676166492122.jpg
END:VEVENT
BEGIN:VEVENT
DTSTART;TZID=America/New_York:20240325T110000
DTEND;TZID=America/New_York:20240325T113000
DTSTAMP:20260422T080812
CREATED:20240207T003708Z
LAST-MODIFIED:20240914T031517Z
UID:10002171-1711364400-1711366200@mtwashumc.org
SUMMARY:Chair Exercise
DESCRIPTION:Our chair exercise group meets twice weekly and shares great laughs and fellowship while safely exercising while sitting\, including the most popular beach ball exercise. \nThere’s no telling what this group will do after exercise- from enjoying homemade cheesecakes to Tea Time with special orange peel tea from China\, this group is always up to something. \nYou’re invited to join them\, no gym membership required!
URL:https://mtwashumc.org/event/chair-exercise/2024-03-25/
LOCATION:Mt. Washington United Methodist Church\, 6365 Corbly Rd.\, Cincinnati\, OH\, 45230\, United States
ATTACH;FMTTYPE=image/jpeg:https://mtwashumc.org/wp-content/uploads/2023/02/IMG-4426-scaled-e1676166492122.jpg
END:VEVENT
BEGIN:VEVENT
DTSTART;TZID=America/New_York:20240324T173000
DTEND;TZID=America/New_York:20240324T183000
DTSTAMP:20260422T080812
CREATED:20240319T135640Z
LAST-MODIFIED:20240319T135705Z
UID:10002979-1711301400-1711305000@mtwashumc.org
SUMMARY:Dinner Church- Ham & Potatoes
DESCRIPTION:Come enjoy a great free meal while soft Christian music is performed by Dave and Michelle at Dinner Church. Pastor Penny offers a short\, relatable message during the meal. \nThis month we will serve an Easter meal\, with Ham\, Scalloped potatoes\, Mac & Cheese\, Broccoli Casserole\, Deviled Eggs\, Salad\, Bread and plenty of desserts! \nAll are welcome\, bring a neighbor\, bring a friend!
URL:https://mtwashumc.org/event/dinner-church-ham-potatoes/
LOCATION:Mt. Washington United Methodist Church\, 6365 Corbly Rd.\, Cincinnati\, OH\, 45230\, United States
ATTACH;FMTTYPE=image/jpeg:https://mtwashumc.org/wp-content/uploads/2024/03/sheet-pan-easter-dinner-ham-800x1200-1-rotated.jpg
END:VEVENT
BEGIN:VEVENT
DTSTART;TZID=America/New_York:20240324T100000
DTEND;TZID=America/New_York:20240324T110000
DTSTAMP:20260422T080812
CREATED:20240207T033957Z
LAST-MODIFIED:20260309T175120Z
UID:10002720-1711274400-1711278000@mtwashumc.org
SUMMARY:Sunday Worship
DESCRIPTION:Join us in person or online for our Sunday morning blended worship\, where we will sing traditional hymns\, contemporary Christian music\, and hear a casual Pastor sermon. Coffee begins at 9:30. Children’s Sunday School is offered during worship\, designed for children from 3-12 years old. All are welcome!
URL:https://mtwashumc.org/event/sunday-worship/2024-03-24/
LOCATION:Mt. Washington United Methodist Church\, 6365 Corbly Rd.\, Cincinnati\, OH\, 45230\, United States
ATTACH;FMTTYPE=image/jpeg:https://mtwashumc.org/wp-content/uploads/2024/02/470846144_918608993733386_2914126562439977742_n.jpg
END:VEVENT
BEGIN:VEVENT
DTSTART;TZID=America/New_York:20240320T110000
DTEND;TZID=America/New_York:20240320T113000
DTSTAMP:20260422T080812
CREATED:20240207T003708Z
LAST-MODIFIED:20240914T031517Z
UID:10002170-1710932400-1710934200@mtwashumc.org
SUMMARY:Chair Exercise
DESCRIPTION:Our chair exercise group meets twice weekly and shares great laughs and fellowship while safely exercising while sitting\, including the most popular beach ball exercise. \nThere’s no telling what this group will do after exercise- from enjoying homemade cheesecakes to Tea Time with special orange peel tea from China\, this group is always up to something. \nYou’re invited to join them\, no gym membership required!
URL:https://mtwashumc.org/event/chair-exercise/2024-03-20/
LOCATION:Mt. Washington United Methodist Church\, 6365 Corbly Rd.\, Cincinnati\, OH\, 45230\, United States
ATTACH;FMTTYPE=image/jpeg:https://mtwashumc.org/wp-content/uploads/2023/02/IMG-4426-scaled-e1676166492122.jpg
END:VEVENT
BEGIN:VEVENT
DTSTART;TZID=America/New_York:20240318T110000
DTEND;TZID=America/New_York:20240318T113000
DTSTAMP:20260422T080812
CREATED:20240207T003708Z
LAST-MODIFIED:20240914T031517Z
UID:10002169-1710759600-1710761400@mtwashumc.org
SUMMARY:Chair Exercise
DESCRIPTION:Our chair exercise group meets twice weekly and shares great laughs and fellowship while safely exercising while sitting\, including the most popular beach ball exercise. \nThere’s no telling what this group will do after exercise- from enjoying homemade cheesecakes to Tea Time with special orange peel tea from China\, this group is always up to something. \nYou’re invited to join them\, no gym membership required!
URL:https://mtwashumc.org/event/chair-exercise/2024-03-18/
LOCATION:Mt. Washington United Methodist Church\, 6365 Corbly Rd.\, Cincinnati\, OH\, 45230\, United States
ATTACH;FMTTYPE=image/jpeg:https://mtwashumc.org/wp-content/uploads/2023/02/IMG-4426-scaled-e1676166492122.jpg
END:VEVENT
BEGIN:VEVENT
DTSTART;TZID=America/New_York:20240317T100000
DTEND;TZID=America/New_York:20240317T110000
DTSTAMP:20260422T080812
CREATED:20240207T033957Z
LAST-MODIFIED:20260309T175120Z
UID:10002719-1710669600-1710673200@mtwashumc.org
SUMMARY:Sunday Worship
DESCRIPTION:Join us in person or online for our Sunday morning blended worship\, where we will sing traditional hymns\, contemporary Christian music\, and hear a casual Pastor sermon. Coffee begins at 9:30. Children’s Sunday School is offered during worship\, designed for children from 3-12 years old. All are welcome!
URL:https://mtwashumc.org/event/sunday-worship/2024-03-17/
LOCATION:Mt. Washington United Methodist Church\, 6365 Corbly Rd.\, Cincinnati\, OH\, 45230\, United States
ATTACH;FMTTYPE=image/jpeg:https://mtwashumc.org/wp-content/uploads/2024/02/470846144_918608993733386_2914126562439977742_n.jpg
END:VEVENT
BEGIN:VEVENT
DTSTART;TZID=America/New_York:20240313T110000
DTEND;TZID=America/New_York:20240313T113000
DTSTAMP:20260422T080812
CREATED:20240207T003708Z
LAST-MODIFIED:20240914T031517Z
UID:10002168-1710327600-1710329400@mtwashumc.org
SUMMARY:Chair Exercise
DESCRIPTION:Our chair exercise group meets twice weekly and shares great laughs and fellowship while safely exercising while sitting\, including the most popular beach ball exercise. \nThere’s no telling what this group will do after exercise- from enjoying homemade cheesecakes to Tea Time with special orange peel tea from China\, this group is always up to something. \nYou’re invited to join them\, no gym membership required!
URL:https://mtwashumc.org/event/chair-exercise/2024-03-13/
LOCATION:Mt. Washington United Methodist Church\, 6365 Corbly Rd.\, Cincinnati\, OH\, 45230\, United States
ATTACH;FMTTYPE=image/jpeg:https://mtwashumc.org/wp-content/uploads/2023/02/IMG-4426-scaled-e1676166492122.jpg
END:VEVENT
BEGIN:VEVENT
DTSTART;TZID=America/New_York:20240311T110000
DTEND;TZID=America/New_York:20240311T113000
DTSTAMP:20260422T080812
CREATED:20240207T003708Z
LAST-MODIFIED:20240914T031517Z
UID:10002167-1710154800-1710156600@mtwashumc.org
SUMMARY:Chair Exercise
DESCRIPTION:Our chair exercise group meets twice weekly and shares great laughs and fellowship while safely exercising while sitting\, including the most popular beach ball exercise. \nThere’s no telling what this group will do after exercise- from enjoying homemade cheesecakes to Tea Time with special orange peel tea from China\, this group is always up to something. \nYou’re invited to join them\, no gym membership required!
URL:https://mtwashumc.org/event/chair-exercise/2024-03-11/
LOCATION:Mt. Washington United Methodist Church\, 6365 Corbly Rd.\, Cincinnati\, OH\, 45230\, United States
ATTACH;FMTTYPE=image/jpeg:https://mtwashumc.org/wp-content/uploads/2023/02/IMG-4426-scaled-e1676166492122.jpg
END:VEVENT
BEGIN:VEVENT
DTSTART;TZID=America/New_York:20240310T100000
DTEND;TZID=America/New_York:20240310T110000
DTSTAMP:20260422T080812
CREATED:20240207T033957Z
LAST-MODIFIED:20260309T175120Z
UID:10002718-1710064800-1710068400@mtwashumc.org
SUMMARY:Sunday Worship
DESCRIPTION:Join us in person or online for our Sunday morning blended worship\, where we will sing traditional hymns\, contemporary Christian music\, and hear a casual Pastor sermon. Coffee begins at 9:30. Children’s Sunday School is offered during worship\, designed for children from 3-12 years old. All are welcome!
URL:https://mtwashumc.org/event/sunday-worship/2024-03-10/
LOCATION:Mt. Washington United Methodist Church\, 6365 Corbly Rd.\, Cincinnati\, OH\, 45230\, United States
ATTACH;FMTTYPE=image/jpeg:https://mtwashumc.org/wp-content/uploads/2024/02/470846144_918608993733386_2914126562439977742_n.jpg
END:VEVENT
BEGIN:VEVENT
DTSTART;TZID=America/New_York:20240306T110000
DTEND;TZID=America/New_York:20240306T113000
DTSTAMP:20260422T080812
CREATED:20240207T003708Z
LAST-MODIFIED:20240914T031517Z
UID:10002166-1709722800-1709724600@mtwashumc.org
SUMMARY:Chair Exercise
DESCRIPTION:Our chair exercise group meets twice weekly and shares great laughs and fellowship while safely exercising while sitting\, including the most popular beach ball exercise. \nThere’s no telling what this group will do after exercise- from enjoying homemade cheesecakes to Tea Time with special orange peel tea from China\, this group is always up to something. \nYou’re invited to join them\, no gym membership required!
URL:https://mtwashumc.org/event/chair-exercise/2024-03-06/
LOCATION:Mt. Washington United Methodist Church\, 6365 Corbly Rd.\, Cincinnati\, OH\, 45230\, United States
ATTACH;FMTTYPE=image/jpeg:https://mtwashumc.org/wp-content/uploads/2023/02/IMG-4426-scaled-e1676166492122.jpg
END:VEVENT
BEGIN:VEVENT
DTSTART;TZID=America/New_York:20240304T110000
DTEND;TZID=America/New_York:20240304T113000
DTSTAMP:20260422T080812
CREATED:20240207T003708Z
LAST-MODIFIED:20240914T031517Z
UID:10002165-1709550000-1709551800@mtwashumc.org
SUMMARY:Chair Exercise
DESCRIPTION:Our chair exercise group meets twice weekly and shares great laughs and fellowship while safely exercising while sitting\, including the most popular beach ball exercise. \nThere’s no telling what this group will do after exercise- from enjoying homemade cheesecakes to Tea Time with special orange peel tea from China\, this group is always up to something. \nYou’re invited to join them\, no gym membership required!
URL:https://mtwashumc.org/event/chair-exercise/2024-03-04/
LOCATION:Mt. Washington United Methodist Church\, 6365 Corbly Rd.\, Cincinnati\, OH\, 45230\, United States
ATTACH;FMTTYPE=image/jpeg:https://mtwashumc.org/wp-content/uploads/2023/02/IMG-4426-scaled-e1676166492122.jpg
END:VEVENT
BEGIN:VEVENT
DTSTART;TZID=America/New_York:20240303T100000
DTEND;TZID=America/New_York:20240303T110000
DTSTAMP:20260422T080812
CREATED:20240207T033957Z
LAST-MODIFIED:20260309T175120Z
UID:10002717-1709460000-1709463600@mtwashumc.org
SUMMARY:Sunday Worship
DESCRIPTION:Join us in person or online for our Sunday morning blended worship\, where we will sing traditional hymns\, contemporary Christian music\, and hear a casual Pastor sermon. Coffee begins at 9:30. Children’s Sunday School is offered during worship\, designed for children from 3-12 years old. All are welcome!
URL:https://mtwashumc.org/event/sunday-worship/2024-03-03/
LOCATION:Mt. Washington United Methodist Church\, 6365 Corbly Rd.\, Cincinnati\, OH\, 45230\, United States
ATTACH;FMTTYPE=image/jpeg:https://mtwashumc.org/wp-content/uploads/2024/02/470846144_918608993733386_2914126562439977742_n.jpg
END:VEVENT
BEGIN:VEVENT
DTSTART;TZID=America/New_York:20240228T110000
DTEND;TZID=America/New_York:20240228T113000
DTSTAMP:20260422T080812
CREATED:20240207T003708Z
LAST-MODIFIED:20240914T031517Z
UID:10002164-1709118000-1709119800@mtwashumc.org
SUMMARY:Chair Exercise
DESCRIPTION:Our chair exercise group meets twice weekly and shares great laughs and fellowship while safely exercising while sitting\, including the most popular beach ball exercise. \nThere’s no telling what this group will do after exercise- from enjoying homemade cheesecakes to Tea Time with special orange peel tea from China\, this group is always up to something. \nYou’re invited to join them\, no gym membership required!
URL:https://mtwashumc.org/event/chair-exercise/2024-02-28/
LOCATION:Mt. Washington United Methodist Church\, 6365 Corbly Rd.\, Cincinnati\, OH\, 45230\, United States
ATTACH;FMTTYPE=image/jpeg:https://mtwashumc.org/wp-content/uploads/2023/02/IMG-4426-scaled-e1676166492122.jpg
END:VEVENT
BEGIN:VEVENT
DTSTART;TZID=America/New_York:20240226T110000
DTEND;TZID=America/New_York:20240226T113000
DTSTAMP:20260422T080812
CREATED:20240207T003708Z
LAST-MODIFIED:20240914T031517Z
UID:10002163-1708945200-1708947000@mtwashumc.org
SUMMARY:Chair Exercise
DESCRIPTION:Our chair exercise group meets twice weekly and shares great laughs and fellowship while safely exercising while sitting\, including the most popular beach ball exercise. \nThere’s no telling what this group will do after exercise- from enjoying homemade cheesecakes to Tea Time with special orange peel tea from China\, this group is always up to something. \nYou’re invited to join them\, no gym membership required!
URL:https://mtwashumc.org/event/chair-exercise/2024-02-26/
LOCATION:Mt. Washington United Methodist Church\, 6365 Corbly Rd.\, Cincinnati\, OH\, 45230\, United States
ATTACH;FMTTYPE=image/jpeg:https://mtwashumc.org/wp-content/uploads/2023/02/IMG-4426-scaled-e1676166492122.jpg
END:VEVENT
BEGIN:VEVENT
DTSTART;TZID=America/New_York:20240225T173000
DTEND;TZID=America/New_York:20240225T183000
DTSTAMP:20260422T080812
CREATED:20240207T040050Z
LAST-MODIFIED:20240207T040050Z
UID:10002975-1708882200-1708885800@mtwashumc.org
SUMMARY:Dinner Church- Spaghetti & Meatballs
DESCRIPTION:Come enjoy a great meal while soft Christian music is performed by Dave and Michelle at Dinner Church. Pastor Penny offers a short\, relatable message during the meal. \nThis month\, in honor of Valentine’s Day\, we will cook up spaghetti\, meatballs\, salad\, and garlic bread\, along with many chocolate-themed desserts. \nAll are welcome\, bring a neighbor\, bring a friend!
URL:https://mtwashumc.org/event/dinner-church-spaghetti-meatballs/
LOCATION:Mt. Washington United Methodist Church\, 6365 Corbly Rd.\, Cincinnati\, OH\, 45230\, United States
ATTACH;FMTTYPE=image/jpeg:https://mtwashumc.org/wp-content/uploads/2024/02/large_61155.jpg
END:VEVENT
BEGIN:VEVENT
DTSTART;TZID=America/New_York:20240225T100000
DTEND;TZID=America/New_York:20240225T110000
DTSTAMP:20260422T080812
CREATED:20240207T033957Z
LAST-MODIFIED:20260309T175120Z
UID:10002716-1708855200-1708858800@mtwashumc.org
SUMMARY:Sunday Worship
DESCRIPTION:Join us in person or online for our Sunday morning blended worship\, where we will sing traditional hymns\, contemporary Christian music\, and hear a casual Pastor sermon. Coffee begins at 9:30. Children’s Sunday School is offered during worship\, designed for children from 3-12 years old. All are welcome!
URL:https://mtwashumc.org/event/sunday-worship/2024-02-25/
LOCATION:Mt. Washington United Methodist Church\, 6365 Corbly Rd.\, Cincinnati\, OH\, 45230\, United States
ATTACH;FMTTYPE=image/jpeg:https://mtwashumc.org/wp-content/uploads/2024/02/470846144_918608993733386_2914126562439977742_n.jpg
END:VEVENT
BEGIN:VEVENT
DTSTART;TZID=America/New_York:20240221T110000
DTEND;TZID=America/New_York:20240221T113000
DTSTAMP:20260422T080812
CREATED:20240207T003708Z
LAST-MODIFIED:20240914T031517Z
UID:10002162-1708513200-1708515000@mtwashumc.org
SUMMARY:Chair Exercise
DESCRIPTION:Our chair exercise group meets twice weekly and shares great laughs and fellowship while safely exercising while sitting\, including the most popular beach ball exercise. \nThere’s no telling what this group will do after exercise- from enjoying homemade cheesecakes to Tea Time with special orange peel tea from China\, this group is always up to something. \nYou’re invited to join them\, no gym membership required!
URL:https://mtwashumc.org/event/chair-exercise/2024-02-21/
LOCATION:Mt. Washington United Methodist Church\, 6365 Corbly Rd.\, Cincinnati\, OH\, 45230\, United States
ATTACH;FMTTYPE=image/jpeg:https://mtwashumc.org/wp-content/uploads/2023/02/IMG-4426-scaled-e1676166492122.jpg
END:VEVENT
BEGIN:VEVENT
DTSTART;TZID=America/New_York:20240219T110000
DTEND;TZID=America/New_York:20240219T113000
DTSTAMP:20260422T080812
CREATED:20240207T003708Z
LAST-MODIFIED:20240914T031517Z
UID:10002161-1708340400-1708342200@mtwashumc.org
SUMMARY:Chair Exercise
DESCRIPTION:Our chair exercise group meets twice weekly and shares great laughs and fellowship while safely exercising while sitting\, including the most popular beach ball exercise. \nThere’s no telling what this group will do after exercise- from enjoying homemade cheesecakes to Tea Time with special orange peel tea from China\, this group is always up to something. \nYou’re invited to join them\, no gym membership required!
URL:https://mtwashumc.org/event/chair-exercise/2024-02-19/
LOCATION:Mt. Washington United Methodist Church\, 6365 Corbly Rd.\, Cincinnati\, OH\, 45230\, United States
ATTACH;FMTTYPE=image/jpeg:https://mtwashumc.org/wp-content/uploads/2023/02/IMG-4426-scaled-e1676166492122.jpg
END:VEVENT
BEGIN:VEVENT
DTSTART;TZID=America/New_York:20240218T100000
DTEND;TZID=America/New_York:20240218T110000
DTSTAMP:20260422T080812
CREATED:20240207T033957Z
LAST-MODIFIED:20260309T175120Z
UID:10002715-1708250400-1708254000@mtwashumc.org
SUMMARY:Sunday Worship
DESCRIPTION:Join us in person or online for our Sunday morning blended worship\, where we will sing traditional hymns\, contemporary Christian music\, and hear a casual Pastor sermon. Coffee begins at 9:30. Children’s Sunday School is offered during worship\, designed for children from 3-12 years old. All are welcome!
URL:https://mtwashumc.org/event/sunday-worship/2024-02-18/
LOCATION:Mt. Washington United Methodist Church\, 6365 Corbly Rd.\, Cincinnati\, OH\, 45230\, United States
ATTACH;FMTTYPE=image/jpeg:https://mtwashumc.org/wp-content/uploads/2024/02/470846144_918608993733386_2914126562439977742_n.jpg
END:VEVENT
BEGIN:VEVENT
DTSTART;TZID=America/New_York:20240214T163000
DTEND;TZID=America/New_York:20240214T171500
DTSTAMP:20260422T080812
CREATED:20240207T013835Z
LAST-MODIFIED:20240207T044804Z
UID:10002712-1707928200-1707930900@mtwashumc.org
SUMMARY:Ash Wednesday Worship
DESCRIPTION:Ash Wednesday emphasizes a dual encounter: we confront our own mortality and confess our sin before God within the community of faith. \nPastor Penny can put ashes on your forehead or hand as part of the service (completely optional). This is done for two reasons: a personal act of remembrance and as a sign or a witness for others. The service will be a blend of contemporary and traditional elements. \nA cross in the Sanctuary will be available to nail your sins to- Nails and paper provided. \nAll are welcome\, you do not have to be a member to participate.
URL:https://mtwashumc.org/event/ash-wednesday-worship/
LOCATION:Mt. Washington United Methodist Church\, 6365 Corbly Rd.\, Cincinnati\, OH\, 45230\, United States
ATTACH;FMTTYPE=image/jpeg:https://mtwashumc.org/wp-content/uploads/2023/02/maxresdefault-6.jpg
END:VEVENT
BEGIN:VEVENT
DTSTART;TZID=America/New_York:20240214T110000
DTEND;TZID=America/New_York:20240214T113000
DTSTAMP:20260422T080812
CREATED:20240207T003708Z
LAST-MODIFIED:20240914T031517Z
UID:10002160-1707908400-1707910200@mtwashumc.org
SUMMARY:Chair Exercise
DESCRIPTION:Our chair exercise group meets twice weekly and shares great laughs and fellowship while safely exercising while sitting\, including the most popular beach ball exercise. \nThere’s no telling what this group will do after exercise- from enjoying homemade cheesecakes to Tea Time with special orange peel tea from China\, this group is always up to something. \nYou’re invited to join them\, no gym membership required!
URL:https://mtwashumc.org/event/chair-exercise/2024-02-14/
LOCATION:Mt. Washington United Methodist Church\, 6365 Corbly Rd.\, Cincinnati\, OH\, 45230\, United States
ATTACH;FMTTYPE=image/jpeg:https://mtwashumc.org/wp-content/uploads/2023/02/IMG-4426-scaled-e1676166492122.jpg
END:VEVENT
BEGIN:VEVENT
DTSTART;TZID=America/New_York:20240212T110000
DTEND;TZID=America/New_York:20240212T113000
DTSTAMP:20260422T080812
CREATED:20240207T003708Z
LAST-MODIFIED:20240914T031517Z
UID:10002159-1707735600-1707737400@mtwashumc.org
SUMMARY:Chair Exercise
DESCRIPTION:Our chair exercise group meets twice weekly and shares great laughs and fellowship while safely exercising while sitting\, including the most popular beach ball exercise. \nThere’s no telling what this group will do after exercise- from enjoying homemade cheesecakes to Tea Time with special orange peel tea from China\, this group is always up to something. \nYou’re invited to join them\, no gym membership required!
URL:https://mtwashumc.org/event/chair-exercise/2024-02-12/
LOCATION:Mt. Washington United Methodist Church\, 6365 Corbly Rd.\, Cincinnati\, OH\, 45230\, United States
ATTACH;FMTTYPE=image/jpeg:https://mtwashumc.org/wp-content/uploads/2023/02/IMG-4426-scaled-e1676166492122.jpg
END:VEVENT
BEGIN:VEVENT
DTSTART;TZID=America/New_York:20240211T100000
DTEND;TZID=America/New_York:20240211T110000
DTSTAMP:20260422T080812
CREATED:20240207T033957Z
LAST-MODIFIED:20260309T175120Z
UID:10002714-1707645600-1707649200@mtwashumc.org
SUMMARY:Sunday Worship
DESCRIPTION:Join us in person or online for our Sunday morning blended worship\, where we will sing traditional hymns\, contemporary Christian music\, and hear a casual Pastor sermon. Coffee begins at 9:30. Children’s Sunday School is offered during worship\, designed for children from 3-12 years old. All are welcome!
URL:https://mtwashumc.org/event/sunday-worship/2024-02-11/
LOCATION:Mt. Washington United Methodist Church\, 6365 Corbly Rd.\, Cincinnati\, OH\, 45230\, United States
ATTACH;FMTTYPE=image/jpeg:https://mtwashumc.org/wp-content/uploads/2024/02/470846144_918608993733386_2914126562439977742_n.jpg
END:VEVENT
BEGIN:VEVENT
DTSTART;TZID=America/New_York:20240210T173000
DTEND;TZID=America/New_York:20240210T183000
DTSTAMP:20260422T080812
CREATED:20240207T032020Z
LAST-MODIFIED:20240207T044343Z
UID:10002713-1707586200-1707589800@mtwashumc.org
SUMMARY:Free Community Meal- Soup & Sandwiches
DESCRIPTION:Everyone is welcome to join us for our free Second Serving Saturday meal\, where this month we will cook up some hearty soups and sandwiches. \nMany tasty treats will be available for dessert. Bags of non-perishable groceries courtesy of IPM will be handed out\, too!  \nSecond Serving Saturday has been long-standing tradition of the church\, and is open to everyone regardless of socioeconomic status. Kid-friendly.
URL:https://mtwashumc.org/event/free-community-meal-soup-sandwiches/
LOCATION:Mt. Washington United Methodist Church\, 6365 Corbly Rd.\, Cincinnati\, OH\, 45230\, United States
ATTACH;FMTTYPE=image/jpeg:https://mtwashumc.org/wp-content/uploads/2024/02/l-intro-1676991496.jpg
END:VEVENT
BEGIN:VEVENT
DTSTART;TZID=America/New_York:20240207T110000
DTEND;TZID=America/New_York:20240207T113000
DTSTAMP:20260422T080812
CREATED:20240207T003708Z
LAST-MODIFIED:20240914T031517Z
UID:10002158-1707303600-1707305400@mtwashumc.org
SUMMARY:Chair Exercise
DESCRIPTION:Our chair exercise group meets twice weekly and shares great laughs and fellowship while safely exercising while sitting\, including the most popular beach ball exercise. \nThere’s no telling what this group will do after exercise- from enjoying homemade cheesecakes to Tea Time with special orange peel tea from China\, this group is always up to something. \nYou’re invited to join them\, no gym membership required!
URL:https://mtwashumc.org/event/chair-exercise/2024-02-07/
LOCATION:Mt. Washington United Methodist Church\, 6365 Corbly Rd.\, Cincinnati\, OH\, 45230\, United States
ATTACH;FMTTYPE=image/jpeg:https://mtwashumc.org/wp-content/uploads/2023/02/IMG-4426-scaled-e1676166492122.jpg
END:VEVENT
END:VCALENDAR