BEGIN:VCALENDAR
VERSION:2.0
PRODID:-//Mt. Washington United Methodist Church - ECPv6.15.20//NONSGML v1.0//EN
CALSCALE:GREGORIAN
METHOD:PUBLISH
X-ORIGINAL-URL:https://mtwashumc.org
X-WR-CALDESC:Events for Mt. Washington United Methodist Church
REFRESH-INTERVAL;VALUE=DURATION:PT1H
X-Robots-Tag:noindex
X-PUBLISHED-TTL:PT1H
BEGIN:VTIMEZONE
TZID:America/New_York
BEGIN:DAYLIGHT
TZOFFSETFROM:-0500
TZOFFSETTO:-0400
TZNAME:EDT
DTSTART:20270314T070000
END:DAYLIGHT
BEGIN:STANDARD
TZOFFSETFROM:-0400
TZOFFSETTO:-0500
TZNAME:EST
DTSTART:20271107T060000
END:STANDARD
BEGIN:DAYLIGHT
TZOFFSETFROM:-0500
TZOFFSETTO:-0400
TZNAME:EDT
DTSTART:20280312T070000
END:DAYLIGHT
BEGIN:STANDARD
TZOFFSETFROM:-0400
TZOFFSETTO:-0500
TZNAME:EST
DTSTART:20281105T060000
END:STANDARD
BEGIN:DAYLIGHT
TZOFFSETFROM:-0500
TZOFFSETTO:-0400
TZNAME:EDT
DTSTART:20290311T070000
END:DAYLIGHT
BEGIN:STANDARD
TZOFFSETFROM:-0400
TZOFFSETTO:-0500
TZNAME:EST
DTSTART:20291104T060000
END:STANDARD
BEGIN:DAYLIGHT
TZOFFSETFROM:-0500
TZOFFSETTO:-0400
TZNAME:EDT
DTSTART:20300310T070000
END:DAYLIGHT
BEGIN:STANDARD
TZOFFSETFROM:-0400
TZOFFSETTO:-0500
TZNAME:EST
DTSTART:20301103T060000
END:STANDARD
END:VTIMEZONE
BEGIN:VEVENT
DTSTART;TZID=America/New_York:20280709T100000
DTEND;TZID=America/New_York:20280709T110000
DTSTAMP:20260419T094802
CREATED:20240207T033957Z
LAST-MODIFIED:20260309T175120Z
UID:10002944-1846749600-1846753200@mtwashumc.org
SUMMARY:Sunday Worship
DESCRIPTION:Join us in person or online for our Sunday morning blended worship\, where we will sing traditional hymns\, contemporary Christian music\, and hear a casual Pastor sermon. Coffee begins at 9:30. Children’s Sunday School is offered during worship\, designed for children from 3-12 years old. All are welcome!
URL:https://mtwashumc.org/event/sunday-worship/2028-07-09/
LOCATION:Mt. Washington United Methodist Church\, 6365 Corbly Rd.\, Cincinnati\, OH\, 45230\, United States
ATTACH;FMTTYPE=image/jpeg:https://mtwashumc.org/wp-content/uploads/2024/02/470846144_918608993733386_2914126562439977742_n.jpg
END:VEVENT
BEGIN:VEVENT
DTSTART;TZID=America/New_York:20280716T100000
DTEND;TZID=America/New_York:20280716T110000
DTSTAMP:20260419T094802
CREATED:20240207T033957Z
LAST-MODIFIED:20260309T175120Z
UID:10002945-1847354400-1847358000@mtwashumc.org
SUMMARY:Sunday Worship
DESCRIPTION:Join us in person or online for our Sunday morning blended worship\, where we will sing traditional hymns\, contemporary Christian music\, and hear a casual Pastor sermon. Coffee begins at 9:30. Children’s Sunday School is offered during worship\, designed for children from 3-12 years old. All are welcome!
URL:https://mtwashumc.org/event/sunday-worship/2028-07-16/
LOCATION:Mt. Washington United Methodist Church\, 6365 Corbly Rd.\, Cincinnati\, OH\, 45230\, United States
ATTACH;FMTTYPE=image/jpeg:https://mtwashumc.org/wp-content/uploads/2024/02/470846144_918608993733386_2914126562439977742_n.jpg
END:VEVENT
BEGIN:VEVENT
DTSTART;TZID=America/New_York:20280723T100000
DTEND;TZID=America/New_York:20280723T110000
DTSTAMP:20260419T094802
CREATED:20240207T033957Z
LAST-MODIFIED:20260309T175120Z
UID:10002946-1847959200-1847962800@mtwashumc.org
SUMMARY:Sunday Worship
DESCRIPTION:Join us in person or online for our Sunday morning blended worship\, where we will sing traditional hymns\, contemporary Christian music\, and hear a casual Pastor sermon. Coffee begins at 9:30. Children’s Sunday School is offered during worship\, designed for children from 3-12 years old. All are welcome!
URL:https://mtwashumc.org/event/sunday-worship/2028-07-23/
LOCATION:Mt. Washington United Methodist Church\, 6365 Corbly Rd.\, Cincinnati\, OH\, 45230\, United States
ATTACH;FMTTYPE=image/jpeg:https://mtwashumc.org/wp-content/uploads/2024/02/470846144_918608993733386_2914126562439977742_n.jpg
END:VEVENT
BEGIN:VEVENT
DTSTART;TZID=America/New_York:20280730T100000
DTEND;TZID=America/New_York:20280730T110000
DTSTAMP:20260419T094802
CREATED:20240207T033957Z
LAST-MODIFIED:20260309T175120Z
UID:10002947-1848564000-1848567600@mtwashumc.org
SUMMARY:Sunday Worship
DESCRIPTION:Join us in person or online for our Sunday morning blended worship\, where we will sing traditional hymns\, contemporary Christian music\, and hear a casual Pastor sermon. Coffee begins at 9:30. Children’s Sunday School is offered during worship\, designed for children from 3-12 years old. All are welcome!
URL:https://mtwashumc.org/event/sunday-worship/2028-07-30/
LOCATION:Mt. Washington United Methodist Church\, 6365 Corbly Rd.\, Cincinnati\, OH\, 45230\, United States
ATTACH;FMTTYPE=image/jpeg:https://mtwashumc.org/wp-content/uploads/2024/02/470846144_918608993733386_2914126562439977742_n.jpg
END:VEVENT
BEGIN:VEVENT
DTSTART;TZID=America/New_York:20280806T100000
DTEND;TZID=America/New_York:20280806T110000
DTSTAMP:20260419T094802
CREATED:20240207T033957Z
LAST-MODIFIED:20260309T175120Z
UID:10002948-1849168800-1849172400@mtwashumc.org
SUMMARY:Sunday Worship
DESCRIPTION:Join us in person or online for our Sunday morning blended worship\, where we will sing traditional hymns\, contemporary Christian music\, and hear a casual Pastor sermon. Coffee begins at 9:30. Children’s Sunday School is offered during worship\, designed for children from 3-12 years old. All are welcome!
URL:https://mtwashumc.org/event/sunday-worship/2028-08-06/
LOCATION:Mt. Washington United Methodist Church\, 6365 Corbly Rd.\, Cincinnati\, OH\, 45230\, United States
ATTACH;FMTTYPE=image/jpeg:https://mtwashumc.org/wp-content/uploads/2024/02/470846144_918608993733386_2914126562439977742_n.jpg
END:VEVENT
BEGIN:VEVENT
DTSTART;TZID=America/New_York:20280813T100000
DTEND;TZID=America/New_York:20280813T110000
DTSTAMP:20260419T094802
CREATED:20240207T033957Z
LAST-MODIFIED:20260309T175120Z
UID:10002949-1849773600-1849777200@mtwashumc.org
SUMMARY:Sunday Worship
DESCRIPTION:Join us in person or online for our Sunday morning blended worship\, where we will sing traditional hymns\, contemporary Christian music\, and hear a casual Pastor sermon. Coffee begins at 9:30. Children’s Sunday School is offered during worship\, designed for children from 3-12 years old. All are welcome!
URL:https://mtwashumc.org/event/sunday-worship/2028-08-13/
LOCATION:Mt. Washington United Methodist Church\, 6365 Corbly Rd.\, Cincinnati\, OH\, 45230\, United States
ATTACH;FMTTYPE=image/jpeg:https://mtwashumc.org/wp-content/uploads/2024/02/470846144_918608993733386_2914126562439977742_n.jpg
END:VEVENT
BEGIN:VEVENT
DTSTART;TZID=America/New_York:20280820T100000
DTEND;TZID=America/New_York:20280820T110000
DTSTAMP:20260419T094802
CREATED:20240207T033957Z
LAST-MODIFIED:20260309T175120Z
UID:10002950-1850378400-1850382000@mtwashumc.org
SUMMARY:Sunday Worship
DESCRIPTION:Join us in person or online for our Sunday morning blended worship\, where we will sing traditional hymns\, contemporary Christian music\, and hear a casual Pastor sermon. Coffee begins at 9:30. Children’s Sunday School is offered during worship\, designed for children from 3-12 years old. All are welcome!
URL:https://mtwashumc.org/event/sunday-worship/2028-08-20/
LOCATION:Mt. Washington United Methodist Church\, 6365 Corbly Rd.\, Cincinnati\, OH\, 45230\, United States
ATTACH;FMTTYPE=image/jpeg:https://mtwashumc.org/wp-content/uploads/2024/02/470846144_918608993733386_2914126562439977742_n.jpg
END:VEVENT
BEGIN:VEVENT
DTSTART;TZID=America/New_York:20280827T100000
DTEND;TZID=America/New_York:20280827T110000
DTSTAMP:20260419T094802
CREATED:20240207T033957Z
LAST-MODIFIED:20260309T175120Z
UID:10002951-1850983200-1850986800@mtwashumc.org
SUMMARY:Sunday Worship
DESCRIPTION:Join us in person or online for our Sunday morning blended worship\, where we will sing traditional hymns\, contemporary Christian music\, and hear a casual Pastor sermon. Coffee begins at 9:30. Children’s Sunday School is offered during worship\, designed for children from 3-12 years old. All are welcome!
URL:https://mtwashumc.org/event/sunday-worship/2028-08-27/
LOCATION:Mt. Washington United Methodist Church\, 6365 Corbly Rd.\, Cincinnati\, OH\, 45230\, United States
ATTACH;FMTTYPE=image/jpeg:https://mtwashumc.org/wp-content/uploads/2024/02/470846144_918608993733386_2914126562439977742_n.jpg
END:VEVENT
BEGIN:VEVENT
DTSTART;TZID=America/New_York:20280903T100000
DTEND;TZID=America/New_York:20280903T110000
DTSTAMP:20260419T094802
CREATED:20240207T033957Z
LAST-MODIFIED:20260309T175120Z
UID:10002952-1851588000-1851591600@mtwashumc.org
SUMMARY:Sunday Worship
DESCRIPTION:Join us in person or online for our Sunday morning blended worship\, where we will sing traditional hymns\, contemporary Christian music\, and hear a casual Pastor sermon. Coffee begins at 9:30. Children’s Sunday School is offered during worship\, designed for children from 3-12 years old. All are welcome!
URL:https://mtwashumc.org/event/sunday-worship/2028-09-03/
LOCATION:Mt. Washington United Methodist Church\, 6365 Corbly Rd.\, Cincinnati\, OH\, 45230\, United States
ATTACH;FMTTYPE=image/jpeg:https://mtwashumc.org/wp-content/uploads/2024/02/470846144_918608993733386_2914126562439977742_n.jpg
END:VEVENT
BEGIN:VEVENT
DTSTART;TZID=America/New_York:20280910T100000
DTEND;TZID=America/New_York:20280910T110000
DTSTAMP:20260419T094802
CREATED:20240207T033957Z
LAST-MODIFIED:20260309T175120Z
UID:10002953-1852192800-1852196400@mtwashumc.org
SUMMARY:Sunday Worship
DESCRIPTION:Join us in person or online for our Sunday morning blended worship\, where we will sing traditional hymns\, contemporary Christian music\, and hear a casual Pastor sermon. Coffee begins at 9:30. Children’s Sunday School is offered during worship\, designed for children from 3-12 years old. All are welcome!
URL:https://mtwashumc.org/event/sunday-worship/2028-09-10/
LOCATION:Mt. Washington United Methodist Church\, 6365 Corbly Rd.\, Cincinnati\, OH\, 45230\, United States
ATTACH;FMTTYPE=image/jpeg:https://mtwashumc.org/wp-content/uploads/2024/02/470846144_918608993733386_2914126562439977742_n.jpg
END:VEVENT
BEGIN:VEVENT
DTSTART;TZID=America/New_York:20280917T100000
DTEND;TZID=America/New_York:20280917T110000
DTSTAMP:20260419T094802
CREATED:20240207T033957Z
LAST-MODIFIED:20260309T175120Z
UID:10002954-1852797600-1852801200@mtwashumc.org
SUMMARY:Sunday Worship
DESCRIPTION:Join us in person or online for our Sunday morning blended worship\, where we will sing traditional hymns\, contemporary Christian music\, and hear a casual Pastor sermon. Coffee begins at 9:30. Children’s Sunday School is offered during worship\, designed for children from 3-12 years old. All are welcome!
URL:https://mtwashumc.org/event/sunday-worship/2028-09-17/
LOCATION:Mt. Washington United Methodist Church\, 6365 Corbly Rd.\, Cincinnati\, OH\, 45230\, United States
ATTACH;FMTTYPE=image/jpeg:https://mtwashumc.org/wp-content/uploads/2024/02/470846144_918608993733386_2914126562439977742_n.jpg
END:VEVENT
BEGIN:VEVENT
DTSTART;TZID=America/New_York:20280924T100000
DTEND;TZID=America/New_York:20280924T110000
DTSTAMP:20260419T094802
CREATED:20240207T033957Z
LAST-MODIFIED:20260309T175120Z
UID:10002955-1853402400-1853406000@mtwashumc.org
SUMMARY:Sunday Worship
DESCRIPTION:Join us in person or online for our Sunday morning blended worship\, where we will sing traditional hymns\, contemporary Christian music\, and hear a casual Pastor sermon. Coffee begins at 9:30. Children’s Sunday School is offered during worship\, designed for children from 3-12 years old. All are welcome!
URL:https://mtwashumc.org/event/sunday-worship/2028-09-24/
LOCATION:Mt. Washington United Methodist Church\, 6365 Corbly Rd.\, Cincinnati\, OH\, 45230\, United States
ATTACH;FMTTYPE=image/jpeg:https://mtwashumc.org/wp-content/uploads/2024/02/470846144_918608993733386_2914126562439977742_n.jpg
END:VEVENT
BEGIN:VEVENT
DTSTART;TZID=America/New_York:20281001T100000
DTEND;TZID=America/New_York:20281001T110000
DTSTAMP:20260419T094802
CREATED:20240207T033957Z
LAST-MODIFIED:20260309T175120Z
UID:10002956-1854007200-1854010800@mtwashumc.org
SUMMARY:Sunday Worship
DESCRIPTION:Join us in person or online for our Sunday morning blended worship\, where we will sing traditional hymns\, contemporary Christian music\, and hear a casual Pastor sermon. Coffee begins at 9:30. Children’s Sunday School is offered during worship\, designed for children from 3-12 years old. All are welcome!
URL:https://mtwashumc.org/event/sunday-worship/2028-10-01/
LOCATION:Mt. Washington United Methodist Church\, 6365 Corbly Rd.\, Cincinnati\, OH\, 45230\, United States
ATTACH;FMTTYPE=image/jpeg:https://mtwashumc.org/wp-content/uploads/2024/02/470846144_918608993733386_2914126562439977742_n.jpg
END:VEVENT
BEGIN:VEVENT
DTSTART;TZID=America/New_York:20281008T100000
DTEND;TZID=America/New_York:20281008T110000
DTSTAMP:20260419T094802
CREATED:20240207T033957Z
LAST-MODIFIED:20260309T175120Z
UID:10002957-1854612000-1854615600@mtwashumc.org
SUMMARY:Sunday Worship
DESCRIPTION:Join us in person or online for our Sunday morning blended worship\, where we will sing traditional hymns\, contemporary Christian music\, and hear a casual Pastor sermon. Coffee begins at 9:30. Children’s Sunday School is offered during worship\, designed for children from 3-12 years old. All are welcome!
URL:https://mtwashumc.org/event/sunday-worship/2028-10-08/
LOCATION:Mt. Washington United Methodist Church\, 6365 Corbly Rd.\, Cincinnati\, OH\, 45230\, United States
ATTACH;FMTTYPE=image/jpeg:https://mtwashumc.org/wp-content/uploads/2024/02/470846144_918608993733386_2914126562439977742_n.jpg
END:VEVENT
BEGIN:VEVENT
DTSTART;TZID=America/New_York:20281015T100000
DTEND;TZID=America/New_York:20281015T110000
DTSTAMP:20260419T094802
CREATED:20240207T033957Z
LAST-MODIFIED:20260309T175120Z
UID:10002958-1855216800-1855220400@mtwashumc.org
SUMMARY:Sunday Worship
DESCRIPTION:Join us in person or online for our Sunday morning blended worship\, where we will sing traditional hymns\, contemporary Christian music\, and hear a casual Pastor sermon. Coffee begins at 9:30. Children’s Sunday School is offered during worship\, designed for children from 3-12 years old. All are welcome!
URL:https://mtwashumc.org/event/sunday-worship/2028-10-15/
LOCATION:Mt. Washington United Methodist Church\, 6365 Corbly Rd.\, Cincinnati\, OH\, 45230\, United States
ATTACH;FMTTYPE=image/jpeg:https://mtwashumc.org/wp-content/uploads/2024/02/470846144_918608993733386_2914126562439977742_n.jpg
END:VEVENT
BEGIN:VEVENT
DTSTART;TZID=America/New_York:20281022T100000
DTEND;TZID=America/New_York:20281022T110000
DTSTAMP:20260419T094802
CREATED:20240207T033957Z
LAST-MODIFIED:20260309T175120Z
UID:10002959-1855821600-1855825200@mtwashumc.org
SUMMARY:Sunday Worship
DESCRIPTION:Join us in person or online for our Sunday morning blended worship\, where we will sing traditional hymns\, contemporary Christian music\, and hear a casual Pastor sermon. Coffee begins at 9:30. Children’s Sunday School is offered during worship\, designed for children from 3-12 years old. All are welcome!
URL:https://mtwashumc.org/event/sunday-worship/2028-10-22/
LOCATION:Mt. Washington United Methodist Church\, 6365 Corbly Rd.\, Cincinnati\, OH\, 45230\, United States
ATTACH;FMTTYPE=image/jpeg:https://mtwashumc.org/wp-content/uploads/2024/02/470846144_918608993733386_2914126562439977742_n.jpg
END:VEVENT
BEGIN:VEVENT
DTSTART;TZID=America/New_York:20281029T100000
DTEND;TZID=America/New_York:20281029T110000
DTSTAMP:20260419T094802
CREATED:20240207T033957Z
LAST-MODIFIED:20260309T175120Z
UID:10002960-1856426400-1856430000@mtwashumc.org
SUMMARY:Sunday Worship
DESCRIPTION:Join us in person or online for our Sunday morning blended worship\, where we will sing traditional hymns\, contemporary Christian music\, and hear a casual Pastor sermon. Coffee begins at 9:30. Children’s Sunday School is offered during worship\, designed for children from 3-12 years old. All are welcome!
URL:https://mtwashumc.org/event/sunday-worship/2028-10-29/
LOCATION:Mt. Washington United Methodist Church\, 6365 Corbly Rd.\, Cincinnati\, OH\, 45230\, United States
ATTACH;FMTTYPE=image/jpeg:https://mtwashumc.org/wp-content/uploads/2024/02/470846144_918608993733386_2914126562439977742_n.jpg
END:VEVENT
BEGIN:VEVENT
DTSTART;TZID=America/New_York:20281105T100000
DTEND;TZID=America/New_York:20281105T110000
DTSTAMP:20260419T094802
CREATED:20240207T033957Z
LAST-MODIFIED:20260309T175120Z
UID:10002961-1857031200-1857034800@mtwashumc.org
SUMMARY:Sunday Worship
DESCRIPTION:Join us in person or online for our Sunday morning blended worship\, where we will sing traditional hymns\, contemporary Christian music\, and hear a casual Pastor sermon. Coffee begins at 9:30. Children’s Sunday School is offered during worship\, designed for children from 3-12 years old. All are welcome!
URL:https://mtwashumc.org/event/sunday-worship/2028-11-05/
LOCATION:Mt. Washington United Methodist Church\, 6365 Corbly Rd.\, Cincinnati\, OH\, 45230\, United States
ATTACH;FMTTYPE=image/jpeg:https://mtwashumc.org/wp-content/uploads/2024/02/470846144_918608993733386_2914126562439977742_n.jpg
END:VEVENT
BEGIN:VEVENT
DTSTART;TZID=America/New_York:20281112T100000
DTEND;TZID=America/New_York:20281112T110000
DTSTAMP:20260419T094802
CREATED:20240207T033957Z
LAST-MODIFIED:20260309T175120Z
UID:10002962-1857636000-1857639600@mtwashumc.org
SUMMARY:Sunday Worship
DESCRIPTION:Join us in person or online for our Sunday morning blended worship\, where we will sing traditional hymns\, contemporary Christian music\, and hear a casual Pastor sermon. Coffee begins at 9:30. Children’s Sunday School is offered during worship\, designed for children from 3-12 years old. All are welcome!
URL:https://mtwashumc.org/event/sunday-worship/2028-11-12/
LOCATION:Mt. Washington United Methodist Church\, 6365 Corbly Rd.\, Cincinnati\, OH\, 45230\, United States
ATTACH;FMTTYPE=image/jpeg:https://mtwashumc.org/wp-content/uploads/2024/02/470846144_918608993733386_2914126562439977742_n.jpg
END:VEVENT
BEGIN:VEVENT
DTSTART;TZID=America/New_York:20281119T100000
DTEND;TZID=America/New_York:20281119T110000
DTSTAMP:20260419T094802
CREATED:20240207T033957Z
LAST-MODIFIED:20260309T175120Z
UID:10002963-1858240800-1858244400@mtwashumc.org
SUMMARY:Sunday Worship
DESCRIPTION:Join us in person or online for our Sunday morning blended worship\, where we will sing traditional hymns\, contemporary Christian music\, and hear a casual Pastor sermon. Coffee begins at 9:30. Children’s Sunday School is offered during worship\, designed for children from 3-12 years old. All are welcome!
URL:https://mtwashumc.org/event/sunday-worship/2028-11-19/
LOCATION:Mt. Washington United Methodist Church\, 6365 Corbly Rd.\, Cincinnati\, OH\, 45230\, United States
ATTACH;FMTTYPE=image/jpeg:https://mtwashumc.org/wp-content/uploads/2024/02/470846144_918608993733386_2914126562439977742_n.jpg
END:VEVENT
BEGIN:VEVENT
DTSTART;TZID=America/New_York:20281126T100000
DTEND;TZID=America/New_York:20281126T110000
DTSTAMP:20260419T094802
CREATED:20240207T033957Z
LAST-MODIFIED:20260309T175120Z
UID:10002964-1858845600-1858849200@mtwashumc.org
SUMMARY:Sunday Worship
DESCRIPTION:Join us in person or online for our Sunday morning blended worship\, where we will sing traditional hymns\, contemporary Christian music\, and hear a casual Pastor sermon. Coffee begins at 9:30. Children’s Sunday School is offered during worship\, designed for children from 3-12 years old. All are welcome!
URL:https://mtwashumc.org/event/sunday-worship/2028-11-26/
LOCATION:Mt. Washington United Methodist Church\, 6365 Corbly Rd.\, Cincinnati\, OH\, 45230\, United States
ATTACH;FMTTYPE=image/jpeg:https://mtwashumc.org/wp-content/uploads/2024/02/470846144_918608993733386_2914126562439977742_n.jpg
END:VEVENT
BEGIN:VEVENT
DTSTART;TZID=America/New_York:20281203T100000
DTEND;TZID=America/New_York:20281203T110000
DTSTAMP:20260419T094802
CREATED:20240207T033957Z
LAST-MODIFIED:20260309T175120Z
UID:10002965-1859450400-1859454000@mtwashumc.org
SUMMARY:Sunday Worship
DESCRIPTION:Join us in person or online for our Sunday morning blended worship\, where we will sing traditional hymns\, contemporary Christian music\, and hear a casual Pastor sermon. Coffee begins at 9:30. Children’s Sunday School is offered during worship\, designed for children from 3-12 years old. All are welcome!
URL:https://mtwashumc.org/event/sunday-worship/2028-12-03/
LOCATION:Mt. Washington United Methodist Church\, 6365 Corbly Rd.\, Cincinnati\, OH\, 45230\, United States
ATTACH;FMTTYPE=image/jpeg:https://mtwashumc.org/wp-content/uploads/2024/02/470846144_918608993733386_2914126562439977742_n.jpg
END:VEVENT
BEGIN:VEVENT
DTSTART;TZID=America/New_York:20281210T100000
DTEND;TZID=America/New_York:20281210T110000
DTSTAMP:20260419T094802
CREATED:20240207T033957Z
LAST-MODIFIED:20260309T175120Z
UID:10002966-1860055200-1860058800@mtwashumc.org
SUMMARY:Sunday Worship
DESCRIPTION:Join us in person or online for our Sunday morning blended worship\, where we will sing traditional hymns\, contemporary Christian music\, and hear a casual Pastor sermon. Coffee begins at 9:30. Children’s Sunday School is offered during worship\, designed for children from 3-12 years old. All are welcome!
URL:https://mtwashumc.org/event/sunday-worship/2028-12-10/
LOCATION:Mt. Washington United Methodist Church\, 6365 Corbly Rd.\, Cincinnati\, OH\, 45230\, United States
ATTACH;FMTTYPE=image/jpeg:https://mtwashumc.org/wp-content/uploads/2024/02/470846144_918608993733386_2914126562439977742_n.jpg
END:VEVENT
BEGIN:VEVENT
DTSTART;TZID=America/New_York:20281217T100000
DTEND;TZID=America/New_York:20281217T110000
DTSTAMP:20260419T094802
CREATED:20240207T033957Z
LAST-MODIFIED:20260309T175120Z
UID:10002967-1860660000-1860663600@mtwashumc.org
SUMMARY:Sunday Worship
DESCRIPTION:Join us in person or online for our Sunday morning blended worship\, where we will sing traditional hymns\, contemporary Christian music\, and hear a casual Pastor sermon. Coffee begins at 9:30. Children’s Sunday School is offered during worship\, designed for children from 3-12 years old. All are welcome!
URL:https://mtwashumc.org/event/sunday-worship/2028-12-17/
LOCATION:Mt. Washington United Methodist Church\, 6365 Corbly Rd.\, Cincinnati\, OH\, 45230\, United States
ATTACH;FMTTYPE=image/jpeg:https://mtwashumc.org/wp-content/uploads/2024/02/470846144_918608993733386_2914126562439977742_n.jpg
END:VEVENT
BEGIN:VEVENT
DTSTART;TZID=America/New_York:20281224T100000
DTEND;TZID=America/New_York:20281224T110000
DTSTAMP:20260419T094802
CREATED:20240207T033957Z
LAST-MODIFIED:20260309T175120Z
UID:10002968-1861264800-1861268400@mtwashumc.org
SUMMARY:Sunday Worship
DESCRIPTION:Join us in person or online for our Sunday morning blended worship\, where we will sing traditional hymns\, contemporary Christian music\, and hear a casual Pastor sermon. Coffee begins at 9:30. Children’s Sunday School is offered during worship\, designed for children from 3-12 years old. All are welcome!
URL:https://mtwashumc.org/event/sunday-worship/2028-12-24/
LOCATION:Mt. Washington United Methodist Church\, 6365 Corbly Rd.\, Cincinnati\, OH\, 45230\, United States
ATTACH;FMTTYPE=image/jpeg:https://mtwashumc.org/wp-content/uploads/2024/02/470846144_918608993733386_2914126562439977742_n.jpg
END:VEVENT
BEGIN:VEVENT
DTSTART;TZID=America/New_York:20281231T100000
DTEND;TZID=America/New_York:20281231T110000
DTSTAMP:20260419T094802
CREATED:20240207T033957Z
LAST-MODIFIED:20260309T175120Z
UID:10002969-1861869600-1861873200@mtwashumc.org
SUMMARY:Sunday Worship
DESCRIPTION:Join us in person or online for our Sunday morning blended worship\, where we will sing traditional hymns\, contemporary Christian music\, and hear a casual Pastor sermon. Coffee begins at 9:30. Children’s Sunday School is offered during worship\, designed for children from 3-12 years old. All are welcome!
URL:https://mtwashumc.org/event/sunday-worship/2028-12-31/
LOCATION:Mt. Washington United Methodist Church\, 6365 Corbly Rd.\, Cincinnati\, OH\, 45230\, United States
ATTACH;FMTTYPE=image/jpeg:https://mtwashumc.org/wp-content/uploads/2024/02/470846144_918608993733386_2914126562439977742_n.jpg
END:VEVENT
BEGIN:VEVENT
DTSTART;TZID=America/New_York:20290107T100000
DTEND;TZID=America/New_York:20290107T110000
DTSTAMP:20260419T094802
CREATED:20240207T033957Z
LAST-MODIFIED:20260309T175120Z
UID:10002970-1862474400-1862478000@mtwashumc.org
SUMMARY:Sunday Worship
DESCRIPTION:Join us in person or online for our Sunday morning blended worship\, where we will sing traditional hymns\, contemporary Christian music\, and hear a casual Pastor sermon. Coffee begins at 9:30. Children’s Sunday School is offered during worship\, designed for children from 3-12 years old. All are welcome!
URL:https://mtwashumc.org/event/sunday-worship/2029-01-07/
LOCATION:Mt. Washington United Methodist Church\, 6365 Corbly Rd.\, Cincinnati\, OH\, 45230\, United States
ATTACH;FMTTYPE=image/jpeg:https://mtwashumc.org/wp-content/uploads/2024/02/470846144_918608993733386_2914126562439977742_n.jpg
END:VEVENT
BEGIN:VEVENT
DTSTART;TZID=America/New_York:20290114T100000
DTEND;TZID=America/New_York:20290114T110000
DTSTAMP:20260419T094802
CREATED:20240207T033957Z
LAST-MODIFIED:20260309T175120Z
UID:10002971-1863079200-1863082800@mtwashumc.org
SUMMARY:Sunday Worship
DESCRIPTION:Join us in person or online for our Sunday morning blended worship\, where we will sing traditional hymns\, contemporary Christian music\, and hear a casual Pastor sermon. Coffee begins at 9:30. Children’s Sunday School is offered during worship\, designed for children from 3-12 years old. All are welcome!
URL:https://mtwashumc.org/event/sunday-worship/2029-01-14/
LOCATION:Mt. Washington United Methodist Church\, 6365 Corbly Rd.\, Cincinnati\, OH\, 45230\, United States
ATTACH;FMTTYPE=image/jpeg:https://mtwashumc.org/wp-content/uploads/2024/02/470846144_918608993733386_2914126562439977742_n.jpg
END:VEVENT
BEGIN:VEVENT
DTSTART;TZID=America/New_York:20290121T100000
DTEND;TZID=America/New_York:20290121T110000
DTSTAMP:20260419T094802
CREATED:20240207T033957Z
LAST-MODIFIED:20260309T175120Z
UID:10002972-1863684000-1863687600@mtwashumc.org
SUMMARY:Sunday Worship
DESCRIPTION:Join us in person or online for our Sunday morning blended worship\, where we will sing traditional hymns\, contemporary Christian music\, and hear a casual Pastor sermon. Coffee begins at 9:30. Children’s Sunday School is offered during worship\, designed for children from 3-12 years old. All are welcome!
URL:https://mtwashumc.org/event/sunday-worship/2029-01-21/
LOCATION:Mt. Washington United Methodist Church\, 6365 Corbly Rd.\, Cincinnati\, OH\, 45230\, United States
ATTACH;FMTTYPE=image/jpeg:https://mtwashumc.org/wp-content/uploads/2024/02/470846144_918608993733386_2914126562439977742_n.jpg
END:VEVENT
BEGIN:VEVENT
DTSTART;TZID=America/New_York:20290128T100000
DTEND;TZID=America/New_York:20290128T110000
DTSTAMP:20260419T094802
CREATED:20240207T033957Z
LAST-MODIFIED:20260309T175120Z
UID:10002973-1864288800-1864292400@mtwashumc.org
SUMMARY:Sunday Worship
DESCRIPTION:Join us in person or online for our Sunday morning blended worship\, where we will sing traditional hymns\, contemporary Christian music\, and hear a casual Pastor sermon. Coffee begins at 9:30. Children’s Sunday School is offered during worship\, designed for children from 3-12 years old. All are welcome!
URL:https://mtwashumc.org/event/sunday-worship/2029-01-28/
LOCATION:Mt. Washington United Methodist Church\, 6365 Corbly Rd.\, Cincinnati\, OH\, 45230\, United States
ATTACH;FMTTYPE=image/jpeg:https://mtwashumc.org/wp-content/uploads/2024/02/470846144_918608993733386_2914126562439977742_n.jpg
END:VEVENT
END:VCALENDAR