BEGIN:VCALENDAR
VERSION:2.0
PRODID:-//Mt. Washington United Methodist Church - ECPv6.15.20//NONSGML v1.0//EN
CALSCALE:GREGORIAN
METHOD:PUBLISH
X-WR-CALNAME:Mt. Washington United Methodist Church
X-ORIGINAL-URL:https://mtwashumc.org
X-WR-CALDESC:Events for Mt. Washington United Methodist Church
REFRESH-INTERVAL;VALUE=DURATION:PT1H
X-Robots-Tag:noindex
X-PUBLISHED-TTL:PT1H
BEGIN:VTIMEZONE
TZID:America/New_York
BEGIN:DAYLIGHT
TZOFFSETFROM:-0500
TZOFFSETTO:-0400
TZNAME:EDT
DTSTART:20280312T070000
END:DAYLIGHT
BEGIN:STANDARD
TZOFFSETFROM:-0400
TZOFFSETTO:-0500
TZNAME:EST
DTSTART:20281105T060000
END:STANDARD
BEGIN:DAYLIGHT
TZOFFSETFROM:-0500
TZOFFSETTO:-0400
TZNAME:EDT
DTSTART:20290311T070000
END:DAYLIGHT
BEGIN:STANDARD
TZOFFSETFROM:-0400
TZOFFSETTO:-0500
TZNAME:EST
DTSTART:20291104T060000
END:STANDARD
BEGIN:DAYLIGHT
TZOFFSETFROM:-0500
TZOFFSETTO:-0400
TZNAME:EDT
DTSTART:20300310T070000
END:DAYLIGHT
BEGIN:STANDARD
TZOFFSETFROM:-0400
TZOFFSETTO:-0500
TZNAME:EST
DTSTART:20301103T060000
END:STANDARD
BEGIN:DAYLIGHT
TZOFFSETFROM:-0500
TZOFFSETTO:-0400
TZNAME:EDT
DTSTART:20310309T070000
END:DAYLIGHT
BEGIN:STANDARD
TZOFFSETFROM:-0400
TZOFFSETTO:-0500
TZNAME:EST
DTSTART:20311102T060000
END:STANDARD
END:VTIMEZONE
BEGIN:VEVENT
DTSTART;TZID=America/New_York:20290909T100000
DTEND;TZID=America/New_York:20290909T110000
DTSTAMP:20260419T160155
CREATED:20240207T033957Z
LAST-MODIFIED:20260309T175120Z
UID:10003144-1883642400-1883646000@mtwashumc.org
SUMMARY:Sunday Worship
DESCRIPTION:Join us in person or online for our Sunday morning blended worship\, where we will sing traditional hymns\, contemporary Christian music\, and hear a casual Pastor sermon. Coffee begins at 9:30. Children’s Sunday School is offered during worship\, designed for children from 3-12 years old. All are welcome!
URL:https://mtwashumc.org/event/sunday-worship/2029-09-09/
LOCATION:Mt. Washington United Methodist Church\, 6365 Corbly Rd.\, Cincinnati\, OH\, 45230\, United States
ATTACH;FMTTYPE=image/jpeg:https://mtwashumc.org/wp-content/uploads/2024/02/470846144_918608993733386_2914126562439977742_n.jpg
END:VEVENT
BEGIN:VEVENT
DTSTART;TZID=America/New_York:20290916T100000
DTEND;TZID=America/New_York:20290916T110000
DTSTAMP:20260419T160155
CREATED:20240207T033957Z
LAST-MODIFIED:20260309T175120Z
UID:10003145-1884247200-1884250800@mtwashumc.org
SUMMARY:Sunday Worship
DESCRIPTION:Join us in person or online for our Sunday morning blended worship\, where we will sing traditional hymns\, contemporary Christian music\, and hear a casual Pastor sermon. Coffee begins at 9:30. Children’s Sunday School is offered during worship\, designed for children from 3-12 years old. All are welcome!
URL:https://mtwashumc.org/event/sunday-worship/2029-09-16/
LOCATION:Mt. Washington United Methodist Church\, 6365 Corbly Rd.\, Cincinnati\, OH\, 45230\, United States
ATTACH;FMTTYPE=image/jpeg:https://mtwashumc.org/wp-content/uploads/2024/02/470846144_918608993733386_2914126562439977742_n.jpg
END:VEVENT
BEGIN:VEVENT
DTSTART;TZID=America/New_York:20290923T100000
DTEND;TZID=America/New_York:20290923T110000
DTSTAMP:20260419T160155
CREATED:20240207T033957Z
LAST-MODIFIED:20260309T175120Z
UID:10003146-1884852000-1884855600@mtwashumc.org
SUMMARY:Sunday Worship
DESCRIPTION:Join us in person or online for our Sunday morning blended worship\, where we will sing traditional hymns\, contemporary Christian music\, and hear a casual Pastor sermon. Coffee begins at 9:30. Children’s Sunday School is offered during worship\, designed for children from 3-12 years old. All are welcome!
URL:https://mtwashumc.org/event/sunday-worship/2029-09-23/
LOCATION:Mt. Washington United Methodist Church\, 6365 Corbly Rd.\, Cincinnati\, OH\, 45230\, United States
ATTACH;FMTTYPE=image/jpeg:https://mtwashumc.org/wp-content/uploads/2024/02/470846144_918608993733386_2914126562439977742_n.jpg
END:VEVENT
BEGIN:VEVENT
DTSTART;TZID=America/New_York:20290930T100000
DTEND;TZID=America/New_York:20290930T110000
DTSTAMP:20260419T160155
CREATED:20240207T033957Z
LAST-MODIFIED:20260309T175120Z
UID:10003147-1885456800-1885460400@mtwashumc.org
SUMMARY:Sunday Worship
DESCRIPTION:Join us in person or online for our Sunday morning blended worship\, where we will sing traditional hymns\, contemporary Christian music\, and hear a casual Pastor sermon. Coffee begins at 9:30. Children’s Sunday School is offered during worship\, designed for children from 3-12 years old. All are welcome!
URL:https://mtwashumc.org/event/sunday-worship/2029-09-30/
LOCATION:Mt. Washington United Methodist Church\, 6365 Corbly Rd.\, Cincinnati\, OH\, 45230\, United States
ATTACH;FMTTYPE=image/jpeg:https://mtwashumc.org/wp-content/uploads/2024/02/470846144_918608993733386_2914126562439977742_n.jpg
END:VEVENT
BEGIN:VEVENT
DTSTART;TZID=America/New_York:20291007T100000
DTEND;TZID=America/New_York:20291007T110000
DTSTAMP:20260419T160155
CREATED:20240207T033957Z
LAST-MODIFIED:20260309T175120Z
UID:10003148-1886061600-1886065200@mtwashumc.org
SUMMARY:Sunday Worship
DESCRIPTION:Join us in person or online for our Sunday morning blended worship\, where we will sing traditional hymns\, contemporary Christian music\, and hear a casual Pastor sermon. Coffee begins at 9:30. Children’s Sunday School is offered during worship\, designed for children from 3-12 years old. All are welcome!
URL:https://mtwashumc.org/event/sunday-worship/2029-10-07/
LOCATION:Mt. Washington United Methodist Church\, 6365 Corbly Rd.\, Cincinnati\, OH\, 45230\, United States
ATTACH;FMTTYPE=image/jpeg:https://mtwashumc.org/wp-content/uploads/2024/02/470846144_918608993733386_2914126562439977742_n.jpg
END:VEVENT
BEGIN:VEVENT
DTSTART;TZID=America/New_York:20291014T100000
DTEND;TZID=America/New_York:20291014T110000
DTSTAMP:20260419T160155
CREATED:20240207T033957Z
LAST-MODIFIED:20260309T175120Z
UID:10003149-1886666400-1886670000@mtwashumc.org
SUMMARY:Sunday Worship
DESCRIPTION:Join us in person or online for our Sunday morning blended worship\, where we will sing traditional hymns\, contemporary Christian music\, and hear a casual Pastor sermon. Coffee begins at 9:30. Children’s Sunday School is offered during worship\, designed for children from 3-12 years old. All are welcome!
URL:https://mtwashumc.org/event/sunday-worship/2029-10-14/
LOCATION:Mt. Washington United Methodist Church\, 6365 Corbly Rd.\, Cincinnati\, OH\, 45230\, United States
ATTACH;FMTTYPE=image/jpeg:https://mtwashumc.org/wp-content/uploads/2024/02/470846144_918608993733386_2914126562439977742_n.jpg
END:VEVENT
BEGIN:VEVENT
DTSTART;TZID=America/New_York:20291021T100000
DTEND;TZID=America/New_York:20291021T110000
DTSTAMP:20260419T160155
CREATED:20240207T033957Z
LAST-MODIFIED:20260309T175120Z
UID:10003150-1887271200-1887274800@mtwashumc.org
SUMMARY:Sunday Worship
DESCRIPTION:Join us in person or online for our Sunday morning blended worship\, where we will sing traditional hymns\, contemporary Christian music\, and hear a casual Pastor sermon. Coffee begins at 9:30. Children’s Sunday School is offered during worship\, designed for children from 3-12 years old. All are welcome!
URL:https://mtwashumc.org/event/sunday-worship/2029-10-21/
LOCATION:Mt. Washington United Methodist Church\, 6365 Corbly Rd.\, Cincinnati\, OH\, 45230\, United States
ATTACH;FMTTYPE=image/jpeg:https://mtwashumc.org/wp-content/uploads/2024/02/470846144_918608993733386_2914126562439977742_n.jpg
END:VEVENT
BEGIN:VEVENT
DTSTART;TZID=America/New_York:20291028T100000
DTEND;TZID=America/New_York:20291028T110000
DTSTAMP:20260419T160155
CREATED:20240207T033957Z
LAST-MODIFIED:20260309T175120Z
UID:10003151-1887876000-1887879600@mtwashumc.org
SUMMARY:Sunday Worship
DESCRIPTION:Join us in person or online for our Sunday morning blended worship\, where we will sing traditional hymns\, contemporary Christian music\, and hear a casual Pastor sermon. Coffee begins at 9:30. Children’s Sunday School is offered during worship\, designed for children from 3-12 years old. All are welcome!
URL:https://mtwashumc.org/event/sunday-worship/2029-10-28/
LOCATION:Mt. Washington United Methodist Church\, 6365 Corbly Rd.\, Cincinnati\, OH\, 45230\, United States
ATTACH;FMTTYPE=image/jpeg:https://mtwashumc.org/wp-content/uploads/2024/02/470846144_918608993733386_2914126562439977742_n.jpg
END:VEVENT
BEGIN:VEVENT
DTSTART;TZID=America/New_York:20291104T100000
DTEND;TZID=America/New_York:20291104T110000
DTSTAMP:20260419T160155
CREATED:20240207T033957Z
LAST-MODIFIED:20260309T175120Z
UID:10003152-1888480800-1888484400@mtwashumc.org
SUMMARY:Sunday Worship
DESCRIPTION:Join us in person or online for our Sunday morning blended worship\, where we will sing traditional hymns\, contemporary Christian music\, and hear a casual Pastor sermon. Coffee begins at 9:30. Children’s Sunday School is offered during worship\, designed for children from 3-12 years old. All are welcome!
URL:https://mtwashumc.org/event/sunday-worship/2029-11-04/
LOCATION:Mt. Washington United Methodist Church\, 6365 Corbly Rd.\, Cincinnati\, OH\, 45230\, United States
ATTACH;FMTTYPE=image/jpeg:https://mtwashumc.org/wp-content/uploads/2024/02/470846144_918608993733386_2914126562439977742_n.jpg
END:VEVENT
BEGIN:VEVENT
DTSTART;TZID=America/New_York:20291111T100000
DTEND;TZID=America/New_York:20291111T110000
DTSTAMP:20260419T160155
CREATED:20240207T033957Z
LAST-MODIFIED:20260309T175120Z
UID:10003153-1889085600-1889089200@mtwashumc.org
SUMMARY:Sunday Worship
DESCRIPTION:Join us in person or online for our Sunday morning blended worship\, where we will sing traditional hymns\, contemporary Christian music\, and hear a casual Pastor sermon. Coffee begins at 9:30. Children’s Sunday School is offered during worship\, designed for children from 3-12 years old. All are welcome!
URL:https://mtwashumc.org/event/sunday-worship/2029-11-11/
LOCATION:Mt. Washington United Methodist Church\, 6365 Corbly Rd.\, Cincinnati\, OH\, 45230\, United States
ATTACH;FMTTYPE=image/jpeg:https://mtwashumc.org/wp-content/uploads/2024/02/470846144_918608993733386_2914126562439977742_n.jpg
END:VEVENT
BEGIN:VEVENT
DTSTART;TZID=America/New_York:20291118T100000
DTEND;TZID=America/New_York:20291118T110000
DTSTAMP:20260419T160155
CREATED:20240207T033957Z
LAST-MODIFIED:20260309T175120Z
UID:10003154-1889690400-1889694000@mtwashumc.org
SUMMARY:Sunday Worship
DESCRIPTION:Join us in person or online for our Sunday morning blended worship\, where we will sing traditional hymns\, contemporary Christian music\, and hear a casual Pastor sermon. Coffee begins at 9:30. Children’s Sunday School is offered during worship\, designed for children from 3-12 years old. All are welcome!
URL:https://mtwashumc.org/event/sunday-worship/2029-11-18/
LOCATION:Mt. Washington United Methodist Church\, 6365 Corbly Rd.\, Cincinnati\, OH\, 45230\, United States
ATTACH;FMTTYPE=image/jpeg:https://mtwashumc.org/wp-content/uploads/2024/02/470846144_918608993733386_2914126562439977742_n.jpg
END:VEVENT
BEGIN:VEVENT
DTSTART;TZID=America/New_York:20291125T100000
DTEND;TZID=America/New_York:20291125T110000
DTSTAMP:20260419T160155
CREATED:20240207T033957Z
LAST-MODIFIED:20260309T175120Z
UID:10003155-1890295200-1890298800@mtwashumc.org
SUMMARY:Sunday Worship
DESCRIPTION:Join us in person or online for our Sunday morning blended worship\, where we will sing traditional hymns\, contemporary Christian music\, and hear a casual Pastor sermon. Coffee begins at 9:30. Children’s Sunday School is offered during worship\, designed for children from 3-12 years old. All are welcome!
URL:https://mtwashumc.org/event/sunday-worship/2029-11-25/
LOCATION:Mt. Washington United Methodist Church\, 6365 Corbly Rd.\, Cincinnati\, OH\, 45230\, United States
ATTACH;FMTTYPE=image/jpeg:https://mtwashumc.org/wp-content/uploads/2024/02/470846144_918608993733386_2914126562439977742_n.jpg
END:VEVENT
BEGIN:VEVENT
DTSTART;TZID=America/New_York:20291202T100000
DTEND;TZID=America/New_York:20291202T110000
DTSTAMP:20260419T160155
CREATED:20240207T033957Z
LAST-MODIFIED:20260309T175120Z
UID:10003156-1890900000-1890903600@mtwashumc.org
SUMMARY:Sunday Worship
DESCRIPTION:Join us in person or online for our Sunday morning blended worship\, where we will sing traditional hymns\, contemporary Christian music\, and hear a casual Pastor sermon. Coffee begins at 9:30. Children’s Sunday School is offered during worship\, designed for children from 3-12 years old. All are welcome!
URL:https://mtwashumc.org/event/sunday-worship/2029-12-02/
LOCATION:Mt. Washington United Methodist Church\, 6365 Corbly Rd.\, Cincinnati\, OH\, 45230\, United States
ATTACH;FMTTYPE=image/jpeg:https://mtwashumc.org/wp-content/uploads/2024/02/470846144_918608993733386_2914126562439977742_n.jpg
END:VEVENT
BEGIN:VEVENT
DTSTART;TZID=America/New_York:20291209T100000
DTEND;TZID=America/New_York:20291209T110000
DTSTAMP:20260419T160155
CREATED:20240207T033957Z
LAST-MODIFIED:20260309T175120Z
UID:10003157-1891504800-1891508400@mtwashumc.org
SUMMARY:Sunday Worship
DESCRIPTION:Join us in person or online for our Sunday morning blended worship\, where we will sing traditional hymns\, contemporary Christian music\, and hear a casual Pastor sermon. Coffee begins at 9:30. Children’s Sunday School is offered during worship\, designed for children from 3-12 years old. All are welcome!
URL:https://mtwashumc.org/event/sunday-worship/2029-12-09/
LOCATION:Mt. Washington United Methodist Church\, 6365 Corbly Rd.\, Cincinnati\, OH\, 45230\, United States
ATTACH;FMTTYPE=image/jpeg:https://mtwashumc.org/wp-content/uploads/2024/02/470846144_918608993733386_2914126562439977742_n.jpg
END:VEVENT
BEGIN:VEVENT
DTSTART;TZID=America/New_York:20291216T100000
DTEND;TZID=America/New_York:20291216T110000
DTSTAMP:20260419T160155
CREATED:20240207T033957Z
LAST-MODIFIED:20260309T175120Z
UID:10003158-1892109600-1892113200@mtwashumc.org
SUMMARY:Sunday Worship
DESCRIPTION:Join us in person or online for our Sunday morning blended worship\, where we will sing traditional hymns\, contemporary Christian music\, and hear a casual Pastor sermon. Coffee begins at 9:30. Children’s Sunday School is offered during worship\, designed for children from 3-12 years old. All are welcome!
URL:https://mtwashumc.org/event/sunday-worship/2029-12-16/
LOCATION:Mt. Washington United Methodist Church\, 6365 Corbly Rd.\, Cincinnati\, OH\, 45230\, United States
ATTACH;FMTTYPE=image/jpeg:https://mtwashumc.org/wp-content/uploads/2024/02/470846144_918608993733386_2914126562439977742_n.jpg
END:VEVENT
BEGIN:VEVENT
DTSTART;TZID=America/New_York:20291223T100000
DTEND;TZID=America/New_York:20291223T110000
DTSTAMP:20260419T160155
CREATED:20240207T033957Z
LAST-MODIFIED:20260309T175120Z
UID:10003159-1892714400-1892718000@mtwashumc.org
SUMMARY:Sunday Worship
DESCRIPTION:Join us in person or online for our Sunday morning blended worship\, where we will sing traditional hymns\, contemporary Christian music\, and hear a casual Pastor sermon. Coffee begins at 9:30. Children’s Sunday School is offered during worship\, designed for children from 3-12 years old. All are welcome!
URL:https://mtwashumc.org/event/sunday-worship/2029-12-23/
LOCATION:Mt. Washington United Methodist Church\, 6365 Corbly Rd.\, Cincinnati\, OH\, 45230\, United States
ATTACH;FMTTYPE=image/jpeg:https://mtwashumc.org/wp-content/uploads/2024/02/470846144_918608993733386_2914126562439977742_n.jpg
END:VEVENT
BEGIN:VEVENT
DTSTART;TZID=America/New_York:20291230T100000
DTEND;TZID=America/New_York:20291230T110000
DTSTAMP:20260419T160155
CREATED:20240207T033957Z
LAST-MODIFIED:20260309T175120Z
UID:10003160-1893319200-1893322800@mtwashumc.org
SUMMARY:Sunday Worship
DESCRIPTION:Join us in person or online for our Sunday morning blended worship\, where we will sing traditional hymns\, contemporary Christian music\, and hear a casual Pastor sermon. Coffee begins at 9:30. Children’s Sunday School is offered during worship\, designed for children from 3-12 years old. All are welcome!
URL:https://mtwashumc.org/event/sunday-worship/2029-12-30/
LOCATION:Mt. Washington United Methodist Church\, 6365 Corbly Rd.\, Cincinnati\, OH\, 45230\, United States
ATTACH;FMTTYPE=image/jpeg:https://mtwashumc.org/wp-content/uploads/2024/02/470846144_918608993733386_2914126562439977742_n.jpg
END:VEVENT
BEGIN:VEVENT
DTSTART;TZID=America/New_York:20300106T100000
DTEND;TZID=America/New_York:20300106T110000
DTSTAMP:20260419T160155
CREATED:20240207T033957Z
LAST-MODIFIED:20260309T175120Z
UID:10003161-1893924000-1893927600@mtwashumc.org
SUMMARY:Sunday Worship
DESCRIPTION:Join us in person or online for our Sunday morning blended worship\, where we will sing traditional hymns\, contemporary Christian music\, and hear a casual Pastor sermon. Coffee begins at 9:30. Children’s Sunday School is offered during worship\, designed for children from 3-12 years old. All are welcome!
URL:https://mtwashumc.org/event/sunday-worship/2030-01-06/
LOCATION:Mt. Washington United Methodist Church\, 6365 Corbly Rd.\, Cincinnati\, OH\, 45230\, United States
ATTACH;FMTTYPE=image/jpeg:https://mtwashumc.org/wp-content/uploads/2024/02/470846144_918608993733386_2914126562439977742_n.jpg
END:VEVENT
BEGIN:VEVENT
DTSTART;TZID=America/New_York:20300113T100000
DTEND;TZID=America/New_York:20300113T110000
DTSTAMP:20260419T160155
CREATED:20240207T033957Z
LAST-MODIFIED:20260309T175120Z
UID:10003162-1894528800-1894532400@mtwashumc.org
SUMMARY:Sunday Worship
DESCRIPTION:Join us in person or online for our Sunday morning blended worship\, where we will sing traditional hymns\, contemporary Christian music\, and hear a casual Pastor sermon. Coffee begins at 9:30. Children’s Sunday School is offered during worship\, designed for children from 3-12 years old. All are welcome!
URL:https://mtwashumc.org/event/sunday-worship/2030-01-13/
LOCATION:Mt. Washington United Methodist Church\, 6365 Corbly Rd.\, Cincinnati\, OH\, 45230\, United States
ATTACH;FMTTYPE=image/jpeg:https://mtwashumc.org/wp-content/uploads/2024/02/470846144_918608993733386_2914126562439977742_n.jpg
END:VEVENT
BEGIN:VEVENT
DTSTART;TZID=America/New_York:20300120T100000
DTEND;TZID=America/New_York:20300120T110000
DTSTAMP:20260419T160155
CREATED:20240207T033957Z
LAST-MODIFIED:20260309T175120Z
UID:10003163-1895133600-1895137200@mtwashumc.org
SUMMARY:Sunday Worship
DESCRIPTION:Join us in person or online for our Sunday morning blended worship\, where we will sing traditional hymns\, contemporary Christian music\, and hear a casual Pastor sermon. Coffee begins at 9:30. Children’s Sunday School is offered during worship\, designed for children from 3-12 years old. All are welcome!
URL:https://mtwashumc.org/event/sunday-worship/2030-01-20/
LOCATION:Mt. Washington United Methodist Church\, 6365 Corbly Rd.\, Cincinnati\, OH\, 45230\, United States
ATTACH;FMTTYPE=image/jpeg:https://mtwashumc.org/wp-content/uploads/2024/02/470846144_918608993733386_2914126562439977742_n.jpg
END:VEVENT
BEGIN:VEVENT
DTSTART;TZID=America/New_York:20300127T100000
DTEND;TZID=America/New_York:20300127T110000
DTSTAMP:20260419T160155
CREATED:20240207T033957Z
LAST-MODIFIED:20260309T175120Z
UID:10003164-1895738400-1895742000@mtwashumc.org
SUMMARY:Sunday Worship
DESCRIPTION:Join us in person or online for our Sunday morning blended worship\, where we will sing traditional hymns\, contemporary Christian music\, and hear a casual Pastor sermon. Coffee begins at 9:30. Children’s Sunday School is offered during worship\, designed for children from 3-12 years old. All are welcome!
URL:https://mtwashumc.org/event/sunday-worship/2030-01-27/
LOCATION:Mt. Washington United Methodist Church\, 6365 Corbly Rd.\, Cincinnati\, OH\, 45230\, United States
ATTACH;FMTTYPE=image/jpeg:https://mtwashumc.org/wp-content/uploads/2024/02/470846144_918608993733386_2914126562439977742_n.jpg
END:VEVENT
BEGIN:VEVENT
DTSTART;TZID=America/New_York:20300203T100000
DTEND;TZID=America/New_York:20300203T110000
DTSTAMP:20260419T160155
CREATED:20240207T033957Z
LAST-MODIFIED:20260309T175120Z
UID:10003165-1896343200-1896346800@mtwashumc.org
SUMMARY:Sunday Worship
DESCRIPTION:Join us in person or online for our Sunday morning blended worship\, where we will sing traditional hymns\, contemporary Christian music\, and hear a casual Pastor sermon. Coffee begins at 9:30. Children’s Sunday School is offered during worship\, designed for children from 3-12 years old. All are welcome!
URL:https://mtwashumc.org/event/sunday-worship/2030-02-03/
LOCATION:Mt. Washington United Methodist Church\, 6365 Corbly Rd.\, Cincinnati\, OH\, 45230\, United States
ATTACH;FMTTYPE=image/jpeg:https://mtwashumc.org/wp-content/uploads/2024/02/470846144_918608993733386_2914126562439977742_n.jpg
END:VEVENT
BEGIN:VEVENT
DTSTART;TZID=America/New_York:20300210T100000
DTEND;TZID=America/New_York:20300210T110000
DTSTAMP:20260419T160155
CREATED:20240207T033957Z
LAST-MODIFIED:20260309T175120Z
UID:10003265-1896948000-1896951600@mtwashumc.org
SUMMARY:Sunday Worship
DESCRIPTION:Join us in person or online for our Sunday morning blended worship\, where we will sing traditional hymns\, contemporary Christian music\, and hear a casual Pastor sermon. Coffee begins at 9:30. Children’s Sunday School is offered during worship\, designed for children from 3-12 years old. All are welcome!
URL:https://mtwashumc.org/event/sunday-worship/2030-02-10/
LOCATION:Mt. Washington United Methodist Church\, 6365 Corbly Rd.\, Cincinnati\, OH\, 45230\, United States
ATTACH;FMTTYPE=image/jpeg:https://mtwashumc.org/wp-content/uploads/2024/02/470846144_918608993733386_2914126562439977742_n.jpg
END:VEVENT
BEGIN:VEVENT
DTSTART;TZID=America/New_York:20300217T100000
DTEND;TZID=America/New_York:20300217T110000
DTSTAMP:20260419T160155
CREATED:20240207T033957Z
LAST-MODIFIED:20260309T175120Z
UID:10003266-1897552800-1897556400@mtwashumc.org
SUMMARY:Sunday Worship
DESCRIPTION:Join us in person or online for our Sunday morning blended worship\, where we will sing traditional hymns\, contemporary Christian music\, and hear a casual Pastor sermon. Coffee begins at 9:30. Children’s Sunday School is offered during worship\, designed for children from 3-12 years old. All are welcome!
URL:https://mtwashumc.org/event/sunday-worship/2030-02-17/
LOCATION:Mt. Washington United Methodist Church\, 6365 Corbly Rd.\, Cincinnati\, OH\, 45230\, United States
ATTACH;FMTTYPE=image/jpeg:https://mtwashumc.org/wp-content/uploads/2024/02/470846144_918608993733386_2914126562439977742_n.jpg
END:VEVENT
BEGIN:VEVENT
DTSTART;TZID=America/New_York:20300224T100000
DTEND;TZID=America/New_York:20300224T110000
DTSTAMP:20260419T160155
CREATED:20240207T033957Z
LAST-MODIFIED:20260309T175120Z
UID:10003267-1898157600-1898161200@mtwashumc.org
SUMMARY:Sunday Worship
DESCRIPTION:Join us in person or online for our Sunday morning blended worship\, where we will sing traditional hymns\, contemporary Christian music\, and hear a casual Pastor sermon. Coffee begins at 9:30. Children’s Sunday School is offered during worship\, designed for children from 3-12 years old. All are welcome!
URL:https://mtwashumc.org/event/sunday-worship/2030-02-24/
LOCATION:Mt. Washington United Methodist Church\, 6365 Corbly Rd.\, Cincinnati\, OH\, 45230\, United States
ATTACH;FMTTYPE=image/jpeg:https://mtwashumc.org/wp-content/uploads/2024/02/470846144_918608993733386_2914126562439977742_n.jpg
END:VEVENT
BEGIN:VEVENT
DTSTART;TZID=America/New_York:20300303T100000
DTEND;TZID=America/New_York:20300303T110000
DTSTAMP:20260419T160155
CREATED:20240207T033957Z
LAST-MODIFIED:20260309T175120Z
UID:10003268-1898762400-1898766000@mtwashumc.org
SUMMARY:Sunday Worship
DESCRIPTION:Join us in person or online for our Sunday morning blended worship\, where we will sing traditional hymns\, contemporary Christian music\, and hear a casual Pastor sermon. Coffee begins at 9:30. Children’s Sunday School is offered during worship\, designed for children from 3-12 years old. All are welcome!
URL:https://mtwashumc.org/event/sunday-worship/2030-03-03/
LOCATION:Mt. Washington United Methodist Church\, 6365 Corbly Rd.\, Cincinnati\, OH\, 45230\, United States
ATTACH;FMTTYPE=image/jpeg:https://mtwashumc.org/wp-content/uploads/2024/02/470846144_918608993733386_2914126562439977742_n.jpg
END:VEVENT
BEGIN:VEVENT
DTSTART;TZID=America/New_York:20300310T100000
DTEND;TZID=America/New_York:20300310T110000
DTSTAMP:20260419T160155
CREATED:20240207T033957Z
LAST-MODIFIED:20260309T175120Z
UID:10003269-1899367200-1899370800@mtwashumc.org
SUMMARY:Sunday Worship
DESCRIPTION:Join us in person or online for our Sunday morning blended worship\, where we will sing traditional hymns\, contemporary Christian music\, and hear a casual Pastor sermon. Coffee begins at 9:30. Children’s Sunday School is offered during worship\, designed for children from 3-12 years old. All are welcome!
URL:https://mtwashumc.org/event/sunday-worship/2030-03-10/
LOCATION:Mt. Washington United Methodist Church\, 6365 Corbly Rd.\, Cincinnati\, OH\, 45230\, United States
ATTACH;FMTTYPE=image/jpeg:https://mtwashumc.org/wp-content/uploads/2024/02/470846144_918608993733386_2914126562439977742_n.jpg
END:VEVENT
BEGIN:VEVENT
DTSTART;TZID=America/New_York:20300317T100000
DTEND;TZID=America/New_York:20300317T110000
DTSTAMP:20260419T160155
CREATED:20240207T033957Z
LAST-MODIFIED:20260309T175120Z
UID:10003270-1899972000-1899975600@mtwashumc.org
SUMMARY:Sunday Worship
DESCRIPTION:Join us in person or online for our Sunday morning blended worship\, where we will sing traditional hymns\, contemporary Christian music\, and hear a casual Pastor sermon. Coffee begins at 9:30. Children’s Sunday School is offered during worship\, designed for children from 3-12 years old. All are welcome!
URL:https://mtwashumc.org/event/sunday-worship/2030-03-17/
LOCATION:Mt. Washington United Methodist Church\, 6365 Corbly Rd.\, Cincinnati\, OH\, 45230\, United States
ATTACH;FMTTYPE=image/jpeg:https://mtwashumc.org/wp-content/uploads/2024/02/470846144_918608993733386_2914126562439977742_n.jpg
END:VEVENT
BEGIN:VEVENT
DTSTART;TZID=America/New_York:20300324T100000
DTEND;TZID=America/New_York:20300324T110000
DTSTAMP:20260419T160155
CREATED:20240207T033957Z
LAST-MODIFIED:20260309T175120Z
UID:10003271-1900576800-1900580400@mtwashumc.org
SUMMARY:Sunday Worship
DESCRIPTION:Join us in person or online for our Sunday morning blended worship\, where we will sing traditional hymns\, contemporary Christian music\, and hear a casual Pastor sermon. Coffee begins at 9:30. Children’s Sunday School is offered during worship\, designed for children from 3-12 years old. All are welcome!
URL:https://mtwashumc.org/event/sunday-worship/2030-03-24/
LOCATION:Mt. Washington United Methodist Church\, 6365 Corbly Rd.\, Cincinnati\, OH\, 45230\, United States
ATTACH;FMTTYPE=image/jpeg:https://mtwashumc.org/wp-content/uploads/2024/02/470846144_918608993733386_2914126562439977742_n.jpg
END:VEVENT
BEGIN:VEVENT
DTSTART;TZID=America/New_York:20300331T100000
DTEND;TZID=America/New_York:20300331T110000
DTSTAMP:20260419T160155
CREATED:20240207T033957Z
LAST-MODIFIED:20260309T175120Z
UID:10003272-1901181600-1901185200@mtwashumc.org
SUMMARY:Sunday Worship
DESCRIPTION:Join us in person or online for our Sunday morning blended worship\, where we will sing traditional hymns\, contemporary Christian music\, and hear a casual Pastor sermon. Coffee begins at 9:30. Children’s Sunday School is offered during worship\, designed for children from 3-12 years old. All are welcome!
URL:https://mtwashumc.org/event/sunday-worship/2030-03-31/
LOCATION:Mt. Washington United Methodist Church\, 6365 Corbly Rd.\, Cincinnati\, OH\, 45230\, United States
ATTACH;FMTTYPE=image/jpeg:https://mtwashumc.org/wp-content/uploads/2024/02/470846144_918608993733386_2914126562439977742_n.jpg
END:VEVENT
END:VCALENDAR