BEGIN:VCALENDAR
VERSION:2.0
PRODID:-//Mt. Washington United Methodist Church - ECPv6.15.20//NONSGML v1.0//EN
CALSCALE:GREGORIAN
METHOD:PUBLISH
X-WR-CALNAME:Mt. Washington United Methodist Church
X-ORIGINAL-URL:https://mtwashumc.org
X-WR-CALDESC:Events for Mt. Washington United Methodist Church
REFRESH-INTERVAL;VALUE=DURATION:PT1H
X-Robots-Tag:noindex
X-PUBLISHED-TTL:PT1H
BEGIN:VTIMEZONE
TZID:America/New_York
BEGIN:DAYLIGHT
TZOFFSETFROM:-0500
TZOFFSETTO:-0400
TZNAME:EDT
DTSTART:20300310T070000
END:DAYLIGHT
BEGIN:STANDARD
TZOFFSETFROM:-0400
TZOFFSETTO:-0500
TZNAME:EST
DTSTART:20301103T060000
END:STANDARD
BEGIN:DAYLIGHT
TZOFFSETFROM:-0500
TZOFFSETTO:-0400
TZNAME:EDT
DTSTART:20310309T070000
END:DAYLIGHT
BEGIN:STANDARD
TZOFFSETFROM:-0400
TZOFFSETTO:-0500
TZNAME:EST
DTSTART:20311102T060000
END:STANDARD
BEGIN:DAYLIGHT
TZOFFSETFROM:-0500
TZOFFSETTO:-0400
TZNAME:EDT
DTSTART:20320314T070000
END:DAYLIGHT
BEGIN:STANDARD
TZOFFSETFROM:-0400
TZOFFSETTO:-0500
TZNAME:EST
DTSTART:20321107T060000
END:STANDARD
END:VTIMEZONE
BEGIN:VEVENT
DTSTART;TZID=America/New_York:20310126T100000
DTEND;TZID=America/New_York:20310126T110000
DTSTAMP:20260419T230856
CREATED:20240207T033957Z
LAST-MODIFIED:20260309T175120Z
UID:10003433-1927188000-1927191600@mtwashumc.org
SUMMARY:Sunday Worship
DESCRIPTION:Join us in person or online for our Sunday morning blended worship\, where we will sing traditional hymns\, contemporary Christian music\, and hear a casual Pastor sermon. Coffee begins at 9:30. Children’s Sunday School is offered during worship\, designed for children from 3-12 years old. All are welcome!
URL:https://mtwashumc.org/event/sunday-worship/2031-01-26/
LOCATION:Mt. Washington United Methodist Church\, 6365 Corbly Rd.\, Cincinnati\, OH\, 45230\, United States
ATTACH;FMTTYPE=image/jpeg:https://mtwashumc.org/wp-content/uploads/2024/02/470846144_918608993733386_2914126562439977742_n.jpg
END:VEVENT
BEGIN:VEVENT
DTSTART;TZID=America/New_York:20310202T100000
DTEND;TZID=America/New_York:20310202T110000
DTSTAMP:20260419T230856
CREATED:20240207T033957Z
LAST-MODIFIED:20260309T175120Z
UID:10003434-1927792800-1927796400@mtwashumc.org
SUMMARY:Sunday Worship
DESCRIPTION:Join us in person or online for our Sunday morning blended worship\, where we will sing traditional hymns\, contemporary Christian music\, and hear a casual Pastor sermon. Coffee begins at 9:30. Children’s Sunday School is offered during worship\, designed for children from 3-12 years old. All are welcome!
URL:https://mtwashumc.org/event/sunday-worship/2031-02-02/
LOCATION:Mt. Washington United Methodist Church\, 6365 Corbly Rd.\, Cincinnati\, OH\, 45230\, United States
ATTACH;FMTTYPE=image/jpeg:https://mtwashumc.org/wp-content/uploads/2024/02/470846144_918608993733386_2914126562439977742_n.jpg
END:VEVENT
BEGIN:VEVENT
DTSTART;TZID=America/New_York:20310209T100000
DTEND;TZID=America/New_York:20310209T110000
DTSTAMP:20260419T230856
CREATED:20240207T033957Z
LAST-MODIFIED:20260309T175120Z
UID:10003435-1928397600-1928401200@mtwashumc.org
SUMMARY:Sunday Worship
DESCRIPTION:Join us in person or online for our Sunday morning blended worship\, where we will sing traditional hymns\, contemporary Christian music\, and hear a casual Pastor sermon. Coffee begins at 9:30. Children’s Sunday School is offered during worship\, designed for children from 3-12 years old. All are welcome!
URL:https://mtwashumc.org/event/sunday-worship/2031-02-09/
LOCATION:Mt. Washington United Methodist Church\, 6365 Corbly Rd.\, Cincinnati\, OH\, 45230\, United States
ATTACH;FMTTYPE=image/jpeg:https://mtwashumc.org/wp-content/uploads/2024/02/470846144_918608993733386_2914126562439977742_n.jpg
END:VEVENT
BEGIN:VEVENT
DTSTART;TZID=America/New_York:20310216T100000
DTEND;TZID=America/New_York:20310216T110000
DTSTAMP:20260419T230856
CREATED:20240207T033957Z
LAST-MODIFIED:20260309T175120Z
UID:10003436-1929002400-1929006000@mtwashumc.org
SUMMARY:Sunday Worship
DESCRIPTION:Join us in person or online for our Sunday morning blended worship\, where we will sing traditional hymns\, contemporary Christian music\, and hear a casual Pastor sermon. Coffee begins at 9:30. Children’s Sunday School is offered during worship\, designed for children from 3-12 years old. All are welcome!
URL:https://mtwashumc.org/event/sunday-worship/2031-02-16/
LOCATION:Mt. Washington United Methodist Church\, 6365 Corbly Rd.\, Cincinnati\, OH\, 45230\, United States
ATTACH;FMTTYPE=image/jpeg:https://mtwashumc.org/wp-content/uploads/2024/02/470846144_918608993733386_2914126562439977742_n.jpg
END:VEVENT
BEGIN:VEVENT
DTSTART;TZID=America/New_York:20310223T100000
DTEND;TZID=America/New_York:20310223T110000
DTSTAMP:20260419T230856
CREATED:20240207T033957Z
LAST-MODIFIED:20260309T175120Z
UID:10003437-1929607200-1929610800@mtwashumc.org
SUMMARY:Sunday Worship
DESCRIPTION:Join us in person or online for our Sunday morning blended worship\, where we will sing traditional hymns\, contemporary Christian music\, and hear a casual Pastor sermon. Coffee begins at 9:30. Children’s Sunday School is offered during worship\, designed for children from 3-12 years old. All are welcome!
URL:https://mtwashumc.org/event/sunday-worship/2031-02-23/
LOCATION:Mt. Washington United Methodist Church\, 6365 Corbly Rd.\, Cincinnati\, OH\, 45230\, United States
ATTACH;FMTTYPE=image/jpeg:https://mtwashumc.org/wp-content/uploads/2024/02/470846144_918608993733386_2914126562439977742_n.jpg
END:VEVENT
BEGIN:VEVENT
DTSTART;TZID=America/New_York:20310302T100000
DTEND;TZID=America/New_York:20310302T110000
DTSTAMP:20260419T230856
CREATED:20240207T033957Z
LAST-MODIFIED:20260309T175120Z
UID:10003438-1930212000-1930215600@mtwashumc.org
SUMMARY:Sunday Worship
DESCRIPTION:Join us in person or online for our Sunday morning blended worship\, where we will sing traditional hymns\, contemporary Christian music\, and hear a casual Pastor sermon. Coffee begins at 9:30. Children’s Sunday School is offered during worship\, designed for children from 3-12 years old. All are welcome!
URL:https://mtwashumc.org/event/sunday-worship/2031-03-02/
LOCATION:Mt. Washington United Methodist Church\, 6365 Corbly Rd.\, Cincinnati\, OH\, 45230\, United States
ATTACH;FMTTYPE=image/jpeg:https://mtwashumc.org/wp-content/uploads/2024/02/470846144_918608993733386_2914126562439977742_n.jpg
END:VEVENT
BEGIN:VEVENT
DTSTART;TZID=America/New_York:20310309T100000
DTEND;TZID=America/New_York:20310309T110000
DTSTAMP:20260419T230856
CREATED:20240207T033957Z
LAST-MODIFIED:20260309T175120Z
UID:10003439-1930816800-1930820400@mtwashumc.org
SUMMARY:Sunday Worship
DESCRIPTION:Join us in person or online for our Sunday morning blended worship\, where we will sing traditional hymns\, contemporary Christian music\, and hear a casual Pastor sermon. Coffee begins at 9:30. Children’s Sunday School is offered during worship\, designed for children from 3-12 years old. All are welcome!
URL:https://mtwashumc.org/event/sunday-worship/2031-03-09/
LOCATION:Mt. Washington United Methodist Church\, 6365 Corbly Rd.\, Cincinnati\, OH\, 45230\, United States
ATTACH;FMTTYPE=image/jpeg:https://mtwashumc.org/wp-content/uploads/2024/02/470846144_918608993733386_2914126562439977742_n.jpg
END:VEVENT
END:VCALENDAR